Workbook
Name List_F: Setup!$F$13:$F$212
Name List_G: Setup!$G$13:$G$212
Name List_H: Setup!$H$13:$H$212
Name List_I: Setup!$I$13:$I$212
Name List_J: Setup!$J$13:$J$212
Name List_K: Setup!$K$13:$K$212
Name List_L: Setup!$L$13:$L$212
Name List_M: Setup!$M$13:$M$212
Name List_N: Setup!$N$13:$N$212
Name List_O: Setup!$O$13:$O$212
Name List_P: Setup!$P$13:$P$212
Name List_Q: Setup!$Q$13:$Q$212
Name List_R: Setup!$R$13:$R$212
Name List_S: Setup!$S$13:$S$212
Name List_T: Setup!$T$13:$T$212
Name List_U: Setup!$U$13:$U$212

Sheet Dashboard
A2: Incident trends | B2: Incident trends | C2: Incident trends | D2: Incident trends | E2: Incident trends | F2: Incident trends | G2: Incident trends | H2: YOUR LOGO HERE | I2: YOUR LOGO HERE | J2: YOUR LOGO HERE | M2: Prepared by 100% Safety Inc. | AE2: =MATCH($B$6,'Monthly Statistics'!$A$60:$A$63,0) -> 1
A3: Incident trends | B3: Incident trends | C3: Incident trends | D3: Incident trends | E3: Incident trends | F3: Incident trends | G3: Incident trends | H3: YOUR LOGO HERE | I3: YOUR LOGO HERE | J3: YOUR LOGO HERE
A4: Company / project | B4: Company / project | H4: YOUR LOGO HERE | I4: YOUR LOGO HERE | J4: YOUR LOGO HERE
A6: Year | B6: 2026 | D6: Through month | F6: 9 | H6: Rate basis | I6: =Setup!B6 -> 200000 | M6: Today | N6: =TODAY() -> 46312
A7: =IF(INDEX('Monthly Statistics'!$B$60:$B$63,$AE$2)=F6,"Reporting complete through "&TEXT(DATE(B6,F6,1),"mmm yyyy"),"Complete hours and review incident records: "&INDEX('Monthly Statistics'!$B$60:$B$63,$AE$2)&" of "&F6&" months ready. Rates remain blank until complete.") -> Complete hours and review incident records: 0 of 9 months ready. Rates remain blank until complete.
A9: TRIF | B9: TRIF | C9: TRIF | D9: TRIF | E9: LTIF | F9: LTIF | G9: LTIF | H9: LTIF | I9: Unique events | J9: Unique events | K9: Unique events | L9: Unique events | M9: Recordable cases | N9: Recordable cases | O9: Recordable cases | P9: Recordable cases
A10: =IF(INDEX('Monthly Statistics'!$G$60:$G$63,$AE$2)="","—",INDEX('Monthly Statistics'!$G$60:$G$63,$AE$2)) -> — | E10: =IF(INDEX('Monthly Statistics'!$H$60:$H$63,$AE$2)="","—",INDEX('Monthly Statistics'!$H$60:$H$63,$AE$2)) -> — | I10: =INDEX('Monthly Statistics'!$D$60:$D$63,$AE$2) -> 0 | M10: =INDEX('Monthly Statistics'!$E$60:$E$63,$AE$2) -> 0
A14: Hours worked | B14: Hours worked | C14: Hours worked | D14: Lost-time cases | E14: Lost-time cases | F14: Lost-time cases | G14: Lost days | H14: Lost days | I14: Lost days | J14: Open actions | K14: Open actions | L14: Open actions | M14: Overdue actions | N14: Overdue actions | O14: Overdue actions | P14: Overdue actions
A15: =INDEX('Monthly Statistics'!$C$60:$C$63,$AE$2) -> 0 | D15: =INDEX('Monthly Statistics'!$F$60:$F$63,$AE$2) -> 0 | G15: =INDEX('Monthly Statistics'!$I$60:$I$63,$AE$2) -> 0 | J15: =COUNTIFS(Actions!$M$9:$M$1008,">="&DATE($B$6,1,1),Actions!$M$9:$M$1008,"<"&DATE($B$6,$F$6+1,1),Actions!$K$9:$K$1008,"<>Closed",Actions!$K$9:$K$1008,"<>") -> 0 | M15: =COUNTIFS(Actions!$M$9:$M$1008,">="&DATE($B$6,1,1),Actions!$M$9:$M$1008,"<"&DATE($B$6,$F$6+1,1),Actions!$K$9:$K$1008,"Overdue") -> 0
A16: ="Rates per "&TEXT(Setup!B6,"#,##0")&" hours. Employees + contractors. Actions show current status for incidents in the selected period." -> Rates per 200,000 hours. Employees + contractors. Actions show current status for incidents in the selected period.
R18: Month | S18: Recordable cases | T18: Lost-time cases | U18: TRIF | V18: LTIF | X18: Month | Y18: TRIF | Z18: LTIF
R19: =TEXT(DATE($B$6,1,1),"mmm") -> Jan | S19: =IF(1<=$F$6,INDEX('Monthly Statistics'!$N$9:$N$56,MATCH(DATE($B$6,1,1),'Monthly Statistics'!$A$9:$A$56,0)),NA()) -> 0 | T19: =IF(1<=$F$6,INDEX('Monthly Statistics'!$O$9:$O$56,MATCH(DATE($B$6,1,1),'Monthly Statistics'!$A$9:$A$56,0)),NA()) -> 0 | U19: =IF(OR(1>$F$6,INDEX('Monthly Statistics'!$U$9:$U$56,MATCH(DATE($B$6,1,1),'Monthly Statistics'!$A$9:$A$56,0))=""),NA(),INDEX('Monthly Statistics'!$U$9:$U$56,MATCH(DATE($B$6,1,1),'Monthly Statistics'!$A$9:$A$56,0))) -> #N/A | V19: =IF(OR(1>$F$6,INDEX('Monthly Statistics'!$V$9:$V$56,MATCH(DATE($B$6,1,1),'Monthly Statistics'!$A$9:$A$56,0))=""),NA(),INDEX('Monthly Statistics'!$V$9:$V$56,MATCH(DATE($B$6,1,1),'Monthly Statistics'!$A$9:$A$56,0))) -> #N/A | X19: =R19 -> Jan | Y19: =U19 -> #N/A | Z19: =V19 -> #N/A
R20: =TEXT(DATE($B$6,2,1),"mmm") -> Feb | S20: =IF(2<=$F$6,INDEX('Monthly Statistics'!$N$9:$N$56,MATCH(DATE($B$6,2,1),'Monthly Statistics'!$A$9:$A$56,0)),NA()) -> 0 | T20: =IF(2<=$F$6,INDEX('Monthly Statistics'!$O$9:$O$56,MATCH(DATE($B$6,2,1),'Monthly Statistics'!$A$9:$A$56,0)),NA()) -> 0 | U20: =IF(OR(2>$F$6,INDEX('Monthly Statistics'!$U$9:$U$56,MATCH(DATE($B$6,2,1),'Monthly Statistics'!$A$9:$A$56,0))=""),NA(),INDEX('Monthly Statistics'!$U$9:$U$56,MATCH(DATE($B$6,2,1),'Monthly Statistics'!$A$9:$A$56,0))) -> #N/A | V20: =IF(OR(2>$F$6,INDEX('Monthly Statistics'!$V$9:$V$56,MATCH(DATE($B$6,2,1),'Monthly Statistics'!$A$9:$A$56,0))=""),NA(),INDEX('Monthly Statistics'!$V$9:$V$56,MATCH(DATE($B$6,2,1),'Monthly Statistics'!$A$9:$A$56,0))) -> #N/A | X20: =R20 -> Feb | Y20: =U20 -> #N/A | Z20: =V20 -> #N/A
R21: =TEXT(DATE($B$6,3,1),"mmm") -> Mar | S21: =IF(3<=$F$6,INDEX('Monthly Statistics'!$N$9:$N$56,MATCH(DATE($B$6,3,1),'Monthly Statistics'!$A$9:$A$56,0)),NA()) -> 0 | T21: =IF(3<=$F$6,INDEX('Monthly Statistics'!$O$9:$O$56,MATCH(DATE($B$6,3,1),'Monthly Statistics'!$A$9:$A$56,0)),NA()) -> 0 | U21: =IF(OR(3>$F$6,INDEX('Monthly Statistics'!$U$9:$U$56,MATCH(DATE($B$6,3,1),'Monthly Statistics'!$A$9:$A$56,0))=""),NA(),INDEX('Monthly Statistics'!$U$9:$U$56,MATCH(DATE($B$6,3,1),'Monthly Statistics'!$A$9:$A$56,0))) -> #N/A | V21: =IF(OR(3>$F$6,INDEX('Monthly Statistics'!$V$9:$V$56,MATCH(DATE($B$6,3,1),'Monthly Statistics'!$A$9:$A$56,0))=""),NA(),INDEX('Monthly Statistics'!$V$9:$V$56,MATCH(DATE($B$6,3,1),'Monthly Statistics'!$A$9:$A$56,0))) -> #N/A | X21: =R21 -> Mar | Y21: =U21 -> #N/A | Z21: =V21 -> #N/A
R22: =TEXT(DATE($B$6,4,1),"mmm") -> Apr | S22: =IF(4<=$F$6,INDEX('Monthly Statistics'!$N$9:$N$56,MATCH(DATE($B$6,4,1),'Monthly Statistics'!$A$9:$A$56,0)),NA()) -> 0 | T22: =IF(4<=$F$6,INDEX('Monthly Statistics'!$O$9:$O$56,MATCH(DATE($B$6,4,1),'Monthly Statistics'!$A$9:$A$56,0)),NA()) -> 0 | U22: =IF(OR(4>$F$6,INDEX('Monthly Statistics'!$U$9:$U$56,MATCH(DATE($B$6,4,1),'Monthly Statistics'!$A$9:$A$56,0))=""),NA(),INDEX('Monthly Statistics'!$U$9:$U$56,MATCH(DATE($B$6,4,1),'Monthly Statistics'!$A$9:$A$56,0))) -> #N/A | V22: =IF(OR(4>$F$6,INDEX('Monthly Statistics'!$V$9:$V$56,MATCH(DATE($B$6,4,1),'Monthly Statistics'!$A$9:$A$56,0))=""),NA(),INDEX('Monthly Statistics'!$V$9:$V$56,MATCH(DATE($B$6,4,1),'Monthly Statistics'!$A$9:$A$56,0))) -> #N/A | X22: =R22 -> Apr | Y22: =U22 -> #N/A | Z22: =V22 -> #N/A
R23: =TEXT(DATE($B$6,5,1),"mmm") -> May | S23: =IF(5<=$F$6,INDEX('Monthly Statistics'!$N$9:$N$56,MATCH(DATE($B$6,5,1),'Monthly Statistics'!$A$9:$A$56,0)),NA()) -> 0 | T23: =IF(5<=$F$6,INDEX('Monthly Statistics'!$O$9:$O$56,MATCH(DATE($B$6,5,1),'Monthly Statistics'!$A$9:$A$56,0)),NA()) -> 0 | U23: =IF(OR(5>$F$6,INDEX('Monthly Statistics'!$U$9:$U$56,MATCH(DATE($B$6,5,1),'Monthly Statistics'!$A$9:$A$56,0))=""),NA(),INDEX('Monthly Statistics'!$U$9:$U$56,MATCH(DATE($B$6,5,1),'Monthly Statistics'!$A$9:$A$56,0))) -> #N/A | V23: =IF(OR(5>$F$6,INDEX('Monthly Statistics'!$V$9:$V$56,MATCH(DATE($B$6,5,1),'Monthly Statistics'!$A$9:$A$56,0))=""),NA(),INDEX('Monthly Statistics'!$V$9:$V$56,MATCH(DATE($B$6,5,1),'Monthly Statistics'!$A$9:$A$56,0))) -> #N/A | X23: =R23 -> May | Y23: =U23 -> #N/A | Z23: =V23 -> #N/A
R24: =TEXT(DATE($B$6,6,1),"mmm") -> Jun | S24: =IF(6<=$F$6,INDEX('Monthly Statistics'!$N$9:$N$56,MATCH(DATE($B$6,6,1),'Monthly Statistics'!$A$9:$A$56,0)),NA()) -> 0 | T24: =IF(6<=$F$6,INDEX('Monthly Statistics'!$O$9:$O$56,MATCH(DATE($B$6,6,1),'Monthly Statistics'!$A$9:$A$56,0)),NA()) -> 0 | U24: =IF(OR(6>$F$6,INDEX('Monthly Statistics'!$U$9:$U$56,MATCH(DATE($B$6,6,1),'Monthly Statistics'!$A$9:$A$56,0))=""),NA(),INDEX('Monthly Statistics'!$U$9:$U$56,MATCH(DATE($B$6,6,1),'Monthly Statistics'!$A$9:$A$56,0))) -> #N/A | V24: =IF(OR(6>$F$6,INDEX('Monthly Statistics'!$V$9:$V$56,MATCH(DATE($B$6,6,1),'Monthly Statistics'!$A$9:$A$56,0))=""),NA(),INDEX('Monthly Statistics'!$V$9:$V$56,MATCH(DATE($B$6,6,1),'Monthly Statistics'!$A$9:$A$56,0))) -> #N/A | X24: =R24 -> Jun | Y24: =U24 -> #N/A | Z24: =V24 -> #N/A
R25: =TEXT(DATE($B$6,7,1),"mmm") -> Jul | S25: =IF(7<=$F$6,INDEX('Monthly Statistics'!$N$9:$N$56,MATCH(DATE($B$6,7,1),'Monthly Statistics'!$A$9:$A$56,0)),NA()) -> 0 | T25: =IF(7<=$F$6,INDEX('Monthly Statistics'!$O$9:$O$56,MATCH(DATE($B$6,7,1),'Monthly Statistics'!$A$9:$A$56,0)),NA()) -> 0 | U25: =IF(OR(7>$F$6,INDEX('Monthly Statistics'!$U$9:$U$56,MATCH(DATE($B$6,7,1),'Monthly Statistics'!$A$9:$A$56,0))=""),NA(),INDEX('Monthly Statistics'!$U$9:$U$56,MATCH(DATE($B$6,7,1),'Monthly Statistics'!$A$9:$A$56,0))) -> #N/A | V25: =IF(OR(7>$F$6,INDEX('Monthly Statistics'!$V$9:$V$56,MATCH(DATE($B$6,7,1),'Monthly Statistics'!$A$9:$A$56,0))=""),NA(),INDEX('Monthly Statistics'!$V$9:$V$56,MATCH(DATE($B$6,7,1),'Monthly Statistics'!$A$9:$A$56,0))) -> #N/A | X25: =R25 -> Jul | Y25: =U25 -> #N/A | Z25: =V25 -> #N/A
R26: =TEXT(DATE($B$6,8,1),"mmm") -> Aug | S26: =IF(8<=$F$6,INDEX('Monthly Statistics'!$N$9:$N$56,MATCH(DATE($B$6,8,1),'Monthly Statistics'!$A$9:$A$56,0)),NA()) -> 0 | T26: =IF(8<=$F$6,INDEX('Monthly Statistics'!$O$9:$O$56,MATCH(DATE($B$6,8,1),'Monthly Statistics'!$A$9:$A$56,0)),NA()) -> 0 | U26: =IF(OR(8>$F$6,INDEX('Monthly Statistics'!$U$9:$U$56,MATCH(DATE($B$6,8,1),'Monthly Statistics'!$A$9:$A$56,0))=""),NA(),INDEX('Monthly Statistics'!$U$9:$U$56,MATCH(DATE($B$6,8,1),'Monthly Statistics'!$A$9:$A$56,0))) -> #N/A | V26: =IF(OR(8>$F$6,INDEX('Monthly Statistics'!$V$9:$V$56,MATCH(DATE($B$6,8,1),'Monthly Statistics'!$A$9:$A$56,0))=""),NA(),INDEX('Monthly Statistics'!$V$9:$V$56,MATCH(DATE($B$6,8,1),'Monthly Statistics'!$A$9:$A$56,0))) -> #N/A | X26: =R26 -> Aug | Y26: =U26 -> #N/A | Z26: =V26 -> #N/A
R27: =TEXT(DATE($B$6,9,1),"mmm") -> Sep | S27: =IF(9<=$F$6,INDEX('Monthly Statistics'!$N$9:$N$56,MATCH(DATE($B$6,9,1),'Monthly Statistics'!$A$9:$A$56,0)),NA()) -> 0 | T27: =IF(9<=$F$6,INDEX('Monthly Statistics'!$O$9:$O$56,MATCH(DATE($B$6,9,1),'Monthly Statistics'!$A$9:$A$56,0)),NA()) -> 0 | U27: =IF(OR(9>$F$6,INDEX('Monthly Statistics'!$U$9:$U$56,MATCH(DATE($B$6,9,1),'Monthly Statistics'!$A$9:$A$56,0))=""),NA(),INDEX('Monthly Statistics'!$U$9:$U$56,MATCH(DATE($B$6,9,1),'Monthly Statistics'!$A$9:$A$56,0))) -> #N/A | V27: =IF(OR(9>$F$6,INDEX('Monthly Statistics'!$V$9:$V$56,MATCH(DATE($B$6,9,1),'Monthly Statistics'!$A$9:$A$56,0))=""),NA(),INDEX('Monthly Statistics'!$V$9:$V$56,MATCH(DATE($B$6,9,1),'Monthly Statistics'!$A$9:$A$56,0))) -> #N/A | X27: =R27 -> Sep | Y27: =U27 -> #N/A | Z27: =V27 -> #N/A
R28: =TEXT(DATE($B$6,10,1),"mmm") -> Oct | S28: =IF(10<=$F$6,INDEX('Monthly Statistics'!$N$9:$N$56,MATCH(DATE($B$6,10,1),'Monthly Statistics'!$A$9:$A$56,0)),NA()) -> #N/A | T28: =IF(10<=$F$6,INDEX('Monthly Statistics'!$O$9:$O$56,MATCH(DATE($B$6,10,1),'Monthly Statistics'!$A$9:$A$56,0)),NA()) -> #N/A | U28: =IF(OR(10>$F$6,INDEX('Monthly Statistics'!$U$9:$U$56,MATCH(DATE($B$6,10,1),'Monthly Statistics'!$A$9:$A$56,0))=""),NA(),INDEX('Monthly Statistics'!$U$9:$U$56,MATCH(DATE($B$6,10,1),'Monthly Statistics'!$A$9:$A$56,0))) -> #N/A | V28: =IF(OR(10>$F$6,INDEX('Monthly Statistics'!$V$9:$V$56,MATCH(DATE($B$6,10,1),'Monthly Statistics'!$A$9:$A$56,0))=""),NA(),INDEX('Monthly Statistics'!$V$9:$V$56,MATCH(DATE($B$6,10,1),'Monthly Statistics'!$A$9:$A$56,0))) -> #N/A | X28: =R28 -> Oct | Y28: =U28 -> #N/A | Z28: =V28 -> #N/A
R29: =TEXT(DATE($B$6,11,1),"mmm") -> Nov | S29: =IF(11<=$F$6,INDEX('Monthly Statistics'!$N$9:$N$56,MATCH(DATE($B$6,11,1),'Monthly Statistics'!$A$9:$A$56,0)),NA()) -> #N/A | T29: =IF(11<=$F$6,INDEX('Monthly Statistics'!$O$9:$O$56,MATCH(DATE($B$6,11,1),'Monthly Statistics'!$A$9:$A$56,0)),NA()) -> #N/A | U29: =IF(OR(11>$F$6,INDEX('Monthly Statistics'!$U$9:$U$56,MATCH(DATE($B$6,11,1),'Monthly Statistics'!$A$9:$A$56,0))=""),NA(),INDEX('Monthly Statistics'!$U$9:$U$56,MATCH(DATE($B$6,11,1),'Monthly Statistics'!$A$9:$A$56,0))) -> #N/A | V29: =IF(OR(11>$F$6,INDEX('Monthly Statistics'!$V$9:$V$56,MATCH(DATE($B$6,11,1),'Monthly Statistics'!$A$9:$A$56,0))=""),NA(),INDEX('Monthly Statistics'!$V$9:$V$56,MATCH(DATE($B$6,11,1),'Monthly Statistics'!$A$9:$A$56,0))) -> #N/A | X29: =R29 -> Nov | Y29: =U29 -> #N/A | Z29: =V29 -> #N/A
R30: =TEXT(DATE($B$6,12,1),"mmm") -> Dec | S30: =IF(12<=$F$6,INDEX('Monthly Statistics'!$N$9:$N$56,MATCH(DATE($B$6,12,1),'Monthly Statistics'!$A$9:$A$56,0)),NA()) -> #N/A | T30: =IF(12<=$F$6,INDEX('Monthly Statistics'!$O$9:$O$56,MATCH(DATE($B$6,12,1),'Monthly Statistics'!$A$9:$A$56,0)),NA()) -> #N/A | U30: =IF(OR(12>$F$6,INDEX('Monthly Statistics'!$U$9:$U$56,MATCH(DATE($B$6,12,1),'Monthly Statistics'!$A$9:$A$56,0))=""),NA(),INDEX('Monthly Statistics'!$U$9:$U$56,MATCH(DATE($B$6,12,1),'Monthly Statistics'!$A$9:$A$56,0))) -> #N/A | V30: =IF(OR(12>$F$6,INDEX('Monthly Statistics'!$V$9:$V$56,MATCH(DATE($B$6,12,1),'Monthly Statistics'!$A$9:$A$56,0))=""),NA(),INDEX('Monthly Statistics'!$V$9:$V$56,MATCH(DATE($B$6,12,1),'Monthly Statistics'!$A$9:$A$56,0))) -> #N/A | X30: =R30 -> Dec | Y30: =U30 -> #N/A | Z30: =V30 -> #N/A
R35: Event category | S35: Case records | U35: Severity | V35: Actual | W35: Potential
R36: Injury / illness | S36: =COUNTIFS('Incident Log'!$C$9:$C$1008,">="&DATE($B$6,1,1),'Incident Log'!$C$9:$C$1008,"<"&DATE($B$6,$F$6+1,1),'Incident Log'!$H$9:$H$1008,R36) -> 0 | U36: 1 - Negligible | V36: =COUNTIFS('Incident Log'!$C$9:$C$1008,">="&DATE($B$6,1,1),'Incident Log'!$C$9:$C$1008,"<"&DATE($B$6,$F$6+1,1),'Incident Log'!$L$9:$L$1008,U36) -> 0 | W36: =COUNTIFS('Incident Log'!$C$9:$C$1008,">="&DATE($B$6,1,1),'Incident Log'!$C$9:$C$1008,"<"&DATE($B$6,$F$6+1,1),'Incident Log'!$M$9:$M$1008,U36) -> 0
R37: Near miss | S37: =COUNTIFS('Incident Log'!$C$9:$C$1008,">="&DATE($B$6,1,1),'Incident Log'!$C$9:$C$1008,"<"&DATE($B$6,$F$6+1,1),'Incident Log'!$H$9:$H$1008,R37) -> 0 | U37: 2 - Minor | V37: =COUNTIFS('Incident Log'!$C$9:$C$1008,">="&DATE($B$6,1,1),'Incident Log'!$C$9:$C$1008,"<"&DATE($B$6,$F$6+1,1),'Incident Log'!$L$9:$L$1008,U37) -> 0 | W37: =COUNTIFS('Incident Log'!$C$9:$C$1008,">="&DATE($B$6,1,1),'Incident Log'!$C$9:$C$1008,"<"&DATE($B$6,$F$6+1,1),'Incident Log'!$M$9:$M$1008,U37) -> 0
R38: Property damage | S38: =COUNTIFS('Incident Log'!$C$9:$C$1008,">="&DATE($B$6,1,1),'Incident Log'!$C$9:$C$1008,"<"&DATE($B$6,$F$6+1,1),'Incident Log'!$H$9:$H$1008,R38) -> 0 | U38: 3 - Moderate | V38: =COUNTIFS('Incident Log'!$C$9:$C$1008,">="&DATE($B$6,1,1),'Incident Log'!$C$9:$C$1008,"<"&DATE($B$6,$F$6+1,1),'Incident Log'!$L$9:$L$1008,U38) -> 0 | W38: =COUNTIFS('Incident Log'!$C$9:$C$1008,">="&DATE($B$6,1,1),'Incident Log'!$C$9:$C$1008,"<"&DATE($B$6,$F$6+1,1),'Incident Log'!$M$9:$M$1008,U38) -> 0
R39: Equipment damage | S39: =COUNTIFS('Incident Log'!$C$9:$C$1008,">="&DATE($B$6,1,1),'Incident Log'!$C$9:$C$1008,"<"&DATE($B$6,$F$6+1,1),'Incident Log'!$H$9:$H$1008,R39) -> 0 | U39: 4 - Major | V39: =COUNTIFS('Incident Log'!$C$9:$C$1008,">="&DATE($B$6,1,1),'Incident Log'!$C$9:$C$1008,"<"&DATE($B$6,$F$6+1,1),'Incident Log'!$L$9:$L$1008,U39) -> 0 | W39: =COUNTIFS('Incident Log'!$C$9:$C$1008,">="&DATE($B$6,1,1),'Incident Log'!$C$9:$C$1008,"<"&DATE($B$6,$F$6+1,1),'Incident Log'!$M$9:$M$1008,U39) -> 0
R40: Vehicle event | S40: =COUNTIFS('Incident Log'!$C$9:$C$1008,">="&DATE($B$6,1,1),'Incident Log'!$C$9:$C$1008,"<"&DATE($B$6,$F$6+1,1),'Incident Log'!$H$9:$H$1008,R40) -> 0 | U40: 5 - Severe / fatal | V40: =COUNTIFS('Incident Log'!$C$9:$C$1008,">="&DATE($B$6,1,1),'Incident Log'!$C$9:$C$1008,"<"&DATE($B$6,$F$6+1,1),'Incident Log'!$L$9:$L$1008,U40) -> 0 | W40: =COUNTIFS('Incident Log'!$C$9:$C$1008,">="&DATE($B$6,1,1),'Incident Log'!$C$9:$C$1008,"<"&DATE($B$6,$F$6+1,1),'Incident Log'!$M$9:$M$1008,U40) -> 0
R41: Environmental | S41: =COUNTIFS('Incident Log'!$C$9:$C$1008,">="&DATE($B$6,1,1),'Incident Log'!$C$9:$C$1008,"<"&DATE($B$6,$F$6+1,1),'Incident Log'!$H$9:$H$1008,R41) -> 0
R42: Fire / explosion | S42: =COUNTIFS('Incident Log'!$C$9:$C$1008,">="&DATE($B$6,1,1),'Incident Log'!$C$9:$C$1008,"<"&DATE($B$6,$F$6+1,1),'Incident Log'!$H$9:$H$1008,R42) -> 0
R43: Security / theft | S43: =COUNTIFS('Incident Log'!$C$9:$C$1008,">="&DATE($B$6,1,1),'Incident Log'!$C$9:$C$1008,"<"&DATE($B$6,$F$6+1,1),'Incident Log'!$H$9:$H$1008,R43) -> 0
R44: Hazard observation | S44: =COUNTIFS('Incident Log'!$C$9:$C$1008,">="&DATE($B$6,1,1),'Incident Log'!$C$9:$C$1008,"<"&DATE($B$6,$F$6+1,1),'Incident Log'!$H$9:$H$1008,R44) -> 0
R45: Other | S45: =COUNTIFS('Incident Log'!$C$9:$C$1008,">="&DATE($B$6,1,1),'Incident Log'!$C$9:$C$1008,"<"&DATE($B$6,$F$6+1,1),'Incident Log'!$H$9:$H$1008,R45) -> 0
A54: ="Recorded cost: "&TEXT(INDEX('Monthly Statistics'!$J$60:$J$63,$AE$2),"$#,##0")&" • High-potential records: "&INDEX('Monthly Statistics'!$K$60:$K$63,$AE$2)&" • Case input issues: "&INDEX('Monthly Statistics'!$L$60:$L$63,$AE$2)&" • Undated records: "&COUNTIFS('Incident Log'!$AK$9:$AK$1008,"Missing / invalid date") -> Recorded cost: $0 • High-potential records: 0 • Case input issues: 0 • Undated records: 0

Sheet Trend Explorer
A2: Trend explorer | B2: Trend explorer | C2: Trend explorer | D2: Trend explorer | E2: Trend explorer | F2: Trend explorer | G2: Trend explorer | H2: Trend explorer | M2: Prepared by 100% Safety Inc.
A3: Trend explorer | B3: Trend explorer | C3: Trend explorer | D3: Trend explorer | E3: Trend explorer | F3: Trend explorer | G3: Trend explorer | H3: Trend explorer
A4: Select a category and a measure. All results follow the Dashboard year and through-month selections. | B4: Select a category and a measure. All results follow the Dashboard year and through-month selections. | C4: Select a category and a measure. All results follow the Dashboard year and through-month selections. | D4: Select a category and a measure. All results follow the Dashboard year and through-month selections. | E4: Select a category and a measure. All results follow the Dashboard year and through-month selections. | F4: Select a category and a measure. All results follow the Dashboard year and through-month selections. | G4: Select a category and a measure. All results follow the Dashboard year and through-month selections. | H4: Select a category and a measure. All results follow the Dashboard year and through-month selections. | I4: Select a category and a measure. All results follow the Dashboard year and through-month selections. | J4: Select a category and a measure. All results follow the Dashboard year and through-month selections. | K4: Select a category and a measure. All results follow the Dashboard year and through-month selections. | L4: Select a category and a measure. All results follow the Dashboard year and through-month selections. | M4: Select a category and a measure. All results follow the Dashboard year and through-month selections. | N4: Select a category and a measure. All results follow the Dashboard year and through-month selections. | O4: Select a category and a measure. All results follow the Dashboard year and through-month selections. | P4: Select a category and a measure. All results follow the Dashboard year and through-month selections.
A6: Trend by | B6: Event category | C6: Event category | D6: Event category | E6: Event category | G6: Measure | H6: Case records | I6: Case records | J6: Case records | K6: Case records | U6: Dimension index | V6: =MATCH(B6,Setup!$A$32:$A$47,0) -> 4
U7: Measure index | V7: =MATCH(H6,Setup!$A$50:$A$55,0) -> 1
A8: Cause totals count a record once per matching cause. A record with two different causes appears in both categories. Costs and days are attributed to each matching category. | B8: Cause totals count a record once per matching cause. A record with two different causes appears in both categories. Costs and days are attributed to each matching category. | C8: Cause totals count a record once per matching cause. A record with two different causes appears in both categories. Costs and days are attributed to each matching category. | D8: Cause totals count a record once per matching cause. A record with two different causes appears in both categories. Costs and days are attributed to each matching category. | E8: Cause totals count a record once per matching cause. A record with two different causes appears in both categories. Costs and days are attributed to each matching category. | F8: Cause totals count a record once per matching cause. A record with two different causes appears in both categories. Costs and days are attributed to each matching category. | G8: Cause totals count a record once per matching cause. A record with two different causes appears in both categories. Costs and days are attributed to each matching category. | H8: Cause totals count a record once per matching cause. A record with two different causes appears in both categories. Costs and days are attributed to each matching category. | I8: Cause totals count a record once per matching cause. A record with two different causes appears in both categories. Costs and days are attributed to each matching category. | J8: Cause totals count a record once per matching cause. A record with two different causes appears in both categories. Costs and days are attributed to each matching category. | K8: Cause totals count a record once per matching cause. A record with two different causes appears in both categories. Costs and days are attributed to each matching category. | L8: Cause totals count a record once per matching cause. A record with two different causes appears in both categories. Costs and days are attributed to each matching category. | M8: Cause totals count a record once per matching cause. A record with two different causes appears in both categories. Costs and days are attributed to each matching category. | N8: Cause totals count a record once per matching cause. A record with two different causes appears in both categories. Costs and days are attributed to each matching category. | O8: Cause totals count a record once per matching cause. A record with two different causes appears in both categories. Costs and days are attributed to each matching category. | P8: Cause totals count a record once per matching cause. A record with two different causes appears in both categories. Costs and days are attributed to each matching category.
A9: Cause totals count a record once per matching cause. A record with two different causes appears in both categories. Costs and days are attributed to each matching category. | B9: Cause totals count a record once per matching cause. A record with two different causes appears in both categories. Costs and days are attributed to each matching category. | C9: Cause totals count a record once per matching cause. A record with two different causes appears in both categories. Costs and days are attributed to each matching category. | D9: Cause totals count a record once per matching cause. A record with two different causes appears in both categories. Costs and days are attributed to each matching category. | E9: Cause totals count a record once per matching cause. A record with two different causes appears in both categories. Costs and days are attributed to each matching category. | F9: Cause totals count a record once per matching cause. A record with two different causes appears in both categories. Costs and days are attributed to each matching category. | G9: Cause totals count a record once per matching cause. A record with two different causes appears in both categories. Costs and days are attributed to each matching category. | H9: Cause totals count a record once per matching cause. A record with two different causes appears in both categories. Costs and days are attributed to each matching category. | I9: Cause totals count a record once per matching cause. A record with two different causes appears in both categories. Costs and days are attributed to each matching category. | J9: Cause totals count a record once per matching cause. A record with two different causes appears in both categories. Costs and days are attributed to each matching category. | K9: Cause totals count a record once per matching cause. A record with two different causes appears in both categories. Costs and days are attributed to each matching category. | L9: Cause totals count a record once per matching cause. A record with two different causes appears in both categories. Costs and days are attributed to each matching category. | M9: Cause totals count a record once per matching cause. A record with two different causes appears in both categories. Costs and days are attributed to each matching category. | N9: Cause totals count a record once per matching cause. A record with two different causes appears in both categories. Costs and days are attributed to each matching category. | O9: Cause totals count a record once per matching cause. A record with two different causes appears in both categories. Costs and days are attributed to each matching category. | P9: Cause totals count a record once per matching cause. A record with two different causes appears in both categories. Costs and days are attributed to each matching category.
A12: Category | B12: Selected measure | C12: Rank | U12: Category | V12: Selected measure
A13: =IF(CHOOSE($V$6,Setup!$F$13,Setup!$G$13,Setup!$H$13,Setup!$I$13,Setup!$J$13,Setup!$K$13,Setup!$L$13,Setup!$M$13,Setup!$N$13,Setup!$O$13,Setup!$P$13,Setup!$Q$13,Setup!$R$13,Setup!$S$13,Setup!$T$13,Setup!$U$13)="","",CHOOSE($V$6,Setup!$F$13,Setup!$G$13,Setup!$H$13,Setup!$I$13,Setup!$J$13,Setup!$K$13,Setup!$L$13,Setup!$M$13,Setup!$N$13,Setup!$O$13,Setup!$P$13,Setup!$Q$13,Setup!$R$13,Setup!$S$13,Setup!$T$13,Setup!$U$13)) -> Injury / illness | B13: =IF(A13="","",IF($V$7=1,COUNTIFS('Incident Log'!$C$9:$C$1008,">="&DATE(Dashboard!$B$6,1,1),'Incident Log'!$C$9:$C$1008,"<"&DATE(Dashboard!$B$6,Dashboard!$F$6+1,1),'Incident Log'!$A$9:$A$1008,"<>",CHOOSE($V$6,'Incident Log'!$E$9:$E$1008,'Incident Log'!$F$9:$F$1008,'Incident Log'!$G$9:$G$1008,'Incident Log'!$H$9:$H$1008,'Incident Log'!$I$9:$I$1008,'Incident Log'!$J$9:$J$1008,'Incident Log'!$K$9:$K$1008,'Incident Log'!$L$9:$L$1008,'Incident Log'!$M$9:$M$1008,'Incident Log'!$N$9:$N$1008,'Incident Log'!$O$9:$O$1008,'Incident Log'!$P$9:$P$1008,'Incident Log'!$V$9:$V$1008,'Incident Log'!$X$9:$X$1008,'Incident Log'!$Z$9:$Z$1008,'Incident Log'!$AF$9:$AF$1008),A13)+IF(OR($V$6=13,$V$6=14),COUNTIFS('Incident Log'!$C$9:$C$1008,">="&DATE(Dashboard!$B$6,1,1),'Incident Log'!$C$9:$C$1008,"<"&DATE(Dashboard!$B$6,Dashboard!$F$6+1,1),'Incident Log'!$A$9:$A$1008,"<>",CHOOSE($V$6,'Incident Log'!$E$9:$E$1008,'Incident Log'!$F$9:$F$1008,'Incident Log'!$G$9:$G$1008,'Incident Log'!$H$9:$H$1008,'Incident Log'!$I$9:$I$1008,'Incident Log'!$J$9:$J$1008,'Incident Log'!$K$9:$K$1008,'Incident Log'!$L$9:$L$1008,'Incident Log'!$M$9:$M$1008,'Incident Log'!$N$9:$N$1008,'Incident Log'!$O$9:$O$1008,'Incident Log'!$P$9:$P$1008,'Incident Log'!$W$9:$W$1008,'Incident Log'!$Y$9:$Y$1008,'Incident Log'!$Z$9:$Z$1008,'Incident Log'!$AF$9:$AF$1008),A13)-COUNTIFS('Incident Log'!$C$9:$C$1008,">="&DATE(Dashboard!$B$6,1,1),'Incident Log'!$C$9:$C$1008,"<"&DATE(Dashboard!$B$6,Dashboard!$F$6+1,1),'Incident Log'!$A$9:$A$1008,"<>",CHOOSE($V$6,'Incident Log'!$E$9:$E$1008,'Incident Log'!$F$9:$F$1008,'Incident Log'!$G$9:$G$1008,'Incident Log'!$H$9:$H$1008,'Incident Log'!$I$9:$I$1008,'Incident Log'!$J$9:$J$1008,'Incident Log'!$K$9:$K$1008,'Incident Log'!$L$9:$L$1008,'Incident Log'!$M$9:$M$1008,'Incident Log'!$N$9:$N$1008,'Incident Log'!$O$9:$O$1008,'Incident Log'!$P$9:$P$1008,'Incident Log'!$V$9:$V$1008,'Incident Log'!$X$9:$X$1008,'Incident Log'!$Z$9:$Z$1008,'Incident Log'!$AF$9:$AF$1008),A13,CHOOSE($V$6,'Incident Log'!$E$9:$E$1008,'Incident Log'!$F$9:$F$1008,'Incident Log'!$G$9:$G$1008,'Incident Log'!$H$9:$H$1008,'Incident Log'!$I$9:$I$1008,'Incident Log'!$J$9:$J$1008,'Incident Log'!$K$9:$K$1008,'Incident Log'!$L$9:$L$1008,'Incident Log'!$M$9:$M$1008,'Incident Log'!$N$9:$N$1008,'Incident Log'!$O$9:$O$1008,'Incident Log'!$P$9:$P$1008,'Incident Log'!$W$9:$W$1008,'Incident Log'!$Y$9:$Y$1008,'Incident Log'!$Z$9:$Z$1008,'Incident Log'!$AF$9:$AF$1008),A13),0),SUMIFS(CHOOSE($V$7,'Incident Log'!$AG$9:$AG$1008,'Incident Log'!$AG$9:$AG$1008,'Incident Log'!$AH$9:$AH$1008,'Incident Log'!$Q$9:$Q$1008,'Incident Log'!$R$9:$R$1008,'Incident Log'!$S$9:$S$1008),'Incident Log'!$C$9:$C$1008,">="&DATE(Dashboard!$B$6,1,1),'Incident Log'!$C$9:$C$1008,"<"&DATE(Dashboard!$B$6,Dashboard!$F$6+1,1),'Incident Log'!$A$9:$A$1008,"<>",CHOOSE($V$6,'Incident Log'!$E$9:$E$1008,'Incident Log'!$F$9:$F$1008,'Incident Log'!$G$9:$G$1008,'Incident Log'!$H$9:$H$1008,'Incident Log'!$I$9:$I$1008,'Incident Log'!$J$9:$J$1008,'Incident Log'!$K$9:$K$1008,'Incident Log'!$L$9:$L$1008,'Incident Log'!$M$9:$M$1008,'Incident Log'!$N$9:$N$1008,'Incident Log'!$O$9:$O$1008,'Incident Log'!$P$9:$P$1008,'Incident Log'!$V$9:$V$1008,'Incident Log'!$X$9:$X$1008,'Incident Log'!$Z$9:$Z$1008,'Incident Log'!$AF$9:$AF$1008),A13)+IF(OR($V$6=13,$V$6=14),SUMIFS(CHOOSE($V$7,'Incident Log'!$AG$9:$AG$1008,'Incident Log'!$AG$9:$AG$1008,'Incident Log'!$AH$9:$AH$1008,'Incident Log'!$Q$9:$Q$1008,'Incident Log'!$R$9:$R$1008,'Incident Log'!$S$9:$S$1008),'Incident Log'!$C$9:$C$1008,">="&DATE(Dashboard!$B$6,1,1),'Incident Log'!$C$9:$C$1008,"<"&DATE(Dashboard!$B$6,Dashboard!$F$6+1,1),'Incident Log'!$A$9:$A$1008,"<>",CHOOSE($V$6,'Incident Log'!$E$9:$E$1008,'Incident Log'!$F$9:$F$1008,'Incident Log'!$G$9:$G$1008,'Incident Log'!$H$9:$H$1008,'Incident Log'!$I$9:$I$1008,'Incident Log'!$J$9:$J$1008,'Incident Log'!$K$9:$K$1008,'Incident Log'!$L$9:$L$1008,'Incident Log'!$M$9:$M$1008,'Incident Log'!$N$9:$N$1008,'Incident Log'!$O$9:$O$1008,'Incident Log'!$P$9:$P$1008,'Incident Log'!$W$9:$W$1008,'Incident Log'!$Y$9:$Y$1008,'Incident Log'!$Z$9:$Z$1008,'Incident Log'!$AF$9:$AF$1008),A13)-SUMIFS(CHOOSE($V$7,'Incident Log'!$AG$9:$AG$1008,'Incident Log'!$AG$9:$AG$1008,'Incident Log'!$AH$9:$AH$1008,'Incident Log'!$Q$9:$Q$1008,'Incident Log'!$R$9:$R$1008,'Incident Log'!$S$9:$S$1008),'Incident Log'!$C$9:$C$1008,">="&DATE(Dashboard!$B$6,1,1),'Incident Log'!$C$9:$C$1008,"<"&DATE(Dashboard!$B$6,Dashboard!$F$6+1,1),'Incident Log'!$A$9:$A$1008,"<>",CHOOSE($V$6,'Incident Log'!$E$9:$E$1008,'Incident Log'!$F$9:$F$1008,'Incident Log'!$G$9:$G$1008,'Incident Log'!$H$9:$H$1008,'Incident Log'!$I$9:$I$1008,'Incident Log'!$J$9:$J$1008,'Incident Log'!$K$9:$K$1008,'Incident Log'!$L$9:$L$1008,'Incident Log'!$M$9:$M$1008,'Incident Log'!$N$9:$N$1008,'Incident Log'!$O$9:$O$1008,'Incident Log'!$P$9:$P$1008,'Incident Log'!$V$9:$V$1008,'Incident Log'!$X$9:$X$1008,'Incident Log'!$Z$9:$Z$1008,'Incident Log'!$AF$9:$AF$1008),A13,CHOOSE($V$6,'Incident Log'!$E$9:$E$1008,'Incident Log'!$F$9:$F$1008,'Incident Log'!$G$9:$G$1008,'Incident Log'!$H$9:$H$1008,'Incident Log'!$I$9:$I$1008,'Incident Log'!$J$9:$J$1008,'Incident Log'!$K$9:$K$1008,'Incident Log'!$L$9:$L$1008,'Incident Log'!$M$9:$M$1008,'Incident Log'!$N$9:$N$1008,'Incident Log'!$O$9:$O$1008,'Incident Log'!$P$9:$P$1008,'Incident Log'!$W$9:$W$1008,'Incident Log'!$Y$9:$Y$1008,'Incident Log'!$Z$9:$Z$1008,'Incident Log'!$AF$9:$AF$1008),A13),0))) -> 0 | C13: =IF(A13="","",COUNTIFS($B$13:$B$212,">"&B13)+COUNTIFS($B$13:B13,B13)) -> 1 | U13: =IF(COUNTIFS($C$13:$C$212,1)=0,"",INDEX($A$13:$A$212,MATCH(1,$C$13:$C$212,0))) -> Injury / illness | V13: =IF(U13="","",INDEX($B$13:$B$212,MATCH(1,$C$13:$C$212,0))) -> 0
A14: =IF(CHOOSE($V$6,Setup!$F$14,Setup!$G$14,Setup!$H$14,Setup!$I$14,Setup!$J$14,Setup!$K$14,Setup!$L$14,Setup!$M$14,Setup!$N$14,Setup!$O$14,Setup!$P$14,Setup!$Q$14,Setup!$R$14,Setup!$S$14,Setup!$T$14,Setup!$U$14)="","",CHOOSE($V$6,Setup!$F$14,Setup!$G$14,Setup!$H$14,Setup!$I$14,Setup!$J$14,Setup!$K$14,Setup!$L$14,Setup!$M$14,Setup!$N$14,Setup!$O$14,Setup!$P$14,Setup!$Q$14,Setup!$R$14,Setup!$S$14,Setup!$T$14,Setup!$U$14)) -> Near miss | B14: =IF(A14="","",IF($V$7=1,COUNTIFS('Incident Log'!$C$9:$C$1008,">="&DATE(Dashboard!$B$6,1,1),'Incident Log'!$C$9:$C$1008,"<"&DATE(Dashboard!$B$6,Dashboard!$F$6+1,1),'Incident Log'!$A$9:$A$1008,"<>",CHOOSE($V$6,'Incident Log'!$E$9:$E$1008,'Incident Log'!$F$9:$F$1008,'Incident Log'!$G$9:$G$1008,'Incident Log'!$H$9:$H$1008,'Incident Log'!$I$9:$I$1008,'Incident Log'!$J$9:$J$1008,'Incident Log'!$K$9:$K$1008,'Incident Log'!$L$9:$L$1008,'Incident Log'!$M$9:$M$1008,'Incident Log'!$N$9:$N$1008,'Incident Log'!$O$9:$O$1008,'Incident Log'!$P$9:$P$1008,'Incident Log'!$V$9:$V$1008,'Incident Log'!$X$9:$X$1008,'Incident Log'!$Z$9:$Z$1008,'Incident Log'!$AF$9:$AF$1008),A14)+IF(OR($V$6=13,$V$6=14),COUNTIFS('Incident Log'!$C$9:$C$1008,">="&DATE(Dashboard!$B$6,1,1),'Incident Log'!$C$9:$C$1008,"<"&DATE(Dashboard!$B$6,Dashboard!$F$6+1,1),'Incident Log'!$A$9:$A$1008,"<>",CHOOSE($V$6,'Incident Log'!$E$9:$E$1008,'Incident Log'!$F$9:$F$1008,'Incident Log'!$G$9:$G$1008,'Incident Log'!$H$9:$H$1008,'Incident Log'!$I$9:$I$1008,'Incident Log'!$J$9:$J$1008,'Incident Log'!$K$9:$K$1008,'Incident Log'!$L$9:$L$1008,'Incident Log'!$M$9:$M$1008,'Incident Log'!$N$9:$N$1008,'Incident Log'!$O$9:$O$1008,'Incident Log'!$P$9:$P$1008,'Incident Log'!$W$9:$W$1008,'Incident Log'!$Y$9:$Y$1008,'Incident Log'!$Z$9:$Z$1008,'Incident Log'!$AF$9:$AF$1008),A14)-COUNTIFS('Incident Log'!$C$9:$C$1008,">="&DATE(Dashboard!$B$6,1,1),'Incident Log'!$C$9:$C$1008,"<"&DATE(Dashboard!$B$6,Dashboard!$F$6+1,1),'Incident Log'!$A$9:$A$1008,"<>",CHOOSE($V$6,'Incident Log'!$E$9:$E$1008,'Incident Log'!$F$9:$F$1008,'Incident Log'!$G$9:$G$1008,'Incident Log'!$H$9:$H$1008,'Incident Log'!$I$9:$I$1008,'Incident Log'!$J$9:$J$1008,'Incident Log'!$K$9:$K$1008,'Incident Log'!$L$9:$L$1008,'Incident Log'!$M$9:$M$1008,'Incident Log'!$N$9:$N$1008,'Incident Log'!$O$9:$O$1008,'Incident Log'!$P$9:$P$1008,'Incident Log'!$V$9:$V$1008,'Incident Log'!$X$9:$X$1008,'Incident Log'!$Z$9:$Z$1008,'Incident Log'!$AF$9:$AF$1008),A14,CHOOSE($V$6,'Incident Log'!$E$9:$E$1008,'Incident Log'!$F$9:$F$1008,'Incident Log'!$G$9:$G$1008,'Incident Log'!$H$9:$H$1008,'Incident Log'!$I$9:$I$1008,'Incident Log'!$J$9:$J$1008,'Incident Log'!$K$9:$K$1008,'Incident Log'!$L$9:$L$1008,'Incident Log'!$M$9:$M$1008,'Incident Log'!$N$9:$N$1008,'Incident Log'!$O$9:$O$1008,'Incident Log'!$P$9:$P$1008,'Incident Log'!$W$9:$W$1008,'Incident Log'!$Y$9:$Y$1008,'Incident Log'!$Z$9:$Z$1008,'Incident Log'!$AF$9:$AF$1008),A14),0),SUMIFS(CHOOSE($V$7,'Incident Log'!$AG$9:$AG$1008,'Incident Log'!$AG$9:$AG$1008,'Incident Log'!$AH$9:$AH$1008,'Incident Log'!$Q$9:$Q$1008,'Incident Log'!$R$9:$R$1008,'Incident Log'!$S$9:$S$1008),'Incident Log'!$C$9:$C$1008,">="&DATE(Dashboard!$B$6,1,1),'Incident Log'!$C$9:$C$1008,"<"&DATE(Dashboard!$B$6,Dashboard!$F$6+1,1),'Incident Log'!$A$9:$A$1008,"<>",CHOOSE($V$6,'Incident Log'!$E$9:$E$1008,'Incident Log'!$F$9:$F$1008,'Incident Log'!$G$9:$G$1008,'Incident Log'!$H$9:$H$1008,'Incident Log'!$I$9:$I$1008,'Incident Log'!$J$9:$J$1008,'Incident Log'!$K$9:$K$1008,'Incident Log'!$L$9:$L$1008,'Incident Log'!$M$9:$M$1008,'Incident Log'!$N$9:$N$1008,'Incident Log'!$O$9:$O$1008,'Incident Log'!$P$9:$P$1008,'Incident Log'!$V$9:$V$1008,'Incident Log'!$X$9:$X$1008,'Incident Log'!$Z$9:$Z$1008,'Incident Log'!$AF$9:$AF$1008),A14)+IF(OR($V$6=13,$V$6=14),SUMIFS(CHOOSE($V$7,'Incident Log'!$AG$9:$AG$1008,'Incident Log'!$AG$9:$AG$1008,'Incident Log'!$AH$9:$AH$1008,'Incident Log'!$Q$9:$Q$1008,'Incident Log'!$R$9:$R$1008,'Incident Log'!$S$9:$S$1008),'Incident Log'!$C$9:$C$1008,">="&DATE(Dashboard!$B$6,1,1),'Incident Log'!$C$9:$C$1008,"<"&DATE(Dashboard!$B$6,Dashboard!$F$6+1,1),'Incident Log'!$A$9:$A$1008,"<>",CHOOSE($V$6,'Incident Log'!$E$9:$E$1008,'Incident Log'!$F$9:$F$1008,'Incident Log'!$G$9:$G$1008,'Incident Log'!$H$9:$H$1008,'Incident Log'!$I$9:$I$1008,'Incident Log'!$J$9:$J$1008,'Incident Log'!$K$9:$K$1008,'Incident Log'!$L$9:$L$1008,'Incident Log'!$M$9:$M$1008,'Incident Log'!$N$9:$N$1008,'Incident Log'!$O$9:$O$1008,'Incident Log'!$P$9:$P$1008,'Incident Log'!$W$9:$W$1008,'Incident Log'!$Y$9:$Y$1008,'Incident Log'!$Z$9:$Z$1008,'Incident Log'!$AF$9:$AF$1008),A14)-SUMIFS(CHOOSE($V$7,'Incident Log'!$AG$9:$AG$1008,'Incident Log'!$AG$9:$AG$1008,'Incident Log'!$AH$9:$AH$1008,'Incident Log'!$Q$9:$Q$1008,'Incident Log'!$R$9:$R$1008,'Incident Log'!$S$9:$S$1008),'Incident Log'!$C$9:$C$1008,">="&DATE(Dashboard!$B$6,1,1),'Incident Log'!$C$9:$C$1008,"<"&DATE(Dashboard!$B$6,Dashboard!$F$6+1,1),'Incident Log'!$A$9:$A$1008,"<>",CHOOSE($V$6,'Incident Log'!$E$9:$E$1008,'Incident Log'!$F$9:$F$1008,'Incident Log'!$G$9:$G$1008,'Incident Log'!$H$9:$H$1008,'Incident Log'!$I$9:$I$1008,'Incident Log'!$J$9:$J$1008,'Incident Log'!$K$9:$K$1008,'Incident Log'!$L$9:$L$1008,'Incident Log'!$M$9:$M$1008,'Incident Log'!$N$9:$N$1008,'Incident Log'!$O$9:$O$1008,'Incident Log'!$P$9:$P$1008,'Incident Log'!$V$9:$V$1008,'Incident Log'!$X$9:$X$1008,'Incident Log'!$Z$9:$Z$1008,'Incident Log'!$AF$9:$AF$1008),A14,CHOOSE($V$6,'Incident Log'!$E$9:$E$1008,'Incident Log'!$F$9:$F$1008,'Incident Log'!$G$9:$G$1008,'Incident Log'!$H$9:$H$1008,'Incident Log'!$I$9:$I$1008,'Incident Log'!$J$9:$J$1008,'Incident Log'!$K$9:$K$1008,'Incident Log'!$L$9:$L$1008,'Incident Log'!$M$9:$M$1008,'Incident Log'!$N$9:$N$1008,'Incident Log'!$O$9:$O$1008,'Incident Log'!$P$9:$P$1008,'Incident Log'!$W$9:$W$1008,'Incident Log'!$Y$9:$Y$1008,'Incident Log'!$Z$9:$Z$1008,'Incident Log'!$AF$9:$AF$1008),A14),0))) -> 0 | C14: =IF(A14="","",COUNTIFS($B$13:$B$212,">"&B14)+COUNTIFS($B$13:B14,B14)) -> 2 | U14: =IF(COUNTIFS($C$13:$C$212,2)=0,"",INDEX($A$13:$A$212,MATCH(2,$C$13:$C$212,0))) -> Near miss | V14: =IF(U14="","",INDEX($B$13:$B$212,MATCH(2,$C$13:$C$212,0))) -> 0
A15: =IF(CHOOSE($V$6,Setup!$F$15,Setup!$G$15,Setup!$H$15,Setup!$I$15,Setup!$J$15,Setup!$K$15,Setup!$L$15,Setup!$M$15,Setup!$N$15,Setup!$O$15,Setup!$P$15,Setup!$Q$15,Setup!$R$15,Setup!$S$15,Setup!$T$15,Setup!$U$15)="","",CHOOSE($V$6,Setup!$F$15,Setup!$G$15,Setup!$H$15,Setup!$I$15,Setup!$J$15,Setup!$K$15,Setup!$L$15,Setup!$M$15,Setup!$N$15,Setup!$O$15,Setup!$P$15,Setup!$Q$15,Setup!$R$15,Setup!$S$15,Setup!$T$15,Setup!$U$15)) -> Property damage | B15: =IF(A15="","",IF($V$7=1,COUNTIFS('Incident Log'!$C$9:$C$1008,">="&DATE(Dashboard!$B$6,1,1),'Incident Log'!$C$9:$C$1008,"<"&DATE(Dashboard!$B$6,Dashboard!$F$6+1,1),'Incident Log'!$A$9:$A$1008,"<>",CHOOSE($V$6,'Incident Log'!$E$9:$E$1008,'Incident Log'!$F$9:$F$1008,'Incident Log'!$G$9:$G$1008,'Incident Log'!$H$9:$H$1008,'Incident Log'!$I$9:$I$1008,'Incident Log'!$J$9:$J$1008,'Incident Log'!$K$9:$K$1008,'Incident Log'!$L$9:$L$1008,'Incident Log'!$M$9:$M$1008,'Incident Log'!$N$9:$N$1008,'Incident Log'!$O$9:$O$1008,'Incident Log'!$P$9:$P$1008,'Incident Log'!$V$9:$V$1008,'Incident Log'!$X$9:$X$1008,'Incident Log'!$Z$9:$Z$1008,'Incident Log'!$AF$9:$AF$1008),A15)+IF(OR($V$6=13,$V$6=14),COUNTIFS('Incident Log'!$C$9:$C$1008,">="&DATE(Dashboard!$B$6,1,1),'Incident Log'!$C$9:$C$1008,"<"&DATE(Dashboard!$B$6,Dashboard!$F$6+1,1),'Incident Log'!$A$9:$A$1008,"<>",CHOOSE($V$6,'Incident Log'!$E$9:$E$1008,'Incident Log'!$F$9:$F$1008,'Incident Log'!$G$9:$G$1008,'Incident Log'!$H$9:$H$1008,'Incident Log'!$I$9:$I$1008,'Incident Log'!$J$9:$J$1008,'Incident Log'!$K$9:$K$1008,'Incident Log'!$L$9:$L$1008,'Incident Log'!$M$9:$M$1008,'Incident Log'!$N$9:$N$1008,'Incident Log'!$O$9:$O$1008,'Incident Log'!$P$9:$P$1008,'Incident Log'!$W$9:$W$1008,'Incident Log'!$Y$9:$Y$1008,'Incident Log'!$Z$9:$Z$1008,'Incident Log'!$AF$9:$AF$1008),A15)-COUNTIFS('Incident Log'!$C$9:$C$1008,">="&DATE(Dashboard!$B$6,1,1),'Incident Log'!$C$9:$C$1008,"<"&DATE(Dashboard!$B$6,Dashboard!$F$6+1,1),'Incident Log'!$A$9:$A$1008,"<>",CHOOSE($V$6,'Incident Log'!$E$9:$E$1008,'Incident Log'!$F$9:$F$1008,'Incident Log'!$G$9:$G$1008,'Incident Log'!$H$9:$H$1008,'Incident Log'!$I$9:$I$1008,'Incident Log'!$J$9:$J$1008,'Incident Log'!$K$9:$K$1008,'Incident Log'!$L$9:$L$1008,'Incident Log'!$M$9:$M$1008,'Incident Log'!$N$9:$N$1008,'Incident Log'!$O$9:$O$1008,'Incident Log'!$P$9:$P$1008,'Incident Log'!$V$9:$V$1008,'Incident Log'!$X$9:$X$1008,'Incident Log'!$Z$9:$Z$1008,'Incident Log'!$AF$9:$AF$1008),A15,CHOOSE($V$6,'Incident Log'!$E$9:$E$1008,'Incident Log'!$F$9:$F$1008,'Incident Log'!$G$9:$G$1008,'Incident Log'!$H$9:$H$1008,'Incident Log'!$I$9:$I$1008,'Incident Log'!$J$9:$J$1008,'Incident Log'!$K$9:$K$1008,'Incident Log'!$L$9:$L$1008,'Incident Log'!$M$9:$M$1008,'Incident Log'!$N$9:$N$1008,'Incident Log'!$O$9:$O$1008,'Incident Log'!$P$9:$P$1008,'Incident Log'!$W$9:$W$1008,'Incident Log'!$Y$9:$Y$1008,'Incident Log'!$Z$9:$Z$1008,'Incident Log'!$AF$9:$AF$1008),A15),0),SUMIFS(CHOOSE($V$7,'Incident Log'!$AG$9:$AG$1008,'Incident Log'!$AG$9:$AG$1008,'Incident Log'!$AH$9:$AH$1008,'Incident Log'!$Q$9:$Q$1008,'Incident Log'!$R$9:$R$1008,'Incident Log'!$S$9:$S$1008),'Incident Log'!$C$9:$C$1008,">="&DATE(Dashboard!$B$6,1,1),'Incident Log'!$C$9:$C$1008,"<"&DATE(Dashboard!$B$6,Dashboard!$F$6+1,1),'Incident Log'!$A$9:$A$1008,"<>",CHOOSE($V$6,'Incident Log'!$E$9:$E$1008,'Incident Log'!$F$9:$F$1008,'Incident Log'!$G$9:$G$1008,'Incident Log'!$H$9:$H$1008,'Incident Log'!$I$9:$I$1008,'Incident Log'!$J$9:$J$1008,'Incident Log'!$K$9:$K$1008,'Incident Log'!$L$9:$L$1008,'Incident Log'!$M$9:$M$1008,'Incident Log'!$N$9:$N$1008,'Incident Log'!$O$9:$O$1008,'Incident Log'!$P$9:$P$1008,'Incident Log'!$V$9:$V$1008,'Incident Log'!$X$9:$X$1008,'Incident Log'!$Z$9:$Z$1008,'Incident Log'!$AF$9:$AF$1008),A15)+IF(OR($V$6=13,$V$6=14),SUMIFS(CHOOSE($V$7,'Incident Log'!$AG$9:$AG$1008,'Incident Log'!$AG$9:$AG$1008,'Incident Log'!$AH$9:$AH$1008,'Incident Log'!$Q$9:$Q$1008,'Incident Log'!$R$9:$R$1008,'Incident Log'!$S$9:$S$1008),'Incident Log'!$C$9:$C$1008,">="&DATE(Dashboard!$B$6,1,1),'Incident Log'!$C$9:$C$1008,"<"&DATE(Dashboard!$B$6,Dashboard!$F$6+1,1),'Incident Log'!$A$9:$A$1008,"<>",CHOOSE($V$6,'Incident Log'!$E$9:$E$1008,'Incident Log'!$F$9:$F$1008,'Incident Log'!$G$9:$G$1008,'Incident Log'!$H$9:$H$1008,'Incident Log'!$I$9:$I$1008,'Incident Log'!$J$9:$J$1008,'Incident Log'!$K$9:$K$1008,'Incident Log'!$L$9:$L$1008,'Incident Log'!$M$9:$M$1008,'Incident Log'!$N$9:$N$1008,'Incident Log'!$O$9:$O$1008,'Incident Log'!$P$9:$P$1008,'Incident Log'!$W$9:$W$1008,'Incident Log'!$Y$9:$Y$1008,'Incident Log'!$Z$9:$Z$1008,'Incident Log'!$AF$9:$AF$1008),A15)-SUMIFS(CHOOSE($V$7,'Incident Log'!$AG$9:$AG$1008,'Incident Log'!$AG$9:$AG$1008,'Incident Log'!$AH$9:$AH$1008,'Incident Log'!$Q$9:$Q$1008,'Incident Log'!$R$9:$R$1008,'Incident Log'!$S$9:$S$1008),'Incident Log'!$C$9:$C$1008,">="&DATE(Dashboard!$B$6,1,1),'Incident Log'!$C$9:$C$1008,"<"&DATE(Dashboard!$B$6,Dashboard!$F$6+1,1),'Incident Log'!$A$9:$A$1008,"<>",CHOOSE($V$6,'Incident Log'!$E$9:$E$1008,'Incident Log'!$F$9:$F$1008,'Incident Log'!$G$9:$G$1008,'Incident Log'!$H$9:$H$1008,'Incident Log'!$I$9:$I$1008,'Incident Log'!$J$9:$J$1008,'Incident Log'!$K$9:$K$1008,'Incident Log'!$L$9:$L$1008,'Incident Log'!$M$9:$M$1008,'Incident Log'!$N$9:$N$1008,'Incident Log'!$O$9:$O$1008,'Incident Log'!$P$9:$P$1008,'Incident Log'!$V$9:$V$1008,'Incident Log'!$X$9:$X$1008,'Incident Log'!$Z$9:$Z$1008,'Incident Log'!$AF$9:$AF$1008),A15,CHOOSE($V$6,'Incident Log'!$E$9:$E$1008,'Incident Log'!$F$9:$F$1008,'Incident Log'!$G$9:$G$1008,'Incident Log'!$H$9:$H$1008,'Incident Log'!$I$9:$I$1008,'Incident Log'!$J$9:$J$1008,'Incident Log'!$K$9:$K$1008,'Incident Log'!$L$9:$L$1008,'Incident Log'!$M$9:$M$1008,'Incident Log'!$N$9:$N$1008,'Incident Log'!$O$9:$O$1008,'Incident Log'!$P$9:$P$1008,'Incident Log'!$W$9:$W$1008,'Incident Log'!$Y$9:$Y$1008,'Incident Log'!$Z$9:$Z$1008,'Incident Log'!$AF$9:$AF$1008),A15),0))) -> 0 | C15: =IF(A15="","",COUNTIFS($B$13:$B$212,">"&B15)+COUNTIFS($B$13:B15,B15)) -> 3 | U15: =IF(COUNTIFS($C$13:$C$212,3)=0,"",INDEX($A$13:$A$212,MATCH(3,$C$13:$C$212,0))) -> Property damage | V15: =IF(U15="","",INDEX($B$13:$B$212,MATCH(3,$C$13:$C$212,0))) -> 0
A16: =IF(CHOOSE($V$6,Setup!$F$16,Setup!$G$16,Setup!$H$16,Setup!$I$16,Setup!$J$16,Setup!$K$16,Setup!$L$16,Setup!$M$16,Setup!$N$16,Setup!$O$16,Setup!$P$16,Setup!$Q$16,Setup!$R$16,Setup!$S$16,Setup!$T$16,Setup!$U$16)="","",CHOOSE($V$6,Setup!$F$16,Setup!$G$16,Setup!$H$16,Setup!$I$16,Setup!$J$16,Setup!$K$16,Setup!$L$16,Setup!$M$16,Setup!$N$16,Setup!$O$16,Setup!$P$16,Setup!$Q$16,Setup!$R$16,Setup!$S$16,Setup!$T$16,Setup!$U$16)) -> Equipment damage | B16: =IF(A16="","",IF($V$7=1,COUNTIFS('Incident Log'!$C$9:$C$1008,">="&DATE(Dashboard!$B$6,1,1),'Incident Log'!$C$9:$C$1008,"<"&DATE(Dashboard!$B$6,Dashboard!$F$6+1,1),'Incident Log'!$A$9:$A$1008,"<>",CHOOSE($V$6,'Incident Log'!$E$9:$E$1008,'Incident Log'!$F$9:$F$1008,'Incident Log'!$G$9:$G$1008,'Incident Log'!$H$9:$H$1008,'Incident Log'!$I$9:$I$1008,'Incident Log'!$J$9:$J$1008,'Incident Log'!$K$9:$K$1008,'Incident Log'!$L$9:$L$1008,'Incident Log'!$M$9:$M$1008,'Incident Log'!$N$9:$N$1008,'Incident Log'!$O$9:$O$1008,'Incident Log'!$P$9:$P$1008,'Incident Log'!$V$9:$V$1008,'Incident Log'!$X$9:$X$1008,'Incident Log'!$Z$9:$Z$1008,'Incident Log'!$AF$9:$AF$1008),A16)+IF(OR($V$6=13,$V$6=14),COUNTIFS('Incident Log'!$C$9:$C$1008,">="&DATE(Dashboard!$B$6,1,1),'Incident Log'!$C$9:$C$1008,"<"&DATE(Dashboard!$B$6,Dashboard!$F$6+1,1),'Incident Log'!$A$9:$A$1008,"<>",CHOOSE($V$6,'Incident Log'!$E$9:$E$1008,'Incident Log'!$F$9:$F$1008,'Incident Log'!$G$9:$G$1008,'Incident Log'!$H$9:$H$1008,'Incident Log'!$I$9:$I$1008,'Incident Log'!$J$9:$J$1008,'Incident Log'!$K$9:$K$1008,'Incident Log'!$L$9:$L$1008,'Incident Log'!$M$9:$M$1008,'Incident Log'!$N$9:$N$1008,'Incident Log'!$O$9:$O$1008,'Incident Log'!$P$9:$P$1008,'Incident Log'!$W$9:$W$1008,'Incident Log'!$Y$9:$Y$1008,'Incident Log'!$Z$9:$Z$1008,'Incident Log'!$AF$9:$AF$1008),A16)-COUNTIFS('Incident Log'!$C$9:$C$1008,">="&DATE(Dashboard!$B$6,1,1),'Incident Log'!$C$9:$C$1008,"<"&DATE(Dashboard!$B$6,Dashboard!$F$6+1,1),'Incident Log'!$A$9:$A$1008,"<>",CHOOSE($V$6,'Incident Log'!$E$9:$E$1008,'Incident Log'!$F$9:$F$1008,'Incident Log'!$G$9:$G$1008,'Incident Log'!$H$9:$H$1008,'Incident Log'!$I$9:$I$1008,'Incident Log'!$J$9:$J$1008,'Incident Log'!$K$9:$K$1008,'Incident Log'!$L$9:$L$1008,'Incident Log'!$M$9:$M$1008,'Incident Log'!$N$9:$N$1008,'Incident Log'!$O$9:$O$1008,'Incident Log'!$P$9:$P$1008,'Incident Log'!$V$9:$V$1008,'Incident Log'!$X$9:$X$1008,'Incident Log'!$Z$9:$Z$1008,'Incident Log'!$AF$9:$AF$1008),A16,CHOOSE($V$6,'Incident Log'!$E$9:$E$1008,'Incident Log'!$F$9:$F$1008,'Incident Log'!$G$9:$G$1008,'Incident Log'!$H$9:$H$1008,'Incident Log'!$I$9:$I$1008,'Incident Log'!$J$9:$J$1008,'Incident Log'!$K$9:$K$1008,'Incident Log'!$L$9:$L$1008,'Incident Log'!$M$9:$M$1008,'Incident Log'!$N$9:$N$1008,'Incident Log'!$O$9:$O$1008,'Incident Log'!$P$9:$P$1008,'Incident Log'!$W$9:$W$1008,'Incident Log'!$Y$9:$Y$1008,'Incident Log'!$Z$9:$Z$1008,'Incident Log'!$AF$9:$AF$1008),A16),0),SUMIFS(CHOOSE($V$7,'Incident Log'!$AG$9:$AG$1008,'Incident Log'!$AG$9:$AG$1008,'Incident Log'!$AH$9:$AH$1008,'Incident Log'!$Q$9:$Q$1008,'Incident Log'!$R$9:$R$1008,'Incident Log'!$S$9:$S$1008),'Incident Log'!$C$9:$C$1008,">="&DATE(Dashboard!$B$6,1,1),'Incident Log'!$C$9:$C$1008,"<"&DATE(Dashboard!$B$6,Dashboard!$F$6+1,1),'Incident Log'!$A$9:$A$1008,"<>",CHOOSE($V$6,'Incident Log'!$E$9:$E$1008,'Incident Log'!$F$9:$F$1008,'Incident Log'!$G$9:$G$1008,'Incident Log'!$H$9:$H$1008,'Incident Log'!$I$9:$I$1008,'Incident Log'!$J$9:$J$1008,'Incident Log'!$K$9:$K$1008,'Incident Log'!$L$9:$L$1008,'Incident Log'!$M$9:$M$1008,'Incident Log'!$N$9:$N$1008,'Incident Log'!$O$9:$O$1008,'Incident Log'!$P$9:$P$1008,'Incident Log'!$V$9:$V$1008,'Incident Log'!$X$9:$X$1008,'Incident Log'!$Z$9:$Z$1008,'Incident Log'!$AF$9:$AF$1008),A16)+IF(OR($V$6=13,$V$6=14),SUMIFS(CHOOSE($V$7,'Incident Log'!$AG$9:$AG$1008,'Incident Log'!$AG$9:$AG$1008,'Incident Log'!$AH$9:$AH$1008,'Incident Log'!$Q$9:$Q$1008,'Incident Log'!$R$9:$R$1008,'Incident Log'!$S$9:$S$1008),'Incident Log'!$C$9:$C$1008,">="&DATE(Dashboard!$B$6,1,1),'Incident Log'!$C$9:$C$1008,"<"&DATE(Dashboard!$B$6,Dashboard!$F$6+1,1),'Incident Log'!$A$9:$A$1008,"<>",CHOOSE($V$6,'Incident Log'!$E$9:$E$1008,'Incident Log'!$F$9:$F$1008,'Incident Log'!$G$9:$G$1008,'Incident Log'!$H$9:$H$1008,'Incident Log'!$I$9:$I$1008,'Incident Log'!$J$9:$J$1008,'Incident Log'!$K$9:$K$1008,'Incident Log'!$L$9:$L$1008,'Incident Log'!$M$9:$M$1008,'Incident Log'!$N$9:$N$1008,'Incident Log'!$O$9:$O$1008,'Incident Log'!$P$9:$P$1008,'Incident Log'!$W$9:$W$1008,'Incident Log'!$Y$9:$Y$1008,'Incident Log'!$Z$9:$Z$1008,'Incident Log'!$AF$9:$AF$1008),A16)-SUMIFS(CHOOSE($V$7,'Incident Log'!$AG$9:$AG$1008,'Incident Log'!$AG$9:$AG$1008,'Incident Log'!$AH$9:$AH$1008,'Incident Log'!$Q$9:$Q$1008,'Incident Log'!$R$9:$R$1008,'Incident Log'!$S$9:$S$1008),'Incident Log'!$C$9:$C$1008,">="&DATE(Dashboard!$B$6,1,1),'Incident Log'!$C$9:$C$1008,"<"&DATE(Dashboard!$B$6,Dashboard!$F$6+1,1),'Incident Log'!$A$9:$A$1008,"<>",CHOOSE($V$6,'Incident Log'!$E$9:$E$1008,'Incident Log'!$F$9:$F$1008,'Incident Log'!$G$9:$G$1008,'Incident Log'!$H$9:$H$1008,'Incident Log'!$I$9:$I$1008,'Incident Log'!$J$9:$J$1008,'Incident Log'!$K$9:$K$1008,'Incident Log'!$L$9:$L$1008,'Incident Log'!$M$9:$M$1008,'Incident Log'!$N$9:$N$1008,'Incident Log'!$O$9:$O$1008,'Incident Log'!$P$9:$P$1008,'Incident Log'!$V$9:$V$1008,'Incident Log'!$X$9:$X$1008,'Incident Log'!$Z$9:$Z$1008,'Incident Log'!$AF$9:$AF$1008),A16,CHOOSE($V$6,'Incident Log'!$E$9:$E$1008,'Incident Log'!$F$9:$F$1008,'Incident Log'!$G$9:$G$1008,'Incident Log'!$H$9:$H$1008,'Incident Log'!$I$9:$I$1008,'Incident Log'!$J$9:$J$1008,'Incident Log'!$K$9:$K$1008,'Incident Log'!$L$9:$L$1008,'Incident Log'!$M$9:$M$1008,'Incident Log'!$N$9:$N$1008,'Incident Log'!$O$9:$O$1008,'Incident Log'!$P$9:$P$1008,'Incident Log'!$W$9:$W$1008,'Incident Log'!$Y$9:$Y$1008,'Incident Log'!$Z$9:$Z$1008,'Incident Log'!$AF$9:$AF$1008),A16),0))) -> 0 | C16: =IF(A16="","",COUNTIFS($B$13:$B$212,">"&B16)+COUNTIFS($B$13:B16,B16)) -> 4 | U16: =IF(COUNTIFS($C$13:$C$212,4)=0,"",INDEX($A$13:$A$212,MATCH(4,$C$13:$C$212,0))) -> Equipment damage | V16: =IF(U16="","",INDEX($B$13:$B$212,MATCH(4,$C$13:$C$212,0))) -> 0
A17: =IF(CHOOSE($V$6,Setup!$F$17,Setup!$G$17,Setup!$H$17,Setup!$I$17,Setup!$J$17,Setup!$K$17,Setup!$L$17,Setup!$M$17,Setup!$N$17,Setup!$O$17,Setup!$P$17,Setup!$Q$17,Setup!$R$17,Setup!$S$17,Setup!$T$17,Setup!$U$17)="","",CHOOSE($V$6,Setup!$F$17,Setup!$G$17,Setup!$H$17,Setup!$I$17,Setup!$J$17,Setup!$K$17,Setup!$L$17,Setup!$M$17,Setup!$N$17,Setup!$O$17,Setup!$P$17,Setup!$Q$17,Setup!$R$17,Setup!$S$17,Setup!$T$17,Setup!$U$17)) -> Vehicle event | B17: =IF(A17="","",IF($V$7=1,COUNTIFS('Incident Log'!$C$9:$C$1008,">="&DATE(Dashboard!$B$6,1,1),'Incident Log'!$C$9:$C$1008,"<"&DATE(Dashboard!$B$6,Dashboard!$F$6+1,1),'Incident Log'!$A$9:$A$1008,"<>",CHOOSE($V$6,'Incident Log'!$E$9:$E$1008,'Incident Log'!$F$9:$F$1008,'Incident Log'!$G$9:$G$1008,'Incident Log'!$H$9:$H$1008,'Incident Log'!$I$9:$I$1008,'Incident Log'!$J$9:$J$1008,'Incident Log'!$K$9:$K$1008,'Incident Log'!$L$9:$L$1008,'Incident Log'!$M$9:$M$1008,'Incident Log'!$N$9:$N$1008,'Incident Log'!$O$9:$O$1008,'Incident Log'!$P$9:$P$1008,'Incident Log'!$V$9:$V$1008,'Incident Log'!$X$9:$X$1008,'Incident Log'!$Z$9:$Z$1008,'Incident Log'!$AF$9:$AF$1008),A17)+IF(OR($V$6=13,$V$6=14),COUNTIFS('Incident Log'!$C$9:$C$1008,">="&DATE(Dashboard!$B$6,1,1),'Incident Log'!$C$9:$C$1008,"<"&DATE(Dashboard!$B$6,Dashboard!$F$6+1,1),'Incident Log'!$A$9:$A$1008,"<>",CHOOSE($V$6,'Incident Log'!$E$9:$E$1008,'Incident Log'!$F$9:$F$1008,'Incident Log'!$G$9:$G$1008,'Incident Log'!$H$9:$H$1008,'Incident Log'!$I$9:$I$1008,'Incident Log'!$J$9:$J$1008,'Incident Log'!$K$9:$K$1008,'Incident Log'!$L$9:$L$1008,'Incident Log'!$M$9:$M$1008,'Incident Log'!$N$9:$N$1008,'Incident Log'!$O$9:$O$1008,'Incident Log'!$P$9:$P$1008,'Incident Log'!$W$9:$W$1008,'Incident Log'!$Y$9:$Y$1008,'Incident Log'!$Z$9:$Z$1008,'Incident Log'!$AF$9:$AF$1008),A17)-COUNTIFS('Incident Log'!$C$9:$C$1008,">="&DATE(Dashboard!$B$6,1,1),'Incident Log'!$C$9:$C$1008,"<"&DATE(Dashboard!$B$6,Dashboard!$F$6+1,1),'Incident Log'!$A$9:$A$1008,"<>",CHOOSE($V$6,'Incident Log'!$E$9:$E$1008,'Incident Log'!$F$9:$F$1008,'Incident Log'!$G$9:$G$1008,'Incident Log'!$H$9:$H$1008,'Incident Log'!$I$9:$I$1008,'Incident Log'!$J$9:$J$1008,'Incident Log'!$K$9:$K$1008,'Incident Log'!$L$9:$L$1008,'Incident Log'!$M$9:$M$1008,'Incident Log'!$N$9:$N$1008,'Incident Log'!$O$9:$O$1008,'Incident Log'!$P$9:$P$1008,'Incident Log'!$V$9:$V$1008,'Incident Log'!$X$9:$X$1008,'Incident Log'!$Z$9:$Z$1008,'Incident Log'!$AF$9:$AF$1008),A17,CHOOSE($V$6,'Incident Log'!$E$9:$E$1008,'Incident Log'!$F$9:$F$1008,'Incident Log'!$G$9:$G$1008,'Incident Log'!$H$9:$H$1008,'Incident Log'!$I$9:$I$1008,'Incident Log'!$J$9:$J$1008,'Incident Log'!$K$9:$K$1008,'Incident Log'!$L$9:$L$1008,'Incident Log'!$M$9:$M$1008,'Incident Log'!$N$9:$N$1008,'Incident Log'!$O$9:$O$1008,'Incident Log'!$P$9:$P$1008,'Incident Log'!$W$9:$W$1008,'Incident Log'!$Y$9:$Y$1008,'Incident Log'!$Z$9:$Z$1008,'Incident Log'!$AF$9:$AF$1008),A17),0),SUMIFS(CHOOSE($V$7,'Incident Log'!$AG$9:$AG$1008,'Incident Log'!$AG$9:$AG$1008,'Incident Log'!$AH$9:$AH$1008,'Incident Log'!$Q$9:$Q$1008,'Incident Log'!$R$9:$R$1008,'Incident Log'!$S$9:$S$1008),'Incident Log'!$C$9:$C$1008,">="&DATE(Dashboard!$B$6,1,1),'Incident Log'!$C$9:$C$1008,"<"&DATE(Dashboard!$B$6,Dashboard!$F$6+1,1),'Incident Log'!$A$9:$A$1008,"<>",CHOOSE($V$6,'Incident Log'!$E$9:$E$1008,'Incident Log'!$F$9:$F$1008,'Incident Log'!$G$9:$G$1008,'Incident Log'!$H$9:$H$1008,'Incident Log'!$I$9:$I$1008,'Incident Log'!$J$9:$J$1008,'Incident Log'!$K$9:$K$1008,'Incident Log'!$L$9:$L$1008,'Incident Log'!$M$9:$M$1008,'Incident Log'!$N$9:$N$1008,'Incident Log'!$O$9:$O$1008,'Incident Log'!$P$9:$P$1008,'Incident Log'!$V$9:$V$1008,'Incident Log'!$X$9:$X$1008,'Incident Log'!$Z$9:$Z$1008,'Incident Log'!$AF$9:$AF$1008),A17)+IF(OR($V$6=13,$V$6=14),SUMIFS(CHOOSE($V$7,'Incident Log'!$AG$9:$AG$1008,'Incident Log'!$AG$9:$AG$1008,'Incident Log'!$AH$9:$AH$1008,'Incident Log'!$Q$9:$Q$1008,'Incident Log'!$R$9:$R$1008,'Incident Log'!$S$9:$S$1008),'Incident Log'!$C$9:$C$1008,">="&DATE(Dashboard!$B$6,1,1),'Incident Log'!$C$9:$C$1008,"<"&DATE(Dashboard!$B$6,Dashboard!$F$6+1,1),'Incident Log'!$A$9:$A$1008,"<>",CHOOSE($V$6,'Incident Log'!$E$9:$E$1008,'Incident Log'!$F$9:$F$1008,'Incident Log'!$G$9:$G$1008,'Incident Log'!$H$9:$H$1008,'Incident Log'!$I$9:$I$1008,'Incident Log'!$J$9:$J$1008,'Incident Log'!$K$9:$K$1008,'Incident Log'!$L$9:$L$1008,'Incident Log'!$M$9:$M$1008,'Incident Log'!$N$9:$N$1008,'Incident Log'!$O$9:$O$1008,'Incident Log'!$P$9:$P$1008,'Incident Log'!$W$9:$W$1008,'Incident Log'!$Y$9:$Y$1008,'Incident Log'!$Z$9:$Z$1008,'Incident Log'!$AF$9:$AF$1008),A17)-SUMIFS(CHOOSE($V$7,'Incident Log'!$AG$9:$AG$1008,'Incident Log'!$AG$9:$AG$1008,'Incident Log'!$AH$9:$AH$1008,'Incident Log'!$Q$9:$Q$1008,'Incident Log'!$R$9:$R$1008,'Incident Log'!$S$9:$S$1008),'Incident Log'!$C$9:$C$1008,">="&DATE(Dashboard!$B$6,1,1),'Incident Log'!$C$9:$C$1008,"<"&DATE(Dashboard!$B$6,Dashboard!$F$6+1,1),'Incident Log'!$A$9:$A$1008,"<>",CHOOSE($V$6,'Incident Log'!$E$9:$E$1008,'Incident Log'!$F$9:$F$1008,'Incident Log'!$G$9:$G$1008,'Incident Log'!$H$9:$H$1008,'Incident Log'!$I$9:$I$1008,'Incident Log'!$J$9:$J$1008,'Incident Log'!$K$9:$K$1008,'Incident Log'!$L$9:$L$1008,'Incident Log'!$M$9:$M$1008,'Incident Log'!$N$9:$N$1008,'Incident Log'!$O$9:$O$1008,'Incident Log'!$P$9:$P$1008,'Incident Log'!$V$9:$V$1008,'Incident Log'!$X$9:$X$1008,'Incident Log'!$Z$9:$Z$1008,'Incident Log'!$AF$9:$AF$1008),A17,CHOOSE($V$6,'Incident Log'!$E$9:$E$1008,'Incident Log'!$F$9:$F$1008,'Incident Log'!$G$9:$G$1008,'Incident Log'!$H$9:$H$1008,'Incident Log'!$I$9:$I$1008,'Incident Log'!$J$9:$J$1008,'Incident Log'!$K$9:$K$1008,'Incident Log'!$L$9:$L$1008,'Incident Log'!$M$9:$M$1008,'Incident Log'!$N$9:$N$1008,'Incident Log'!$O$9:$O$1008,'Incident Log'!$P$9:$P$1008,'Incident Log'!$W$9:$W$1008,'Incident Log'!$Y$9:$Y$1008,'Incident Log'!$Z$9:$Z$1008,'Incident Log'!$AF$9:$AF$1008),A17),0))) -> 0 | C17: =IF(A17="","",COUNTIFS($B$13:$B$212,">"&B17)+COUNTIFS($B$13:B17,B17)) -> 5 | U17: =IF(COUNTIFS($C$13:$C$212,5)=0,"",INDEX($A$13:$A$212,MATCH(5,$C$13:$C$212,0))) -> Vehicle event | V17: =IF(U17="","",INDEX($B$13:$B$212,MATCH(5,$C$13:$C$212,0))) -> 0
