Workbook
Name List_F: Setup!$F$13:$F$212
Name List_G: Setup!$G$13:$G$212
Name List_H: Setup!$H$13:$H$212
Name List_I: Setup!$I$13:$I$212
Name List_J: Setup!$J$13:$J$212
Name List_K: Setup!$K$13:$K$212
Name List_L: Setup!$L$13:$L$212
Name List_M: Setup!$M$13:$M$212
Name List_N: Setup!$N$13:$N$212
Name List_O: Setup!$O$13:$O$212
Name List_P: Setup!$P$13:$P$212
Name List_Q: Setup!$Q$13:$Q$212
Name List_R: Setup!$R$13:$R$212
Name List_S: Setup!$S$13:$S$212
Name List_T: Setup!$T$13:$T$212
Name List_U: Setup!$U$13:$U$212

Sheet Dashboard
A2: Incident trends | B2: Incident trends | C2: Incident trends | D2: Incident trends | E2: Incident trends | F2: Incident trends | G2: Incident trends | H2: YOUR LOGO HERE | I2: YOUR LOGO HERE | J2: YOUR LOGO HERE | M2: Prepared by 100% Safety Inc. | AE2: =MATCH($B$6,'Monthly Statistics'!$A$60:$A$63,0) -> 1
A3: Incident trends | B3: Incident trends | C3: Incident trends | D3: Incident trends | E3: Incident trends | F3: Incident trends | G3: Incident trends | H3: YOUR LOGO HERE | I3: YOUR LOGO HERE | J3: YOUR LOGO HERE
A4: Company / project | B4: Company / project | H4: YOUR LOGO HERE | I4: YOUR LOGO HERE | J4: YOUR LOGO HERE
A6: Year | B6: 2026 | D6: Through month | F6: 9 | H6: Rate basis | I6: =Setup!B6 -> 200000 | M6: Today | N6: =TODAY() -> 46312
A7: =IF(INDEX('Monthly Statistics'!$B$60:$B$63,$AE$2)=F6,"Reporting complete through "&TEXT(DATE(B6,F6,1),"mmm yyyy"),"Complete hours and review incident records: "&INDEX('Monthly Statistics'!$B$60:$B$63,$AE$2)&" of "&F6&" months ready. Rates remain blank until complete.") -> Complete hours and review incident records: 0 of 9 months ready. Rates remain blank until complete.
A9: TRIF | B9: TRIF | C9: TRIF | D9: TRIF | E9: LTIF | F9: LTIF | G9: LTIF | H9: LTIF | I9: Unique events | J9: Unique events | K9: Unique events | L9: Unique events | M9: Recordable cases | N9: Recordable cases | O9: Recordable cases | P9: Recordable cases
A10: =IF(INDEX('Monthly Statistics'!$G$60:$G$63,$AE$2)="","—",INDEX('Monthly Statistics'!$G$60:$G$63,$AE$2)) -> — | E10: =IF(INDEX('Monthly Statistics'!$H$60:$H$63,$AE$2)="","—",INDEX('Monthly Statistics'!$H$60:$H$63,$AE$2)) -> — | I10: =INDEX('Monthly Statistics'!$D$60:$D$63,$AE$2) -> 0 | M10: =INDEX('Monthly Statistics'!$E$60:$E$63,$AE$2) -> 0
A14: Hours worked | B14: Hours worked | C14: Hours worked | D14: Lost-time cases | E14: Lost-time cases | F14: Lost-time cases | G14: Lost days | H14: Lost days | I14: Lost days | J14: Open actions | K14: Open actions | L14: Open actions | M14: Overdue actions | N14: Overdue actions | O14: Overdue actions | P14: Overdue actions
A15: =INDEX('Monthly Statistics'!$C$60:$C$63,$AE$2) -> 0 | D15: =INDEX('Monthly Statistics'!$F$60:$F$63,$AE$2) -> 0 | G15: =INDEX('Monthly Statistics'!$I$60:$I$63,$AE$2) -> 0 | J15: =COUNTIFS(Actions!$M$9:$M$1008,">="&DATE($B$6,1,1),Actions!$M$9:$M$1008,"<"&DATE($B$6,$F$6+1,1),Actions!$K$9:$K$1008,"<>Closed",Actions!$K$9:$K$1008,"<>") -> 0 | M15: =COUNTIFS(Actions!$M$9:$M$1008,">="&DATE($B$6,1,1),Actions!$M$9:$M$1008,"<"&DATE($B$6,$F$6+1,1),Actions!$K$9:$K$1008,"Overdue") -> 0
A16: ="Rates per "&TEXT(Setup!B6,"#,##0")&" hours. Employees + contractors. Actions show current status for incidents in the selected period." -> Rates per 200,000 hours. Employees + contractors. Actions show current status for incidents in the selected period.
R18: Month | S18: Recordable cases | T18: Lost-time cases | U18: TRIF | V18: LTIF | X18: Month | Y18: TRIF | Z18: LTIF
R19: =TEXT(DATE($B$6,1,1),"mmm") -> Jan | S19: =IF(1<=$F$6,INDEX('Monthly Statistics'!$N$9:$N$56,MATCH(DATE($B$6,1,1),'Monthly Statistics'!$A$9:$A$56,0)),NA()) -> 0 | T19: =IF(1<=$F$6,INDEX('Monthly Statistics'!$O$9:$O$56,MATCH(DATE($B$6,1,1),'Monthly Statistics'!$A$9:$A$56,0)),NA()) -> 0 | U19: =IF(OR(1>$F$6,INDEX('Monthly Statistics'!$U$9:$U$56,MATCH(DATE($B$6,1,1),'Monthly Statistics'!$A$9:$A$56,0))=""),NA(),INDEX('Monthly Statistics'!$U$9:$U$56,MATCH(DATE($B$6,1,1),'Monthly Statistics'!$A$9:$A$56,0))) -> #N/A | V19: =IF(OR(1>$F$6,INDEX('Monthly Statistics'!$V$9:$V$56,MATCH(DATE($B$6,1,1),'Monthly Statistics'!$A$9:$A$56,0))=""),NA(),INDEX('Monthly Statistics'!$V$9:$V$56,MATCH(DATE($B$6,1,1),'Monthly Statistics'!$A$9:$A$56,0))) -> #N/A | X19: =R19 -> Jan | Y19: =U19 -> #N/A | Z19: =V19 -> #N/A
R20: =TEXT(DATE($B$6,2,1),"mmm") -> Feb | S20: =IF(2<=$F$6,INDEX('Monthly Statistics'!$N$9:$N$56,MATCH(DATE($B$6,2,1),'Monthly Statistics'!$A$9:$A$56,0)),NA()) -> 0 | T20: =IF(2<=$F$6,INDEX('Monthly Statistics'!$O$9:$O$56,MATCH(DATE($B$6,2,1),'Monthly Statistics'!$A$9:$A$56,0)),NA()) -> 0 | U20: =IF(OR(2>$F$6,INDEX('Monthly Statistics'!$U$9:$U$56,MATCH(DATE($B$6,2,1),'Monthly Statistics'!$A$9:$A$56,0))=""),NA(),INDEX('Monthly Statistics'!$U$9:$U$56,MATCH(DATE($B$6,2,1),'Monthly Statistics'!$A$9:$A$56,0))) -> #N/A | V20: =IF(OR(2>$F$6,INDEX('Monthly Statistics'!$V$9:$V$56,MATCH(DATE($B$6,2,1),'Monthly Statistics'!$A$9:$A$56,0))=""),NA(),INDEX('Monthly Statistics'!$V$9:$V$56,MATCH(DATE($B$6,2,1),'Monthly Statistics'!$A$9:$A$56,0))) -> #N/A | X20: =R20 -> Feb | Y20: =U20 -> #N/A | Z20: =V20 -> #N/A
R21: =TEXT(DATE($B$6,3,1),"mmm") -> Mar | S21: =IF(3<=$F$6,INDEX('Monthly Statistics'!$N$9:$N$56,MATCH(DATE($B$6,3,1),'Monthly Statistics'!$A$9:$A$56,0)),NA()) -> 0 | T21: =IF(3<=$F$6,INDEX('Monthly Statistics'!$O$9:$O$56,MATCH(DATE($B$6,3,1),'Monthly Statistics'!$A$9:$A$56,0)),NA()) -> 0 | U21: =IF(OR(3>$F$6,INDEX('Monthly Statistics'!$U$9:$U$56,MATCH(DATE($B$6,3,1),'Monthly Statistics'!$A$9:$A$56,0))=""),NA(),INDEX('Monthly Statistics'!$U$9:$U$56,MATCH(DATE($B$6,3,1),'Monthly Statistics'!$A$9:$A$56,0))) -> #N/A | V21: =IF(OR(3>$F$6,INDEX('Monthly Statistics'!$V$9:$V$56,MATCH(DATE($B$6,3,1),'Monthly Statistics'!$A$9:$A$56,0))=""),NA(),INDEX('Monthly Statistics'!$V$9:$V$56,MATCH(DATE($B$6,3,1),'Monthly Statistics'!$A$9:$A$56,0))) -> #N/A | X21: =R21 -> Mar | Y21: =U21 -> #N/A | Z21: =V21 -> #N/A
R22: =TEXT(DATE($B$6,4,1),"mmm") -> Apr | S22: =IF(4<=$F$6,INDEX('Monthly Statistics'!$N$9:$N$56,MATCH(DATE($B$6,4,1),'Monthly Statistics'!$A$9:$A$56,0)),NA()) -> 0 | T22: =IF(4<=$F$6,INDEX('Monthly Statistics'!$O$9:$O$56,MATCH(DATE($B$6,4,1),'Monthly Statistics'!$A$9:$A$56,0)),NA()) -> 0 | U22: =IF(OR(4>$F$6,INDEX('Monthly Statistics'!$U$9:$U$56,MATCH(DATE($B$6,4,1),'Monthly Statistics'!$A$9:$A$56,0))=""),NA(),INDEX('Monthly Statistics'!$U$9:$U$56,MATCH(DATE($B$6,4,1),'Monthly Statistics'!$A$9:$A$56,0))) -> #N/A | V22: =IF(OR(4>$F$6,INDEX('Monthly Statistics'!$V$9:$V$56,MATCH(DATE($B$6,4,1),'Monthly Statistics'!$A$9:$A$56,0))=""),NA(),INDEX('Monthly Statistics'!$V$9:$V$56,MATCH(DATE($B$6,4,1),'Monthly Statistics'!$A$9:$A$56,0))) -> #N/A | X22: =R22 -> Apr | Y22: =U22 -> #N/A | Z22: =V22 -> #N/A
R23: =TEXT(DATE($B$6,5,1),"mmm") -> May | S23: =IF(5<=$F$6,INDEX('Monthly Statistics'!$N$9:$N$56,MATCH(DATE($B$6,5,1),'Monthly Statistics'!$A$9:$A$56,0)),NA()) -> 0 | T23: =IF(5<=$F$6,INDEX('Monthly Statistics'!$O$9:$O$56,MATCH(DATE($B$6,5,1),'Monthly Statistics'!$A$9:$A$56,0)),NA()) -> 0 | U23: =IF(OR(5>$F$6,INDEX('Monthly Statistics'!$U$9:$U$56,MATCH(DATE($B$6,5,1),'Monthly Statistics'!$A$9:$A$56,0))=""),NA(),INDEX('Monthly Statistics'!$U$9:$U$56,MATCH(DATE($B$6,5,1),'Monthly Statistics'!$A$9:$A$56,0))) -> #N/A | V23: =IF(OR(5>$F$6,INDEX('Monthly Statistics'!$V$9:$V$56,MATCH(DATE($B$6,5,1),'Monthly Statistics'!$A$9:$A$56,0))=""),NA(),INDEX('Monthly Statistics'!$V$9:$V$56,MATCH(DATE($B$6,5,1),'Monthly Statistics'!$A$9:$A$56,0))) -> #N/A | X23: =R23 -> May | Y23: =U23 -> #N/A | Z23: =V23 -> #N/A
R24: =TEXT(DATE($B$6,6,1),"mmm") -> Jun | S24: =IF(6<=$F$6,INDEX('Monthly Statistics'!$N$9:$N$56,MATCH(DATE($B$6,6,1),'Monthly Statistics'!$A$9:$A$56,0)),NA()) -> 0 | T24: =IF(6<=$F$6,INDEX('Monthly Statistics'!$O$9:$O$56,MATCH(DATE($B$6,6,1),'Monthly Statistics'!$A$9:$A$56,0)),NA()) -> 0 | U24: =IF(OR(6>$F$6,INDEX('Monthly Statistics'!$U$9:$U$56,MATCH(DATE($B$6,6,1),'Monthly Statistics'!$A$9:$A$56,0))=""),NA(),INDEX('Monthly Statistics'!$U$9:$U$56,MATCH(DATE($B$6,6,1),'Monthly Statistics'!$A$9:$A$56,0))) -> #N/A | V24: =IF(OR(6>$F$6,INDEX('Monthly Statistics'!$V$9:$V$56,MATCH(DATE($B$6,6,1),'Monthly Statistics'!$A$9:$A$56,0))=""),NA(),INDEX('Monthly Statistics'!$V$9:$V$56,MATCH(DATE($B$6,6,1),'Monthly Statistics'!$A$9:$A$56,0))) -> #N/A | X24: =R24 -> Jun | Y24: =U24 -> #N/A | Z24: =V24 -> #N/A
R25: =TEXT(DATE($B$6,7,1),"mmm") -> Jul | S25: =IF(7<=$F$6,INDEX('Monthly Statistics'!$N$9:$N$56,MATCH(DATE($B$6,7,1),'Monthly Statistics'!$A$9:$A$56,0)),NA()) -> 0 | T25: =IF(7<=$F$6,INDEX('Monthly Statistics'!$O$9:$O$56,MATCH(DATE($B$6,7,1),'Monthly Statistics'!$A$9:$A$56,0)),NA()) -> 0 | U25: =IF(OR(7>$F$6,INDEX('Monthly Statistics'!$U$9:$U$56,MATCH(DATE($B$6,7,1),'Monthly Statistics'!$A$9:$A$56,0))=""),NA(),INDEX('Monthly Statistics'!$U$9:$U$56,MATCH(DATE($B$6,7,1),'Monthly Statistics'!$A$9:$A$56,0))) -> #N/A | V25: =IF(OR(7>$F$6,INDEX('Monthly Statistics'!$V$9:$V$56,MATCH(DATE($B$6,7,1),'Monthly Statistics'!$A$9:$A$56,0))=""),NA(),INDEX('Monthly Statistics'!$V$9:$V$56,MATCH(DATE($B$6,7,1),'Monthly Statistics'!$A$9:$A$56,0))) -> #N/A | X25: =R25 -> Jul | Y25: =U25 -> #N/A | Z25: =V25 -> #N/A
R26: =TEXT(DATE($B$6,8,1),"mmm") -> Aug | S26: =IF(8<=$F$6,INDEX('Monthly Statistics'!$N$9:$N$56,MATCH(DATE($B$6,8,1),'Monthly Statistics'!$A$9:$A$56,0)),NA()) -> 0 | T26: =IF(8<=$F$6,INDEX('Monthly Statistics'!$O$9:$O$56,MATCH(DATE($B$6,8,1),'Monthly Statistics'!$A$9:$A$56,0)),NA()) -> 0 | U26: =IF(OR(8>$F$6,INDEX('Monthly Statistics'!$U$9:$U$56,MATCH(DATE($B$6,8,1),'Monthly Statistics'!$A$9:$A$56,0))=""),NA(),INDEX('Monthly Statistics'!$U$9:$U$56,MATCH(DATE($B$6,8,1),'Monthly Statistics'!$A$9:$A$56,0))) -> #N/A | V26: =IF(OR(8>$F$6,INDEX('Monthly Statistics'!$V$9:$V$56,MATCH(DATE($B$6,8,1),'Monthly Statistics'!$A$9:$A$56,0))=""),NA(),INDEX('Monthly Statistics'!$V$9:$V$56,MATCH(DATE($B$6,8,1),'Monthly Statistics'!$A$9:$A$56,0))) -> #N/A | X26: =R26 -> Aug | Y26: =U26 -> #N/A | Z26: =V26 -> #N/A
R27: =TEXT(DATE($B$6,9,1),"mmm") -> Sep | S27: =IF(9<=$F$6,INDEX('Monthly Statistics'!$N$9:$N$56,MATCH(DATE($B$6,9,1),'Monthly Statistics'!$A$9:$A$56,0)),NA()) -> 0 | T27: =IF(9<=$F$6,INDEX('Monthly Statistics'!$O$9:$O$56,MATCH(DATE($B$6,9,1),'Monthly Statistics'!$A$9:$A$56,0)),NA()) -> 0 | U27: =IF(OR(9>$F$6,INDEX('Monthly Statistics'!$U$9:$U$56,MATCH(DATE($B$6,9,1),'Monthly Statistics'!$A$9:$A$56,0))=""),NA(),INDEX('Monthly Statistics'!$U$9:$U$56,MATCH(DATE($B$6,9,1),'Monthly Statistics'!$A$9:$A$56,0))) -> #N/A | V27: =IF(OR(9>$F$6,INDEX('Monthly Statistics'!$V$9:$V$56,MATCH(DATE($B$6,9,1),'Monthly Statistics'!$A$9:$A$56,0))=""),NA(),INDEX('Monthly Statistics'!$V$9:$V$56,MATCH(DATE($B$6,9,1),'Monthly Statistics'!$A$9:$A$56,0))) -> #N/A | X27: =R27 -> Sep | Y27: =U27 -> #N/A | Z27: =V27 -> #N/A
R28: =TEXT(DATE($B$6,10,1),"mmm") -> Oct | S28: =IF(10<=$F$6,INDEX('Monthly Statistics'!$N$9:$N$56,MATCH(DATE($B$6,10,1),'Monthly Statistics'!$A$9:$A$56,0)),NA()) -> #N/A | T28: =IF(10<=$F$6,INDEX('Monthly Statistics'!$O$9:$O$56,MATCH(DATE($B$6,10,1),'Monthly Statistics'!$A$9:$A$56,0)),NA()) -> #N/A | U28: =IF(OR(10>$F$6,INDEX('Monthly Statistics'!$U$9:$U$56,MATCH(DATE($B$6,10,1),'Monthly Statistics'!$A$9:$A$56,0))=""),NA(),INDEX('Monthly Statistics'!$U$9:$U$56,MATCH(DATE($B$6,10,1),'Monthly Statistics'!$A$9:$A$56,0))) -> #N/A | V28: =IF(OR(10>$F$6,INDEX('Monthly Statistics'!$V$9:$V$56,MATCH(DATE($B$6,10,1),'Monthly Statistics'!$A$9:$A$56,0))=""),NA(),INDEX('Monthly Statistics'!$V$9:$V$56,MATCH(DATE($B$6,10,1),'Monthly Statistics'!$A$9:$A$56,0))) -> #N/A | X28: =R28 -> Oct | Y28: =U28 -> #N/A | Z28: =V28 -> #N/A
R29: =TEXT(DATE($B$6,11,1),"mmm") -> Nov | S29: =IF(11<=$F$6,INDEX('Monthly Statistics'!$N$9:$N$56,MATCH(DATE($B$6,11,1),'Monthly Statistics'!$A$9:$A$56,0)),NA()) -> #N/A | T29: =IF(11<=$F$6,INDEX('Monthly Statistics'!$O$9:$O$56,MATCH(DATE($B$6,11,1),'Monthly Statistics'!$A$9:$A$56,0)),NA()) -> #N/A | U29: =IF(OR(11>$F$6,INDEX('Monthly Statistics'!$U$9:$U$56,MATCH(DATE($B$6,11,1),'Monthly Statistics'!$A$9:$A$56,0))=""),NA(),INDEX('Monthly Statistics'!$U$9:$U$56,MATCH(DATE($B$6,11,1),'Monthly Statistics'!$A$9:$A$56,0))) -> #N/A | V29: =IF(OR(11>$F$6,INDEX('Monthly Statistics'!$V$9:$V$56,MATCH(DATE($B$6,11,1),'Monthly Statistics'!$A$9:$A$56,0))=""),NA(),INDEX('Monthly Statistics'!$V$9:$V$56,MATCH(DATE($B$6,11,1),'Monthly Statistics'!$A$9:$A$56,0))) -> #N/A | X29: =R29 -> Nov | Y29: =U29 -> #N/A | Z29: =V29 -> #N/A
R30: =TEXT(DATE($B$6,12,1),"mmm") -> Dec | S30: =IF(12<=$F$6,INDEX('Monthly Statistics'!$N$9:$N$56,MATCH(DATE($B$6,12,1),'Monthly Statistics'!$A$9:$A$56,0)),NA()) -> #N/A | T30: =IF(12<=$F$6,INDEX('Monthly Statistics'!$O$9:$O$56,MATCH(DATE($B$6,12,1),'Monthly Statistics'!$A$9:$A$56,0)),NA()) -> #N/A | U30: =IF(OR(12>$F$6,INDEX('Monthly Statistics'!$U$9:$U$56,MATCH(DATE($B$6,12,1),'Monthly Statistics'!$A$9:$A$56,0))=""),NA(),INDEX('Monthly Statistics'!$U$9:$U$56,MATCH(DATE($B$6,12,1),'Monthly Statistics'!$A$9:$A$56,0))) -> #N/A | V30: =IF(OR(12>$F$6,INDEX('Monthly Statistics'!$V$9:$V$56,MATCH(DATE($B$6,12,1),'Monthly Statistics'!$A$9:$A$56,0))=""),NA(),INDEX('Monthly Statistics'!$V$9:$V$56,MATCH(DATE($B$6,12,1),'Monthly Statistics'!$A$9:$A$56,0))) -> #N/A | X30: =R30 -> Dec | Y30: =U30 -> #N/A | Z30: =V30 -> #N/A
R35: Event category | S35: Case records | U35: Severity | V35: Actual | W35: Potential
R36: Injury / illness | S36: =COUNTIFS('Incident Log'!$C$9:$C$1008,">="&DATE($B$6,1,1),'Incident Log'!$C$9:$C$1008,"<"&DATE($B$6,$F$6+1,1),'Incident Log'!$H$9:$H$1008,R36) -> 0 | U36: 1 - Negligible | V36: =COUNTIFS('Incident Log'!$C$9:$C$1008,">="&DATE($B$6,1,1),'Incident Log'!$C$9:$C$1008,"<"&DATE($B$6,$F$6+1,1),'Incident Log'!$L$9:$L$1008,U36) -> 0 | W36: =COUNTIFS('Incident Log'!$C$9:$C$1008,">="&DATE($B$6,1,1),'Incident Log'!$C$9:$C$1008,"<"&DATE($B$6,$F$6+1,1),'Incident Log'!$M$9:$M$1008,U36) -> 0
R37: Near miss | S37: =COUNTIFS('Incident Log'!$C$9:$C$1008,">="&DATE($B$6,1,1),'Incident Log'!$C$9:$C$1008,"<"&DATE($B$6,$F$6+1,1),'Incident Log'!$H$9:$H$1008,R37) -> 0 | U37: 2 - Minor | V37: =COUNTIFS('Incident Log'!$C$9:$C$1008,">="&DATE($B$6,1,1),'Incident Log'!$C$9:$C$1008,"<"&DATE($B$6,$F$6+1,1),'Incident Log'!$L$9:$L$1008,U37) -> 0 | W37: =COUNTIFS('Incident Log'!$C$9:$C$1008,">="&DATE($B$6,1,1),'Incident Log'!$C$9:$C$1008,"<"&DATE($B$6,$F$6+1,1),'Incident Log'!$M$9:$M$1008,U37) -> 0
R38: Property damage | S38: =COUNTIFS('Incident Log'!$C$9:$C$1008,">="&DATE($B$6,1,1),'Incident Log'!$C$9:$C$1008,"<"&DATE($B$6,$F$6+1,1),'Incident Log'!$H$9:$H$1008,R38) -> 0 | U38: 3 - Moderate | V38: =COUNTIFS('Incident Log'!$C$9:$C$1008,">="&DATE($B$6,1,1),'Incident Log'!$C$9:$C$1008,"<"&DATE($B$6,$F$6+1,1),'Incident Log'!$L$9:$L$1008,U38) -> 0 | W38: =COUNTIFS('Incident Log'!$C$9:$C$1008,">="&DATE($B$6,1,1),'Incident Log'!$C$9:$C$1008,"<"&DATE($B$6,$F$6+1,1),'Incident Log'!$M$9:$M$1008,U38) -> 0
R39: Equipment damage | S39: =COUNTIFS('Incident Log'!$C$9:$C$1008,">="&DATE($B$6,1,1),'Incident Log'!$C$9:$C$1008,"<"&DATE($B$6,$F$6+1,1),'Incident Log'!$H$9:$H$1008,R39) -> 0 | U39: 4 - Major | V39: =COUNTIFS('Incident Log'!$C$9:$C$1008,">="&DATE($B$6,1,1),'Incident Log'!$C$9:$C$1008,"<"&DATE($B$6,$F$6+1,1),'Incident Log'!$L$9:$L$1008,U39) -> 0 | W39: =COUNTIFS('Incident Log'!$C$9:$C$1008,">="&DATE($B$6,1,1),'Incident Log'!$C$9:$C$1008,"<"&DATE($B$6,$F$6+1,1),'Incident Log'!$M$9:$M$1008,U39) -> 0
R40: Vehicle event | S40: =COUNTIFS('Incident Log'!$C$9:$C$1008,">="&DATE($B$6,1,1),'Incident Log'!$C$9:$C$1008,"<"&DATE($B$6,$F$6+1,1),'Incident Log'!$H$9:$H$1008,R40) -> 0 | U40: 5 - Severe / fatal | V40: =COUNTIFS('Incident Log'!$C$9:$C$1008,">="&DATE($B$6,1,1),'Incident Log'!$C$9:$C$1008,"<"&DATE($B$6,$F$6+1,1),'Incident Log'!$L$9:$L$1008,U40) -> 0 | W40: =COUNTIFS('Incident Log'!$C$9:$C$1008,">="&DATE($B$6,1,1),'Incident Log'!$C$9:$C$1008,"<"&DATE($B$6,$F$6+1,1),'Incident Log'!$M$9:$M$1008,U40) -> 0
R41: Environmental | S41: =COUNTIFS('Incident Log'!$C$9:$C$1008,">="&DATE($B$6,1,1),'Incident Log'!$C$9:$C$1008,"<"&DATE($B$6,$F$6+1,1),'Incident Log'!$H$9:$H$1008,R41) -> 0
R42: Fire / explosion | S42: =COUNTIFS('Incident Log'!$C$9:$C$1008,">="&DATE($B$6,1,1),'Incident Log'!$C$9:$C$1008,"<"&DATE($B$6,$F$6+1,1),'Incident Log'!$H$9:$H$1008,R42) -> 0
R43: Security / theft | S43: =COUNTIFS('Incident Log'!$C$9:$C$1008,">="&DATE($B$6,1,1),'Incident Log'!$C$9:$C$1008,"<"&DATE($B$6,$F$6+1,1),'Incident Log'!$H$9:$H$1008,R43) -> 0
R44: Hazard observation | S44: =COUNTIFS('Incident Log'!$C$9:$C$1008,">="&DATE($B$6,1,1),'Incident Log'!$C$9:$C$1008,"<"&DATE($B$6,$F$6+1,1),'Incident Log'!$H$9:$H$1008,R44) -> 0
R45: Other | S45: =COUNTIFS('Incident Log'!$C$9:$C$1008,">="&DATE($B$6,1,1),'Incident Log'!$C$9:$C$1008,"<"&DATE($B$6,$F$6+1,1),'Incident Log'!$H$9:$H$1008,R45) -> 0
A54: ="Recorded cost: "&TEXT(INDEX('Monthly Statistics'!$J$60:$J$63,$AE$2),"$#,##0")&" • High-potential records: "&INDEX('Monthly Statistics'!$K$60:$K$63,$AE$2)&" • Case input issues: "&INDEX('Monthly Statistics'!$L$60:$L$63,$AE$2)&" • Undated records: "&COUNTIFS('Incident Log'!$AK$9:$AK$1008,"Missing / invalid date") -> Recorded cost: $0 • High-potential records: 0 • Case input issues: 0 • Undated records: 0

Sheet Trend Explorer
A2: Trend explorer | B2: Trend explorer | C2: Trend explorer | D2: Trend explorer | E2: Trend explorer | F2: Trend explorer | G2: Trend explorer | H2: Trend explorer | M2: Prepared by 100% Safety Inc.
A3: Trend explorer | B3: Trend explorer | C3: Trend explorer | D3: Trend explorer | E3: Trend explorer | F3: Trend explorer | G3: Trend explorer | H3: Trend explorer
A4: Select a category and a measure. All results follow the Dashboard year and through-month selections. | B4: Select a category and a measure. All results follow the Dashboard year and through-month selections. | C4: Select a category and a measure. All results follow the Dashboard year and through-month selections. | D4: Select a category and a measure. All results follow the Dashboard year and through-month selections. | E4: Select a category and a measure. All results follow the Dashboard year and through-month selections. | F4: Select a category and a measure. All results follow the Dashboard year and through-month selections. | G4: Select a category and a measure. All results follow the Dashboard year and through-month selections. | H4: Select a category and a measure. All results follow the Dashboard year and through-month selections. | I4: Select a category and a measure. All results follow the Dashboard year and through-month selections. | J4: Select a category and a measure. All results follow the Dashboard year and through-month selections. | K4: Select a category and a measure. All results follow the Dashboard year and through-month selections. | L4: Select a category and a measure. All results follow the Dashboard year and through-month selections. | M4: Select a category and a measure. All results follow the Dashboard year and through-month selections. | N4: Select a category and a measure. All results follow the Dashboard year and through-month selections. | O4: Select a category and a measure. All results follow the Dashboard year and through-month selections. | P4: Select a category and a measure. All results follow the Dashboard year and through-month selections.
A6: Trend by | B6: Event category | C6: Event category | D6: Event category | E6: Event category | G6: Measure | H6: Case records | I6: Case records | J6: Case records | K6: Case records | U6: Dimension index | V6: =MATCH(B6,Setup!$A$32:$A$47,0) -> 4
U7: Measure index | V7: =MATCH(H6,Setup!$A$50:$A$55,0) -> 1
A8: Cause totals count a record once per matching cause. A record with two different causes appears in both categories. Costs and days are attributed to each matching category. | B8: Cause totals count a record once per matching cause. A record with two different causes appears in both categories. Costs and days are attributed to each matching category. | C8: Cause totals count a record once per matching cause. A record with two different causes appears in both categories. Costs and days are attributed to each matching category. | D8: Cause totals count a record once per matching cause. A record with two different causes appears in both categories. Costs and days are attributed to each matching category. | E8: Cause totals count a record once per matching cause. A record with two different causes appears in both categories. Costs and days are attributed to each matching category. | F8: Cause totals count a record once per matching cause. A record with two different causes appears in both categories. Costs and days are attributed to each matching category. | G8: Cause totals count a record once per matching cause. A record with two different causes appears in both categories. Costs and days are attributed to each matching category. | H8: Cause totals count a record once per matching cause. A record with two different causes appears in both categories. Costs and days are attributed to each matching category. | I8: Cause totals count a record once per matching cause. A record with two different causes appears in both categories. Costs and days are attributed to each matching category. | J8: Cause totals count a record once per matching cause. A record with two different causes appears in both categories. Costs and days are attributed to each matching category. | K8: Cause totals count a record once per matching cause. A record with two different causes appears in both categories. Costs and days are attributed to each matching category. | L8: Cause totals count a record once per matching cause. A record with two different causes appears in both categories. Costs and days are attributed to each matching category. | M8: Cause totals count a record once per matching cause. A record with two different causes appears in both categories. Costs and days are attributed to each matching category. | N8: Cause totals count a record once per matching cause. A record with two different causes appears in both categories. Costs and days are attributed to each matching category. | O8: Cause totals count a record once per matching cause. A record with two different causes appears in both categories. Costs and days are attributed to each matching category. | P8: Cause totals count a record once per matching cause. A record with two different causes appears in both categories. Costs and days are attributed to each matching category.
A9: Cause totals count a record once per matching cause. A record with two different causes appears in both categories. Costs and days are attributed to each matching category. | B9: Cause totals count a record once per matching cause. A record with two different causes appears in both categories. Costs and days are attributed to each matching category. | C9: Cause totals count a record once per matching cause. A record with two different causes appears in both categories. Costs and days are attributed to each matching category. | D9: Cause totals count a record once per matching cause. A record with two different causes appears in both categories. Costs and days are attributed to each matching category. | E9: Cause totals count a record once per matching cause. A record with two different causes appears in both categories. Costs and days are attributed to each matching category. | F9: Cause totals count a record once per matching cause. A record with two different causes appears in both categories. Costs and days are attributed to each matching category. | G9: Cause totals count a record once per matching cause. A record with two different causes appears in both categories. Costs and days are attributed to each matching category. | H9: Cause totals count a record once per matching cause. A record with two different causes appears in both categories. Costs and days are attributed to each matching category. | I9: Cause totals count a record once per matching cause. A record with two different causes appears in both categories. Costs and days are attributed to each matching category. | J9: Cause totals count a record once per matching cause. A record with two different causes appears in both categories. Costs and days are attributed to each matching category. | K9: Cause totals count a record once per matching cause. A record with two different causes appears in both categories. Costs and days are attributed to each matching category. | L9: Cause totals count a record once per matching cause. A record with two different causes appears in both categories. Costs and days are attributed to each matching category. | M9: Cause totals count a record once per matching cause. A record with two different causes appears in both categories. Costs and days are attributed to each matching category. | N9: Cause totals count a record once per matching cause. A record with two different causes appears in both categories. Costs and days are attributed to each matching category. | O9: Cause totals count a record once per matching cause. A record with two different causes appears in both categories. Costs and days are attributed to each matching category. | P9: Cause totals count a record once per matching cause. A record with two different causes appears in both categories. Costs and days are attributed to each matching category.
A12: Category | B12: Selected measure | C12: Rank | U12: Category | V12: Selected measure
A13: =IF(CHOOSE($V$6,Setup!$F$13,Setup!$G$13,Setup!$H$13,Setup!$I$13,Setup!$J$13,Setup!$K$13,Setup!$L$13,Setup!$M$13,Setup!$N$13,Setup!$O$13,Setup!$P$13,Setup!$Q$13,Setup!$R$13,Setup!$S$13,Setup!$T$13,Setup!$U$13)="","",CHOOSE($V$6,Setup!$F$13,Setup!$G$13,Setup!$H$13,Setup!$I$13,Setup!$J$13,Setup!$K$13,Setup!$L$13,Setup!$M$13,Setup!$N$13,Setup!$O$13,Setup!$P$13,Setup!$Q$13,Setup!$R$13,Setup!$S$13,Setup!$T$13,Setup!$U$13)) -> Injury / illness | B13: =IF(A13="","",IF($V$7=1,COUNTIFS('Incident Log'!$C$9:$C$1008,">="&DATE(Dashboard!$B$6,1,1),'Incident Log'!$C$9:$C$1008,"<"&DATE(Dashboard!$B$6,Dashboard!$F$6+1,1),'Incident Log'!$A$9:$A$1008,"<>",CHOOSE($V$6,'Incident Log'!$E$9:$E$1008,'Incident Log'!$F$9:$F$1008,'Incident Log'!$G$9:$G$1008,'Incident Log'!$H$9:$H$1008,'Incident Log'!$I$9:$I$1008,'Incident Log'!$J$9:$J$1008,'Incident Log'!$K$9:$K$1008,'Incident Log'!$L$9:$L$1008,'Incident Log'!$M$9:$M$1008,'Incident Log'!$N$9:$N$1008,'Incident Log'!$O$9:$O$1008,'Incident Log'!$P$9:$P$1008,'Incident Log'!$V$9:$V$1008,'Incident Log'!$X$9:$X$1008,'Incident Log'!$Z$9:$Z$1008,'Incident Log'!$AF$9:$AF$1008),A13)+IF(OR($V$6=13,$V$6=14),COUNTIFS('Incident Log'!$C$9:$C$1008,">="&DATE(Dashboard!$B$6,1,1),'Incident Log'!$C$9:$C$1008,"<"&DATE(Dashboard!$B$6,Dashboard!$F$6+1,1),'Incident Log'!$A$9:$A$1008,"<>",CHOOSE($V$6,'Incident Log'!$E$9:$E$1008,'Incident Log'!$F$9:$F$1008,'Incident Log'!$G$9:$G$1008,'Incident Log'!$H$9:$H$1008,'Incident Log'!$I$9:$I$1008,'Incident Log'!$J$9:$J$1008,'Incident Log'!$K$9:$K$1008,'Incident Log'!$L$9:$L$1008,'Incident Log'!$M$9:$M$1008,'Incident Log'!$N$9:$N$1008,'Incident Log'!$O$9:$O$1008,'Incident Log'!$P$9:$P$1008,'Incident Log'!$W$9:$W$1008,'Incident Log'!$Y$9:$Y$1008,'Incident Log'!$Z$9:$Z$1008,'Incident Log'!$AF$9:$AF$1008),A13)-COUNTIFS('Incident Log'!$C$9:$C$1008,">="&DATE(Dashboard!$B$6,1,1),'Incident Log'!$C$9:$C$1008,"<"&DATE(Dashboard!$B$6,Dashboard!$F$6+1,1),'Incident Log'!$A$9:$A$1008,"<>",CHOOSE($V$6,'Incident Log'!$E$9:$E$1008,'Incident Log'!$F$9:$F$1008,'Incident Log'!$G$9:$G$1008,'Incident Log'!$H$9:$H$1008,'Incident Log'!$I$9:$I$1008,'Incident Log'!$J$9:$J$1008,'Incident Log'!$K$9:$K$1008,'Incident Log'!$L$9:$L$1008,'Incident Log'!$M$9:$M$1008,'Incident Log'!$N$9:$N$1008,'Incident Log'!$O$9:$O$1008,'Incident Log'!$P$9:$P$1008,'Incident Log'!$V$9:$V$1008,'Incident Log'!$X$9:$X$1008,'Incident Log'!$Z$9:$Z$1008,'Incident Log'!$AF$9:$AF$1008),A13,CHOOSE($V$6,'Incident Log'!$E$9:$E$1008,'Incident Log'!$F$9:$F$1008,'Incident Log'!$G$9:$G$1008,'Incident Log'!$H$9:$H$1008,'Incident Log'!$I$9:$I$1008,'Incident Log'!$J$9:$J$1008,'Incident Log'!$K$9:$K$1008,'Incident Log'!$L$9:$L$1008,'Incident Log'!$M$9:$M$1008,'Incident Log'!$N$9:$N$1008,'Incident Log'!$O$9:$O$1008,'Incident Log'!$P$9:$P$1008,'Incident Log'!$W$9:$W$1008,'Incident Log'!$Y$9:$Y$1008,'Incident Log'!$Z$9:$Z$1008,'Incident Log'!$AF$9:$AF$1008),A13),0),SUMIFS(CHOOSE($V$7,'Incident Log'!$AG$9:$AG$1008,'Incident Log'!$AG$9:$AG$1008,'Incident Log'!$AH$9:$AH$1008,'Incident Log'!$Q$9:$Q$1008,'Incident Log'!$R$9:$R$1008,'Incident Log'!$S$9:$S$1008),'Incident Log'!$C$9:$C$1008,">="&DATE(Dashboard!$B$6,1,1),'Incident Log'!$C$9:$C$1008,"<"&DATE(Dashboard!$B$6,Dashboard!$F$6+1,1),'Incident Log'!$A$9:$A$1008,"<>",CHOOSE($V$6,'Incident Log'!$E$9:$E$1008,'Incident Log'!$F$9:$F$1008,'Incident Log'!$G$9:$G$1008,'Incident Log'!$H$9:$H$1008,'Incident Log'!$I$9:$I$1008,'Incident Log'!$J$9:$J$1008,'Incident Log'!$K$9:$K$1008,'Incident Log'!$L$9:$L$1008,'Incident Log'!$M$9:$M$1008,'Incident Log'!$N$9:$N$1008,'Incident Log'!$O$9:$O$1008,'Incident Log'!$P$9:$P$1008,'Incident Log'!$V$9:$V$1008,'Incident Log'!$X$9:$X$1008,'Incident Log'!$Z$9:$Z$1008,'Incident Log'!$AF$9:$AF$1008),A13)+IF(OR($V$6=13,$V$6=14),SUMIFS(CHOOSE($V$7,'Incident Log'!$AG$9:$AG$1008,'Incident Log'!$AG$9:$AG$1008,'Incident Log'!$AH$9:$AH$1008,'Incident Log'!$Q$9:$Q$1008,'Incident Log'!$R$9:$R$1008,'Incident Log'!$S$9:$S$1008),'Incident Log'!$C$9:$C$1008,">="&DATE(Dashboard!$B$6,1,1),'Incident Log'!$C$9:$C$1008,"<"&DATE(Dashboard!$B$6,Dashboard!$F$6+1,1),'Incident Log'!$A$9:$A$1008,"<>",CHOOSE($V$6,'Incident Log'!$E$9:$E$1008,'Incident Log'!$F$9:$F$1008,'Incident Log'!$G$9:$G$1008,'Incident Log'!$H$9:$H$1008,'Incident Log'!$I$9:$I$1008,'Incident Log'!$J$9:$J$1008,'Incident Log'!$K$9:$K$1008,'Incident Log'!$L$9:$L$1008,'Incident Log'!$M$9:$M$1008,'Incident Log'!$N$9:$N$1008,'Incident Log'!$O$9:$O$1008,'Incident Log'!$P$9:$P$1008,'Incident Log'!$W$9:$W$1008,'Incident Log'!$Y$9:$Y$1008,'Incident Log'!$Z$9:$Z$1008,'Incident Log'!$AF$9:$AF$1008),A13)-SUMIFS(CHOOSE($V$7,'Incident Log'!$AG$9:$AG$1008,'Incident Log'!$AG$9:$AG$1008,'Incident Log'!$AH$9:$AH$1008,'Incident Log'!$Q$9:$Q$1008,'Incident Log'!$R$9:$R$1008,'Incident Log'!$S$9:$S$1008),'Incident Log'!$C$9:$C$1008,">="&DATE(Dashboard!$B$6,1,1),'Incident Log'!$C$9:$C$1008,"<"&DATE(Dashboard!$B$6,Dashboard!$F$6+1,1),'Incident Log'!$A$9:$A$1008,"<>",CHOOSE($V$6,'Incident Log'!$E$9:$E$1008,'Incident Log'!$F$9:$F$1008,'Incident Log'!$G$9:$G$1008,'Incident Log'!$H$9:$H$1008,'Incident Log'!$I$9:$I$1008,'Incident Log'!$J$9:$J$1008,'Incident Log'!$K$9:$K$1008,'Incident Log'!$L$9:$L$1008,'Incident Log'!$M$9:$M$1008,'Incident Log'!$N$9:$N$1008,'Incident Log'!$O$9:$O$1008,'Incident Log'!$P$9:$P$1008,'Incident Log'!$V$9:$V$1008,'Incident Log'!$X$9:$X$1008,'Incident Log'!$Z$9:$Z$1008,'Incident Log'!$AF$9:$AF$1008),A13,CHOOSE($V$6,'Incident Log'!$E$9:$E$1008,'Incident Log'!$F$9:$F$1008,'Incident Log'!$G$9:$G$1008,'Incident Log'!$H$9:$H$1008,'Incident Log'!$I$9:$I$1008,'Incident Log'!$J$9:$J$1008,'Incident Log'!$K$9:$K$1008,'Incident Log'!$L$9:$L$1008,'Incident Log'!$M$9:$M$1008,'Incident Log'!$N$9:$N$1008,'Incident Log'!$O$9:$O$1008,'Incident Log'!$P$9:$P$1008,'Incident Log'!$W$9:$W$1008,'Incident Log'!$Y$9:$Y$1008,'Incident Log'!$Z$9:$Z$1008,'Incident Log'!$AF$9:$AF$1008),A13),0))) -> 0 | C13: =IF(A13="","",COUNTIFS($B$13:$B$212,">"&B13)+COUNTIFS($B$13:B13,B13)) -> 1 | U13: =IF(COUNTIFS($C$13:$C$212,1)=0,"",INDEX($A$13:$A$212,MATCH(1,$C$13:$C$212,0))) -> Injury / illness | V13: =IF(U13="","",INDEX($B$13:$B$212,MATCH(1,$C$13:$C$212,0))) -> 0
A14: =IF(CHOOSE($V$6,Setup!$F$14,Setup!$G$14,Setup!$H$14,Setup!$I$14,Setup!$J$14,Setup!$K$14,Setup!$L$14,Setup!$M$14,Setup!$N$14,Setup!$O$14,Setup!$P$14,Setup!$Q$14,Setup!$R$14,Setup!$S$14,Setup!$T$14,Setup!$U$14)="","",CHOOSE($V$6,Setup!$F$14,Setup!$G$14,Setup!$H$14,Setup!$I$14,Setup!$J$14,Setup!$K$14,Setup!$L$14,Setup!$M$14,Setup!$N$14,Setup!$O$14,Setup!$P$14,Setup!$Q$14,Setup!$R$14,Setup!$S$14,Setup!$T$14,Setup!$U$14)) -> Near miss | B14: =IF(A14="","",IF($V$7=1,COUNTIFS('Incident Log'!$C$9:$C$1008,">="&DATE(Dashboard!$B$6,1,1),'Incident Log'!$C$9:$C$1008,"<"&DATE(Dashboard!$B$6,Dashboard!$F$6+1,1),'Incident Log'!$A$9:$A$1008,"<>",CHOOSE($V$6,'Incident Log'!$E$9:$E$1008,'Incident Log'!$F$9:$F$1008,'Incident Log'!$G$9:$G$1008,'Incident Log'!$H$9:$H$1008,'Incident Log'!$I$9:$I$1008,'Incident Log'!$J$9:$J$1008,'Incident Log'!$K$9:$K$1008,'Incident Log'!$L$9:$L$1008,'Incident Log'!$M$9:$M$1008,'Incident Log'!$N$9:$N$1008,'Incident Log'!$O$9:$O$1008,'Incident Log'!$P$9:$P$1008,'Incident Log'!$V$9:$V$1008,'Incident Log'!$X$9:$X$1008,'Incident Log'!$Z$9:$Z$1008,'Incident Log'!$AF$9:$AF$1008),A14)+IF(OR($V$6=13,$V$6=14),COUNTIFS('Incident Log'!$C$9:$C$1008,">="&DATE(Dashboard!$B$6,1,1),'Incident Log'!$C$9:$C$1008,"<"&DATE(Dashboard!$B$6,Dashboard!$F$6+1,1),'Incident Log'!$A$9:$A$1008,"<>",CHOOSE($V$6,'Incident Log'!$E$9:$E$1008,'Incident Log'!$F$9:$F$1008,'Incident Log'!$G$9:$G$1008,'Incident Log'!$H$9:$H$1008,'Incident Log'!$I$9:$I$1008,'Incident Log'!$J$9:$J$1008,'Incident Log'!$K$9:$K$1008,'Incident Log'!$L$9:$L$1008,'Incident Log'!$M$9:$M$1008,'Incident Log'!$N$9:$N$1008,'Incident Log'!$O$9:$O$1008,'Incident Log'!$P$9:$P$1008,'Incident Log'!$W$9:$W$1008,'Incident Log'!$Y$9:$Y$1008,'Incident Log'!$Z$9:$Z$1008,'Incident Log'!$AF$9:$AF$1008),A14)-COUNTIFS('Incident Log'!$C$9:$C$1008,">="&DATE(Dashboard!$B$6,1,1),'Incident Log'!$C$9:$C$1008,"<"&DATE(Dashboard!$B$6,Dashboard!$F$6+1,1),'Incident Log'!$A$9:$A$1008,"<>",CHOOSE($V$6,'Incident Log'!$E$9:$E$1008,'Incident Log'!$F$9:$F$1008,'Incident Log'!$G$9:$G$1008,'Incident Log'!$H$9:$H$1008,'Incident Log'!$I$9:$I$1008,'Incident Log'!$J$9:$J$1008,'Incident Log'!$K$9:$K$1008,'Incident Log'!$L$9:$L$1008,'Incident Log'!$M$9:$M$1008,'Incident Log'!$N$9:$N$1008,'Incident Log'!$O$9:$O$1008,'Incident Log'!$P$9:$P$1008,'Incident Log'!$V$9:$V$1008,'Incident Log'!$X$9:$X$1008,'Incident Log'!$Z$9:$Z$1008,'Incident Log'!$AF$9:$AF$1008),A14,CHOOSE($V$6,'Incident Log'!$E$9:$E$1008,'Incident Log'!$F$9:$F$1008,'Incident Log'!$G$9:$G$1008,'Incident Log'!$H$9:$H$1008,'Incident Log'!$I$9:$I$1008,'Incident Log'!$J$9:$J$1008,'Incident Log'!$K$9:$K$1008,'Incident Log'!$L$9:$L$1008,'Incident Log'!$M$9:$M$1008,'Incident Log'!$N$9:$N$1008,'Incident Log'!$O$9:$O$1008,'Incident Log'!$P$9:$P$1008,'Incident Log'!$W$9:$W$1008,'Incident Log'!$Y$9:$Y$1008,'Incident Log'!$Z$9:$Z$1008,'Incident Log'!$AF$9:$AF$1008),A14),0),SUMIFS(CHOOSE($V$7,'Incident Log'!$AG$9:$AG$1008,'Incident Log'!$AG$9:$AG$1008,'Incident Log'!$AH$9:$AH$1008,'Incident Log'!$Q$9:$Q$1008,'Incident Log'!$R$9:$R$1008,'Incident Log'!$S$9:$S$1008),'Incident Log'!$C$9:$C$1008,">="&DATE(Dashboard!$B$6,1,1),'Incident Log'!$C$9:$C$1008,"<"&DATE(Dashboard!$B$6,Dashboard!$F$6+1,1),'Incident Log'!$A$9:$A$1008,"<>",CHOOSE($V$6,'Incident Log'!$E$9:$E$1008,'Incident Log'!$F$9:$F$1008,'Incident Log'!$G$9:$G$1008,'Incident Log'!$H$9:$H$1008,'Incident Log'!$I$9:$I$1008,'Incident Log'!$J$9:$J$1008,'Incident Log'!$K$9:$K$1008,'Incident Log'!$L$9:$L$1008,'Incident Log'!$M$9:$M$1008,'Incident Log'!$N$9:$N$1008,'Incident Log'!$O$9:$O$1008,'Incident Log'!$P$9:$P$1008,'Incident Log'!$V$9:$V$1008,'Incident Log'!$X$9:$X$1008,'Incident Log'!$Z$9:$Z$1008,'Incident Log'!$AF$9:$AF$1008),A14)+IF(OR($V$6=13,$V$6=14),SUMIFS(CHOOSE($V$7,'Incident Log'!$AG$9:$AG$1008,'Incident Log'!$AG$9:$AG$1008,'Incident Log'!$AH$9:$AH$1008,'Incident Log'!$Q$9:$Q$1008,'Incident Log'!$R$9:$R$1008,'Incident Log'!$S$9:$S$1008),'Incident Log'!$C$9:$C$1008,">="&DATE(Dashboard!$B$6,1,1),'Incident Log'!$C$9:$C$1008,"<"&DATE(Dashboard!$B$6,Dashboard!$F$6+1,1),'Incident Log'!$A$9:$A$1008,"<>",CHOOSE($V$6,'Incident Log'!$E$9:$E$1008,'Incident Log'!$F$9:$F$1008,'Incident Log'!$G$9:$G$1008,'Incident Log'!$H$9:$H$1008,'Incident Log'!$I$9:$I$1008,'Incident Log'!$J$9:$J$1008,'Incident Log'!$K$9:$K$1008,'Incident Log'!$L$9:$L$1008,'Incident Log'!$M$9:$M$1008,'Incident Log'!$N$9:$N$1008,'Incident Log'!$O$9:$O$1008,'Incident Log'!$P$9:$P$1008,'Incident Log'!$W$9:$W$1008,'Incident Log'!$Y$9:$Y$1008,'Incident Log'!$Z$9:$Z$1008,'Incident Log'!$AF$9:$AF$1008),A14)-SUMIFS(CHOOSE($V$7,'Incident Log'!$AG$9:$AG$1008,'Incident Log'!$AG$9:$AG$1008,'Incident Log'!$AH$9:$AH$1008,'Incident Log'!$Q$9:$Q$1008,'Incident Log'!$R$9:$R$1008,'Incident Log'!$S$9:$S$1008),'Incident Log'!$C$9:$C$1008,">="&DATE(Dashboard!$B$6,1,1),'Incident Log'!$C$9:$C$1008,"<"&DATE(Dashboard!$B$6,Dashboard!$F$6+1,1),'Incident Log'!$A$9:$A$1008,"<>",CHOOSE($V$6,'Incident Log'!$E$9:$E$1008,'Incident Log'!$F$9:$F$1008,'Incident Log'!$G$9:$G$1008,'Incident Log'!$H$9:$H$1008,'Incident Log'!$I$9:$I$1008,'Incident Log'!$J$9:$J$1008,'Incident Log'!$K$9:$K$1008,'Incident Log'!$L$9:$L$1008,'Incident Log'!$M$9:$M$1008,'Incident Log'!$N$9:$N$1008,'Incident Log'!$O$9:$O$1008,'Incident Log'!$P$9:$P$1008,'Incident Log'!$V$9:$V$1008,'Incident Log'!$X$9:$X$1008,'Incident Log'!$Z$9:$Z$1008,'Incident Log'!$AF$9:$AF$1008),A14,CHOOSE($V$6,'Incident Log'!$E$9:$E$1008,'Incident Log'!$F$9:$F$1008,'Incident Log'!$G$9:$G$1008,'Incident Log'!$H$9:$H$1008,'Incident Log'!$I$9:$I$1008,'Incident Log'!$J$9:$J$1008,'Incident Log'!$K$9:$K$1008,'Incident Log'!$L$9:$L$1008,'Incident Log'!$M$9:$M$1008,'Incident Log'!$N$9:$N$1008,'Incident Log'!$O$9:$O$1008,'Incident Log'!$P$9:$P$1008,'Incident Log'!$W$9:$W$1008,'Incident Log'!$Y$9:$Y$1008,'Incident Log'!$Z$9:$Z$1008,'Incident Log'!$AF$9:$AF$1008),A14),0))) -> 0 | C14: =IF(A14="","",COUNTIFS($B$13:$B$212,">"&B14)+COUNTIFS($B$13:B14,B14)) -> 2 | U14: =IF(COUNTIFS($C$13:$C$212,2)=0,"",INDEX($A$13:$A$212,MATCH(2,$C$13:$C$212,0))) -> Near miss | V14: =IF(U14="","",INDEX($B$13:$B$212,MATCH(2,$C$13:$C$212,0))) -> 0
A15: =IF(CHOOSE($V$6,Setup!$F$15,Setup!$G$15,Setup!$H$15,Setup!$I$15,Setup!$J$15,Setup!$K$15,Setup!$L$15,Setup!$M$15,Setup!$N$15,Setup!$O$15,Setup!$P$15,Setup!$Q$15,Setup!$R$15,Setup!$S$15,Setup!$T$15,Setup!$U$15)="","",CHOOSE($V$6,Setup!$F$15,Setup!$G$15,Setup!$H$15,Setup!$I$15,Setup!$J$15,Setup!$K$15,Setup!$L$15,Setup!$M$15,Setup!$N$15,Setup!$O$15,Setup!$P$15,Setup!$Q$15,Setup!$R$15,Setup!$S$15,Setup!$T$15,Setup!$U$15)) -> Property damage | B15: =IF(A15="","",IF($V$7=1,COUNTIFS('Incident Log'!$C$9:$C$1008,">="&DATE(Dashboard!$B$6,1,1),'Incident Log'!$C$9:$C$1008,"<"&DATE(Dashboard!$B$6,Dashboard!$F$6+1,1),'Incident Log'!$A$9:$A$1008,"<>",CHOOSE($V$6,'Incident Log'!$E$9:$E$1008,'Incident Log'!$F$9:$F$1008,'Incident Log'!$G$9:$G$1008,'Incident Log'!$H$9:$H$1008,'Incident Log'!$I$9:$I$1008,'Incident Log'!$J$9:$J$1008,'Incident Log'!$K$9:$K$1008,'Incident Log'!$L$9:$L$1008,'Incident Log'!$M$9:$M$1008,'Incident Log'!$N$9:$N$1008,'Incident Log'!$O$9:$O$1008,'Incident Log'!$P$9:$P$1008,'Incident Log'!$V$9:$V$1008,'Incident Log'!$X$9:$X$1008,'Incident Log'!$Z$9:$Z$1008,'Incident Log'!$AF$9:$AF$1008),A15)+IF(OR($V$6=13,$V$6=14),COUNTIFS('Incident Log'!$C$9:$C$1008,">="&DATE(Dashboard!$B$6,1,1),'Incident Log'!$C$9:$C$1008,"<"&DATE(Dashboard!$B$6,Dashboard!$F$6+1,1),'Incident Log'!$A$9:$A$1008,"<>",CHOOSE($V$6,'Incident Log'!$E$9:$E$1008,'Incident Log'!$F$9:$F$1008,'Incident Log'!$G$9:$G$1008,'Incident Log'!$H$9:$H$1008,'Incident Log'!$I$9:$I$1008,'Incident Log'!$J$9:$J$1008,'Incident Log'!$K$9:$K$1008,'Incident Log'!$L$9:$L$1008,'Incident Log'!$M$9:$M$1008,'Incident Log'!$N$9:$N$1008,'Incident Log'!$O$9:$O$1008,'Incident Log'!$P$9:$P$1008,'Incident Log'!$W$9:$W$1008,'Incident Log'!$Y$9:$Y$1008,'Incident Log'!$Z$9:$Z$1008,'Incident Log'!$AF$9:$AF$1008),A15)-COUNTIFS('Incident Log'!$C$9:$C$1008,">="&DATE(Dashboard!$B$6,1,1),'Incident Log'!$C$9:$C$1008,"<"&DATE(Dashboard!$B$6,Dashboard!$F$6+1,1),'Incident Log'!$A$9:$A$1008,"<>",CHOOSE($V$6,'Incident Log'!$E$9:$E$1008,'Incident Log'!$F$9:$F$1008,'Incident Log'!$G$9:$G$1008,'Incident Log'!$H$9:$H$1008,'Incident Log'!$I$9:$I$1008,'Incident Log'!$J$9:$J$1008,'Incident Log'!$K$9:$K$1008,'Incident Log'!$L$9:$L$1008,'Incident Log'!$M$9:$M$1008,'Incident Log'!$N$9:$N$1008,'Incident Log'!$O$9:$O$1008,'Incident Log'!$P$9:$P$1008,'Incident Log'!$V$9:$V$1008,'Incident Log'!$X$9:$X$1008,'Incident Log'!$Z$9:$Z$1008,'Incident Log'!$AF$9:$AF$1008),A15,CHOOSE($V$6,'Incident Log'!$E$9:$E$1008,'Incident Log'!$F$9:$F$1008,'Incident Log'!$G$9:$G$1008,'Incident Log'!$H$9:$H$1008,'Incident Log'!$I$9:$I$1008,'Incident Log'!$J$9:$J$1008,'Incident Log'!$K$9:$K$1008,'Incident Log'!$L$9:$L$1008,'Incident Log'!$M$9:$M$1008,'Incident Log'!$N$9:$N$1008,'Incident Log'!$O$9:$O$1008,'Incident Log'!$P$9:$P$1008,'Incident Log'!$W$9:$W$1008,'Incident Log'!$Y$9:$Y$1008,'Incident Log'!$Z$9:$Z$1008,'Incident Log'!$AF$9:$AF$1008),A15),0),SUMIFS(CHOOSE($V$7,'Incident Log'!$AG$9:$AG$1008,'Incident Log'!$AG$9:$AG$1008,'Incident Log'!$AH$9:$AH$1008,'Incident Log'!$Q$9:$Q$1008,'Incident Log'!$R$9:$R$1008,'Incident Log'!$S$9:$S$1008),'Incident Log'!$C$9:$C$1008,">="&DATE(Dashboard!$B$6,1,1),'Incident Log'!$C$9:$C$1008,"<"&DATE(Dashboard!$B$6,Dashboard!$F$6+1,1),'Incident Log'!$A$9:$A$1008,"<>",CHOOSE($V$6,'Incident Log'!$E$9:$E$1008,'Incident Log'!$F$9:$F$1008,'Incident Log'!$G$9:$G$1008,'Incident Log'!$H$9:$H$1008,'Incident Log'!$I$9:$I$1008,'Incident Log'!$J$9:$J$1008,'Incident Log'!$K$9:$K$1008,'Incident Log'!$L$9:$L$1008,'Incident Log'!$M$9:$M$1008,'Incident Log'!$N$9:$N$1008,'Incident Log'!$O$9:$O$1008,'Incident Log'!$P$9:$P$1008,'Incident Log'!$V$9:$V$1008,'Incident Log'!$X$9:$X$1008,'Incident Log'!$Z$9:$Z$1008,'Incident Log'!$AF$9:$AF$1008),A15)+IF(OR($V$6=13,$V$6=14),SUMIFS(CHOOSE($V$7,'Incident Log'!$AG$9:$AG$1008,'Incident Log'!$AG$9:$AG$1008,'Incident Log'!$AH$9:$AH$1008,'Incident Log'!$Q$9:$Q$1008,'Incident Log'!$R$9:$R$1008,'Incident Log'!$S$9:$S$1008),'Incident Log'!$C$9:$C$1008,">="&DATE(Dashboard!$B$6,1,1),'Incident Log'!$C$9:$C$1008,"<"&DATE(Dashboard!$B$6,Dashboard!$F$6+1,1),'Incident Log'!$A$9:$A$1008,"<>",CHOOSE($V$6,'Incident Log'!$E$9:$E$1008,'Incident Log'!$F$9:$F$1008,'Incident Log'!$G$9:$G$1008,'Incident Log'!$H$9:$H$1008,'Incident Log'!$I$9:$I$1008,'Incident Log'!$J$9:$J$1008,'Incident Log'!$K$9:$K$1008,'Incident Log'!$L$9:$L$1008,'Incident Log'!$M$9:$M$1008,'Incident Log'!$N$9:$N$1008,'Incident Log'!$O$9:$O$1008,'Incident Log'!$P$9:$P$1008,'Incident Log'!$W$9:$W$1008,'Incident Log'!$Y$9:$Y$1008,'Incident Log'!$Z$9:$Z$1008,'Incident Log'!$AF$9:$AF$1008),A15)-SUMIFS(CHOOSE($V$7,'Incident Log'!$AG$9:$AG$1008,'Incident Log'!$AG$9:$AG$1008,'Incident Log'!$AH$9:$AH$1008,'Incident Log'!$Q$9:$Q$1008,'Incident Log'!$R$9:$R$1008,'Incident Log'!$S$9:$S$1008),'Incident Log'!$C$9:$C$1008,">="&DATE(Dashboard!$B$6,1,1),'Incident Log'!$C$9:$C$1008,"<"&DATE(Dashboard!$B$6,Dashboard!$F$6+1,1),'Incident Log'!$A$9:$A$1008,"<>",CHOOSE($V$6,'Incident Log'!$E$9:$E$1008,'Incident Log'!$F$9:$F$1008,'Incident Log'!$G$9:$G$1008,'Incident Log'!$H$9:$H$1008,'Incident Log'!$I$9:$I$1008,'Incident Log'!$J$9:$J$1008,'Incident Log'!$K$9:$K$1008,'Incident Log'!$L$9:$L$1008,'Incident Log'!$M$9:$M$1008,'Incident Log'!$N$9:$N$1008,'Incident Log'!$O$9:$O$1008,'Incident Log'!$P$9:$P$1008,'Incident Log'!$V$9:$V$1008,'Incident Log'!$X$9:$X$1008,'Incident Log'!$Z$9:$Z$1008,'Incident Log'!$AF$9:$AF$1008),A15,CHOOSE($V$6,'Incident Log'!$E$9:$E$1008,'Incident Log'!$F$9:$F$1008,'Incident Log'!$G$9:$G$1008,'Incident Log'!$H$9:$H$1008,'Incident Log'!$I$9:$I$1008,'Incident Log'!$J$9:$J$1008,'Incident Log'!$K$9:$K$1008,'Incident Log'!$L$9:$L$1008,'Incident Log'!$M$9:$M$1008,'Incident Log'!$N$9:$N$1008,'Incident Log'!$O$9:$O$1008,'Incident Log'!$P$9:$P$1008,'Incident Log'!$W$9:$W$1008,'Incident Log'!$Y$9:$Y$1008,'Incident Log'!$Z$9:$Z$1008,'Incident Log'!$AF$9:$AF$1008),A15),0))) -> 0 | C15: =IF(A15="","",COUNTIFS($B$13:$B$212,">"&B15)+COUNTIFS($B$13:B15,B15)) -> 3 | U15: =IF(COUNTIFS($C$13:$C$212,3)=0,"",INDEX($A$13:$A$212,MATCH(3,$C$13:$C$212,0))) -> Property damage | V15: =IF(U15="","",INDEX($B$13:$B$212,MATCH(3,$C$13:$C$212,0))) -> 0
A16: =IF(CHOOSE($V$6,Setup!$F$16,Setup!$G$16,Setup!$H$16,Setup!$I$16,Setup!$J$16,Setup!$K$16,Setup!$L$16,Setup!$M$16,Setup!$N$16,Setup!$O$16,Setup!$P$16,Setup!$Q$16,Setup!$R$16,Setup!$S$16,Setup!$T$16,Setup!$U$16)="","",CHOOSE($V$6,Setup!$F$16,Setup!$G$16,Setup!$H$16,Setup!$I$16,Setup!$J$16,Setup!$K$16,Setup!$L$16,Setup!$M$16,Setup!$N$16,Setup!$O$16,Setup!$P$16,Setup!$Q$16,Setup!$R$16,Setup!$S$16,Setup!$T$16,Setup!$U$16)) -> Equipment damage | B16: =IF(A16="","",IF($V$7=1,COUNTIFS('Incident Log'!$C$9:$C$1008,">="&DATE(Dashboard!$B$6,1,1),'Incident Log'!$C$9:$C$1008,"<"&DATE(Dashboard!$B$6,Dashboard!$F$6+1,1),'Incident Log'!$A$9:$A$1008,"<>",CHOOSE($V$6,'Incident Log'!$E$9:$E$1008,'Incident Log'!$F$9:$F$1008,'Incident Log'!$G$9:$G$1008,'Incident Log'!$H$9:$H$1008,'Incident Log'!$I$9:$I$1008,'Incident Log'!$J$9:$J$1008,'Incident Log'!$K$9:$K$1008,'Incident Log'!$L$9:$L$1008,'Incident Log'!$M$9:$M$1008,'Incident Log'!$N$9:$N$1008,'Incident Log'!$O$9:$O$1008,'Incident Log'!$P$9:$P$1008,'Incident Log'!$V$9:$V$1008,'Incident Log'!$X$9:$X$1008,'Incident Log'!$Z$9:$Z$1008,'Incident Log'!$AF$9:$AF$1008),A16)+IF(OR($V$6=13,$V$6=14),COUNTIFS('Incident Log'!$C$9:$C$1008,">="&DATE(Dashboard!$B$6,1,1),'Incident Log'!$C$9:$C$1008,"<"&DATE(Dashboard!$B$6,Dashboard!$F$6+1,1),'Incident Log'!$A$9:$A$1008,"<>",CHOOSE($V$6,'Incident Log'!$E$9:$E$1008,'Incident Log'!$F$9:$F$1008,'Incident Log'!$G$9:$G$1008,'Incident Log'!$H$9:$H$1008,'Incident Log'!$I$9:$I$1008,'Incident Log'!$J$9:$J$1008,'Incident Log'!$K$9:$K$1008,'Incident Log'!$L$9:$L$1008,'Incident Log'!$M$9:$M$1008,'Incident Log'!$N$9:$N$1008,'Incident Log'!$O$9:$O$1008,'Incident Log'!$P$9:$P$1008,'Incident Log'!$W$9:$W$1008,'Incident Log'!$Y$9:$Y$1008,'Incident Log'!$Z$9:$Z$1008,'Incident Log'!$AF$9:$AF$1008),A16)-COUNTIFS('Incident Log'!$C$9:$C$1008,">="&DATE(Dashboard!$B$6,1,1),'Incident Log'!$C$9:$C$1008,"<"&DATE(Dashboard!$B$6,Dashboard!$F$6+1,1),'Incident Log'!$A$9:$A$1008,"<>",CHOOSE($V$6,'Incident Log'!$E$9:$E$1008,'Incident Log'!$F$9:$F$1008,'Incident Log'!$G$9:$G$1008,'Incident Log'!$H$9:$H$1008,'Incident Log'!$I$9:$I$1008,'Incident Log'!$J$9:$J$1008,'Incident Log'!$K$9:$K$1008,'Incident Log'!$L$9:$L$1008,'Incident Log'!$M$9:$M$1008,'Incident Log'!$N$9:$N$1008,'Incident Log'!$O$9:$O$1008,'Incident Log'!$P$9:$P$1008,'Incident Log'!$V$9:$V$1008,'Incident Log'!$X$9:$X$1008,'Incident Log'!$Z$9:$Z$1008,'Incident Log'!$AF$9:$AF$1008),A16,CHOOSE($V$6,'Incident Log'!$E$9:$E$1008,'Incident Log'!$F$9:$F$1008,'Incident Log'!$G$9:$G$1008,'Incident Log'!$H$9:$H$1008,'Incident Log'!$I$9:$I$1008,'Incident Log'!$J$9:$J$1008,'Incident Log'!$K$9:$K$1008,'Incident Log'!$L$9:$L$1008,'Incident Log'!$M$9:$M$1008,'Incident Log'!$N$9:$N$1008,'Incident Log'!$O$9:$O$1008,'Incident Log'!$P$9:$P$1008,'Incident Log'!$W$9:$W$1008,'Incident Log'!$Y$9:$Y$1008,'Incident Log'!$Z$9:$Z$1008,'Incident Log'!$AF$9:$AF$1008),A16),0),SUMIFS(CHOOSE($V$7,'Incident Log'!$AG$9:$AG$1008,'Incident Log'!$AG$9:$AG$1008,'Incident Log'!$AH$9:$AH$1008,'Incident Log'!$Q$9:$Q$1008,'Incident Log'!$R$9:$R$1008,'Incident Log'!$S$9:$S$1008),'Incident Log'!$C$9:$C$1008,">="&DATE(Dashboard!$B$6,1,1),'Incident Log'!$C$9:$C$1008,"<"&DATE(Dashboard!$B$6,Dashboard!$F$6+1,1),'Incident Log'!$A$9:$A$1008,"<>",CHOOSE($V$6,'Incident Log'!$E$9:$E$1008,'Incident Log'!$F$9:$F$1008,'Incident Log'!$G$9:$G$1008,'Incident Log'!$H$9:$H$1008,'Incident Log'!$I$9:$I$1008,'Incident Log'!$J$9:$J$1008,'Incident Log'!$K$9:$K$1008,'Incident Log'!$L$9:$L$1008,'Incident Log'!$M$9:$M$1008,'Incident Log'!$N$9:$N$1008,'Incident Log'!$O$9:$O$1008,'Incident Log'!$P$9:$P$1008,'Incident Log'!$V$9:$V$1008,'Incident Log'!$X$9:$X$1008,'Incident Log'!$Z$9:$Z$1008,'Incident Log'!$AF$9:$AF$1008),A16)+IF(OR($V$6=13,$V$6=14),SUMIFS(CHOOSE($V$7,'Incident Log'!$AG$9:$AG$1008,'Incident Log'!$AG$9:$AG$1008,'Incident Log'!$AH$9:$AH$1008,'Incident Log'!$Q$9:$Q$1008,'Incident Log'!$R$9:$R$1008,'Incident Log'!$S$9:$S$1008),'Incident Log'!$C$9:$C$1008,">="&DATE(Dashboard!$B$6,1,1),'Incident Log'!$C$9:$C$1008,"<"&DATE(Dashboard!$B$6,Dashboard!$F$6+1,1),'Incident Log'!$A$9:$A$1008,"<>",CHOOSE($V$6,'Incident Log'!$E$9:$E$1008,'Incident Log'!$F$9:$F$1008,'Incident Log'!$G$9:$G$1008,'Incident Log'!$H$9:$H$1008,'Incident Log'!$I$9:$I$1008,'Incident Log'!$J$9:$J$1008,'Incident Log'!$K$9:$K$1008,'Incident Log'!$L$9:$L$1008,'Incident Log'!$M$9:$M$1008,'Incident Log'!$N$9:$N$1008,'Incident Log'!$O$9:$O$1008,'Incident Log'!$P$9:$P$1008,'Incident Log'!$W$9:$W$1008,'Incident Log'!$Y$9:$Y$1008,'Incident Log'!$Z$9:$Z$1008,'Incident Log'!$AF$9:$AF$1008),A16)-SUMIFS(CHOOSE($V$7,'Incident Log'!$AG$9:$AG$1008,'Incident Log'!$AG$9:$AG$1008,'Incident Log'!$AH$9:$AH$1008,'Incident Log'!$Q$9:$Q$1008,'Incident Log'!$R$9:$R$1008,'Incident Log'!$S$9:$S$1008),'Incident Log'!$C$9:$C$1008,">="&DATE(Dashboard!$B$6,1,1),'Incident Log'!$C$9:$C$1008,"<"&DATE(Dashboard!$B$6,Dashboard!$F$6+1,1),'Incident Log'!$A$9:$A$1008,"<>",CHOOSE($V$6,'Incident Log'!$E$9:$E$1008,'Incident Log'!$F$9:$F$1008,'Incident Log'!$G$9:$G$1008,'Incident Log'!$H$9:$H$1008,'Incident Log'!$I$9:$I$1008,'Incident Log'!$J$9:$J$1008,'Incident Log'!$K$9:$K$1008,'Incident Log'!$L$9:$L$1008,'Incident Log'!$M$9:$M$1008,'Incident Log'!$N$9:$N$1008,'Incident Log'!$O$9:$O$1008,'Incident Log'!$P$9:$P$1008,'Incident Log'!$V$9:$V$1008,'Incident Log'!$X$9:$X$1008,'Incident Log'!$Z$9:$Z$1008,'Incident Log'!$AF$9:$AF$1008),A16,CHOOSE($V$6,'Incident Log'!$E$9:$E$1008,'Incident Log'!$F$9:$F$1008,'Incident Log'!$G$9:$G$1008,'Incident Log'!$H$9:$H$1008,'Incident Log'!$I$9:$I$1008,'Incident Log'!$J$9:$J$1008,'Incident Log'!$K$9:$K$1008,'Incident Log'!$L$9:$L$1008,'Incident Log'!$M$9:$M$1008,'Incident Log'!$N$9:$N$1008,'Incident Log'!$O$9:$O$1008,'Incident Log'!$P$9:$P$1008,'Incident Log'!$W$9:$W$1008,'Incident Log'!$Y$9:$Y$1008,'Incident Log'!$Z$9:$Z$1008,'Incident Log'!$AF$9:$AF$1008),A16),0))) -> 0 | C16: =IF(A16="","",COUNTIFS($B$13:$B$212,">"&B16)+COUNTIFS($B$13:B16,B16)) -> 4 | U16: =IF(COUNTIFS($C$13:$C$212,4)=0,"",INDEX($A$13:$A$212,MATCH(4,$C$13:$C$212,0))) -> Equipment damage | V16: =IF(U16="","",INDEX($B$13:$B$212,MATCH(4,$C$13:$C$212,0))) -> 0
A17: =IF(CHOOSE($V$6,Setup!$F$17,Setup!$G$17,Setup!$H$17,Setup!$I$17,Setup!$J$17,Setup!$K$17,Setup!$L$17,Setup!$M$17,Setup!$N$17,Setup!$O$17,Setup!$P$17,Setup!$Q$17,Setup!$R$17,Setup!$S$17,Setup!$T$17,Setup!$U$17)="","",CHOOSE($V$6,Setup!$F$17,Setup!$G$17,Setup!$H$17,Setup!$I$17,Setup!$J$17,Setup!$K$17,Setup!$L$17,Setup!$M$17,Setup!$N$17,Setup!$O$17,Setup!$P$17,Setup!$Q$17,Setup!$R$17,Setup!$S$17,Setup!$T$17,Setup!$U$17)) -> Vehicle event | B17: =IF(A17="","",IF($V$7=1,COUNTIFS('Incident Log'!$C$9:$C$1008,">="&DATE(Dashboard!$B$6,1,1),'Incident Log'!$C$9:$C$1008,"<"&DATE(Dashboard!$B$6,Dashboard!$F$6+1,1),'Incident Log'!$A$9:$A$1008,"<>",CHOOSE($V$6,'Incident Log'!$E$9:$E$1008,'Incident Log'!$F$9:$F$1008,'Incident Log'!$G$9:$G$1008,'Incident Log'!$H$9:$H$1008,'Incident Log'!$I$9:$I$1008,'Incident Log'!$J$9:$J$1008,'Incident Log'!$K$9:$K$1008,'Incident Log'!$L$9:$L$1008,'Incident Log'!$M$9:$M$1008,'Incident Log'!$N$9:$N$1008,'Incident Log'!$O$9:$O$1008,'Incident Log'!$P$9:$P$1008,'Incident Log'!$V$9:$V$1008,'Incident Log'!$X$9:$X$1008,'Incident Log'!$Z$9:$Z$1008,'Incident Log'!$AF$9:$AF$1008),A17)+IF(OR($V$6=13,$V$6=14),COUNTIFS('Incident Log'!$C$9:$C$1008,">="&DATE(Dashboard!$B$6,1,1),'Incident Log'!$C$9:$C$1008,"<"&DATE(Dashboard!$B$6,Dashboard!$F$6+1,1),'Incident Log'!$A$9:$A$1008,"<>",CHOOSE($V$6,'Incident Log'!$E$9:$E$1008,'Incident Log'!$F$9:$F$1008,'Incident Log'!$G$9:$G$1008,'Incident Log'!$H$9:$H$1008,'Incident Log'!$I$9:$I$1008,'Incident Log'!$J$9:$J$1008,'Incident Log'!$K$9:$K$1008,'Incident Log'!$L$9:$L$1008,'Incident Log'!$M$9:$M$1008,'Incident Log'!$N$9:$N$1008,'Incident Log'!$O$9:$O$1008,'Incident Log'!$P$9:$P$1008,'Incident Log'!$W$9:$W$1008,'Incident Log'!$Y$9:$Y$1008,'Incident Log'!$Z$9:$Z$1008,'Incident Log'!$AF$9:$AF$1008),A17)-COUNTIFS('Incident Log'!$C$9:$C$1008,">="&DATE(Dashboard!$B$6,1,1),'Incident Log'!$C$9:$C$1008,"<"&DATE(Dashboard!$B$6,Dashboard!$F$6+1,1),'Incident Log'!$A$9:$A$1008,"<>",CHOOSE($V$6,'Incident Log'!$E$9:$E$1008,'Incident Log'!$F$9:$F$1008,'Incident Log'!$G$9:$G$1008,'Incident Log'!$H$9:$H$1008,'Incident Log'!$I$9:$I$1008,'Incident Log'!$J$9:$J$1008,'Incident Log'!$K$9:$K$1008,'Incident Log'!$L$9:$L$1008,'Incident Log'!$M$9:$M$1008,'Incident Log'!$N$9:$N$1008,'Incident Log'!$O$9:$O$1008,'Incident Log'!$P$9:$P$1008,'Incident Log'!$V$9:$V$1008,'Incident Log'!$X$9:$X$1008,'Incident Log'!$Z$9:$Z$1008,'Incident Log'!$AF$9:$AF$1008),A17,CHOOSE($V$6,'Incident Log'!$E$9:$E$1008,'Incident Log'!$F$9:$F$1008,'Incident Log'!$G$9:$G$1008,'Incident Log'!$H$9:$H$1008,'Incident Log'!$I$9:$I$1008,'Incident Log'!$J$9:$J$1008,'Incident Log'!$K$9:$K$1008,'Incident Log'!$L$9:$L$1008,'Incident Log'!$M$9:$M$1008,'Incident Log'!$N$9:$N$1008,'Incident Log'!$O$9:$O$1008,'Incident Log'!$P$9:$P$1008,'Incident Log'!$W$9:$W$1008,'Incident Log'!$Y$9:$Y$1008,'Incident Log'!$Z$9:$Z$1008,'Incident Log'!$AF$9:$AF$1008),A17),0),SUMIFS(CHOOSE($V$7,'Incident Log'!$AG$9:$AG$1008,'Incident Log'!$AG$9:$AG$1008,'Incident Log'!$AH$9:$AH$1008,'Incident Log'!$Q$9:$Q$1008,'Incident Log'!$R$9:$R$1008,'Incident Log'!$S$9:$S$1008),'Incident Log'!$C$9:$C$1008,">="&DATE(Dashboard!$B$6,1,1),'Incident Log'!$C$9:$C$1008,"<"&DATE(Dashboard!$B$6,Dashboard!$F$6+1,1),'Incident Log'!$A$9:$A$1008,"<>",CHOOSE($V$6,'Incident Log'!$E$9:$E$1008,'Incident Log'!$F$9:$F$1008,'Incident Log'!$G$9:$G$1008,'Incident Log'!$H$9:$H$1008,'Incident Log'!$I$9:$I$1008,'Incident Log'!$J$9:$J$1008,'Incident Log'!$K$9:$K$1008,'Incident Log'!$L$9:$L$1008,'Incident Log'!$M$9:$M$1008,'Incident Log'!$N$9:$N$1008,'Incident Log'!$O$9:$O$1008,'Incident Log'!$P$9:$P$1008,'Incident Log'!$V$9:$V$1008,'Incident Log'!$X$9:$X$1008,'Incident Log'!$Z$9:$Z$1008,'Incident Log'!$AF$9:$AF$1008),A17)+IF(OR($V$6=13,$V$6=14),SUMIFS(CHOOSE($V$7,'Incident Log'!$AG$9:$AG$1008,'Incident Log'!$AG$9:$AG$1008,'Incident Log'!$AH$9:$AH$1008,'Incident Log'!$Q$9:$Q$1008,'Incident Log'!$R$9:$R$1008,'Incident Log'!$S$9:$S$1008),'Incident Log'!$C$9:$C$1008,">="&DATE(Dashboard!$B$6,1,1),'Incident Log'!$C$9:$C$1008,"<"&DATE(Dashboard!$B$6,Dashboard!$F$6+1,1),'Incident Log'!$A$9:$A$1008,"<>",CHOOSE($V$6,'Incident Log'!$E$9:$E$1008,'Incident Log'!$F$9:$F$1008,'Incident Log'!$G$9:$G$1008,'Incident Log'!$H$9:$H$1008,'Incident Log'!$I$9:$I$1008,'Incident Log'!$J$9:$J$1008,'Incident Log'!$K$9:$K$1008,'Incident Log'!$L$9:$L$1008,'Incident Log'!$M$9:$M$1008,'Incident Log'!$N$9:$N$1008,'Incident Log'!$O$9:$O$1008,'Incident Log'!$P$9:$P$1008,'Incident Log'!$W$9:$W$1008,'Incident Log'!$Y$9:$Y$1008,'Incident Log'!$Z$9:$Z$1008,'Incident Log'!$AF$9:$AF$1008),A17)-SUMIFS(CHOOSE($V$7,'Incident Log'!$AG$9:$AG$1008,'Incident Log'!$AG$9:$AG$1008,'Incident Log'!$AH$9:$AH$1008,'Incident Log'!$Q$9:$Q$1008,'Incident Log'!$R$9:$R$1008,'Incident Log'!$S$9:$S$1008),'Incident Log'!$C$9:$C$1008,">="&DATE(Dashboard!$B$6,1,1),'Incident Log'!$C$9:$C$1008,"<"&DATE(Dashboard!$B$6,Dashboard!$F$6+1,1),'Incident Log'!$A$9:$A$1008,"<>",CHOOSE($V$6,'Incident Log'!$E$9:$E$1008,'Incident Log'!$F$9:$F$1008,'Incident Log'!$G$9:$G$1008,'Incident Log'!$H$9:$H$1008,'Incident Log'!$I$9:$I$1008,'Incident Log'!$J$9:$J$1008,'Incident Log'!$K$9:$K$1008,'Incident Log'!$L$9:$L$1008,'Incident Log'!$M$9:$M$1008,'Incident Log'!$N$9:$N$1008,'Incident Log'!$O$9:$O$1008,'Incident Log'!$P$9:$P$1008,'Incident Log'!$V$9:$V$1008,'Incident Log'!$X$9:$X$1008,'Incident Log'!$Z$9:$Z$1008,'Incident Log'!$AF$9:$AF$1008),A17,CHOOSE($V$6,'Incident Log'!$E$9:$E$1008,'Incident Log'!$F$9:$F$1008,'Incident Log'!$G$9:$G$1008,'Incident Log'!$H$9:$H$1008,'Incident Log'!$I$9:$I$1008,'Incident Log'!$J$9:$J$1008,'Incident Log'!$K$9:$K$1008,'Incident Log'!$L$9:$L$1008,'Incident Log'!$M$9:$M$1008,'Incident Log'!$N$9:$N$1008,'Incident Log'!$O$9:$O$1008,'Incident Log'!$P$9:$P$1008,'Incident Log'!$W$9:$W$1008,'Incident Log'!$Y$9:$Y$1008,'Incident Log'!$Z$9:$Z$1008,'Incident Log'!$AF$9:$AF$1008),A17),0))) -> 0 | C17: =IF(A17="","",COUNTIFS($B$13:$B$212,">"&B17)+COUNTIFS($B$13:B17,B17)) -> 5 | U17: =IF(COUNTIFS($C$13:$C$212,5)=0,"",INDEX($A$13:$A$212,MATCH(5,$C$13:$C$212,0))) -> Vehicle event | V17: =IF(U17="","",INDEX($B$13:$B$212,MATCH(5,$C$13:$C$212,0))) -> 0
A18: =IF(CHOOSE($V$6,Setup!$F$18,Setup!$G$18,Setup!$H$18,Setup!$I$18,Setup!$J$18,Setup!$K$18,Setup!$L$18,Setup!$M$18,Setup!$N$18,Setup!$O$18,Setup!$P$18,Setup!$Q$18,Setup!$R$18,Setup!$S$18,Setup!$T$18,Setup!$U$18)="","",CHOOSE($V$6,Setup!$F$18,Setup!$G$18,Setup!$H$18,Setup!$I$18,Setup!$J$18,Setup!$K$18,Setup!$L$18,Setup!$M$18,Setup!$N$18,Setup!$O$18,Setup!$P$18,Setup!$Q$18,Setup!$R$18,Setup!$S$18,Setup!$T$18,Setup!$U$18)) -> Environmental | B18: =IF(A18="","",IF($V$7=1,COUNTIFS('Incident Log'!$C$9:$C$1008,">="&DATE(Dashboard!$B$6,1,1),'Incident Log'!$C$9:$C$1008,"<"&DATE(Dashboard!$B$6,Dashboard!$F$6+1,1),'Incident Log'!$A$9:$A$1008,"<>",CHOOSE($V$6,'Incident Log'!$E$9:$E$1008,'Incident Log'!$F$9:$F$1008,'Incident Log'!$G$9:$G$1008,'Incident Log'!$H$9:$H$1008,'Incident Log'!$I$9:$I$1008,'Incident Log'!$J$9:$J$1008,'Incident Log'!$K$9:$K$1008,'Incident Log'!$L$9:$L$1008,'Incident Log'!$M$9:$M$1008,'Incident Log'!$N$9:$N$1008,'Incident Log'!$O$9:$O$1008,'Incident Log'!$P$9:$P$1008,'Incident Log'!$V$9:$V$1008,'Incident Log'!$X$9:$X$1008,'Incident Log'!$Z$9:$Z$1008,'Incident Log'!$AF$9:$AF$1008),A18)+IF(OR($V$6=13,$V$6=14),COUNTIFS('Incident Log'!$C$9:$C$1008,">="&DATE(Dashboard!$B$6,1,1),'Incident Log'!$C$9:$C$1008,"<"&DATE(Dashboard!$B$6,Dashboard!$F$6+1,1),'Incident Log'!$A$9:$A$1008,"<>",CHOOSE($V$6,'Incident Log'!$E$9:$E$1008,'Incident Log'!$F$9:$F$1008,'Incident Log'!$G$9:$G$1008,'Incident Log'!$H$9:$H$1008,'Incident Log'!$I$9:$I$1008,'Incident Log'!$J$9:$J$1008,'Incident Log'!$K$9:$K$1008,'Incident Log'!$L$9:$L$1008,'Incident Log'!$M$9:$M$1008,'Incident Log'!$N$9:$N$1008,'Incident Log'!$O$9:$O$1008,'Incident Log'!$P$9:$P$1008,'Incident Log'!$W$9:$W$1008,'Incident Log'!$Y$9:$Y$1008,'Incident Log'!$Z$9:$Z$1008,'Incident Log'!$AF$9:$AF$1008),A18)-COUNTIFS('Incident Log'!$C$9:$C$1008,">="&DATE(Dashboard!$B$6,1,1),'Incident Log'!$C$9:$C$1008,"<"&DATE(Dashboard!$B$6,Dashboard!$F$6+1,1),'Incident Log'!$A$9:$A$1008,"<>",CHOOSE($V$6,'Incident Log'!$E$9:$E$1008,'Incident Log'!$F$9:$F$1008,'Incident Log'!$G$9:$G$1008,'Incident Log'!$H$9:$H$1008,'Incident Log'!$I$9:$I$1008,'Incident Log'!$J$9:$J$1008,'Incident Log'!$K$9:$K$1008,'Incident Log'!$L$9:$L$1008,'Incident Log'!$M$9:$M$1008,'Incident Log'!$N$9:$N$1008,'Incident Log'!$O$9:$O$1008,'Incident Log'!$P$9:$P$1008,'Incident Log'!$V$9:$V$1008,'Incident Log'!$X$9:$X$1008,'Incident Log'!$Z$9:$Z$1008,'Incident Log'!$AF$9:$AF$1008),A18,CHOOSE($V$6,'Incident Log'!$E$9:$E$1008,'Incident Log'!$F$9:$F$1008,'Incident Log'!$G$9:$G$1008,'Incident Log'!$H$9:$H$1008,'Incident Log'!$I$9:$I$1008,'Incident Log'!$J$9:$J$1008,'Incident Log'!$K$9:$K$1008,'Incident Log'!$L$9:$L$1008,'Incident Log'!$M$9:$M$1008,'Incident Log'!$N$9:$N$1008,'Incident Log'!$O$9:$O$1008,'Incident Log'!$P$9:$P$1008,'Incident Log'!$W$9:$W$1008,'Incident Log'!$Y$9:$Y$1008,'Incident Log'!$Z$9:$Z$1008,'Incident Log'!$AF$9:$AF$1008),A18),0),SUMIFS(CHOOSE($V$7,'Incident Log'!$AG$9:$AG$1008,'Incident Log'!$AG$9:$AG$1008,'Incident Log'!$AH$9:$AH$1008,'Incident Log'!$Q$9:$Q$1008,'Incident Log'!$R$9:$R$1008,'Incident Log'!$S$9:$S$1008),'Incident Log'!$C$9:$C$1008,">="&DATE(Dashboard!$B$6,1,1),'Incident Log'!$C$9:$C$1008,"<"&DATE(Dashboard!$B$6,Dashboard!$F$6+1,1),'Incident Log'!$A$9:$A$1008,"<>",CHOOSE($V$6,'Incident Log'!$E$9:$E$1008,'Incident Log'!$F$9:$F$1008,'Incident Log'!$G$9:$G$1008,'Incident Log'!$H$9:$H$1008,'Incident Log'!$I$9:$I$1008,'Incident Log'!$J$9:$J$1008,'Incident Log'!$K$9:$K$1008,'Incident Log'!$L$9:$L$1008,'Incident Log'!$M$9:$M$1008,'Incident Log'!$N$9:$N$1008,'Incident Log'!$O$9:$O$1008,'Incident Log'!$P$9:$P$1008,'Incident Log'!$V$9:$V$1008,'Incident Log'!$X$9:$X$1008,'Incident Log'!$Z$9:$Z$1008,'Incident Log'!$AF$9:$AF$1008),A18)+IF(OR($V$6=13,$V$6=14),SUMIFS(CHOOSE($V$7,'Incident Log'!$AG$9:$AG$1008,'Incident Log'!$AG$9:$AG$1008,'Incident Log'!$AH$9:$AH$1008,'Incident Log'!$Q$9:$Q$1008,'Incident Log'!$R$9:$R$1008,'Incident Log'!$S$9:$S$1008),'Incident Log'!$C$9:$C$1008,">="&DATE(Dashboard!$B$6,1,1),'Incident Log'!$C$9:$C$1008,"<"&DATE(Dashboard!$B$6,Dashboard!$F$6+1,1),'Incident Log'!$A$9:$A$1008,"<>",CHOOSE($V$6,'Incident Log'!$E$9:$E$1008,'Incident Log'!$F$9:$F$1008,'Incident Log'!$G$9:$G$1008,'Incident Log'!$H$9:$H$1008,'Incident Log'!$I$9:$I$1008,'Incident Log'!$J$9:$J$1008,'Incident Log'!$K$9:$K$1008,'Incident Log'!$L$9:$L$1008,'Incident Log'!$M$9:$M$1008,'Incident Log'!$N$9:$N$1008,'Incident Log'!$O$9:$O$1008,'Incident Log'!$P$9:$P$1008,'Incident Log'!$W$9:$W$1008,'Incident Log'!$Y$9:$Y$1008,'Incident Log'!$Z$9:$Z$1008,'Incident Log'!$AF$9:$AF$1008),A18)-SUMIFS(CHOOSE($V$7,'Incident Log'!$AG$9:$AG$1008,'Incident Log'!$AG$9:$AG$1008,'Incident Log'!$AH$9:$AH$1008,'Incident Log'!$Q$9:$Q$1008,'Incident Log'!$R$9:$R$1008,'Incident Log'!$S$9:$S$1008),'Incident Log'!$C$9:$C$1008,">="&DATE(Dashboard!$B$6,1,1),'Incident Log'!$C$9:$C$1008,"<"&DATE(Dashboard!$B$6,Dashboard!$F$6+1,1),'Incident Log'!$A$9:$A$1008,"<>",CHOOSE($V$6,'Incident Log'!$E$9:$E$1008,'Incident Log'!$F$9:$F$1008,'Incident Log'!$G$9:$G$1008,'Incident Log'!$H$9:$H$1008,'Incident Log'!$I$9:$I$1008,'Incident Log'!$J$9:$J$1008,'Incident Log'!$K$9:$K$1008,'Incident Log'!$L$9:$L$1008,'Incident Log'!$M$9:$M$1008,'Incident Log'!$N$9:$N$1008,'Incident Log'!$O$9:$O$1008,'Incident Log'!$P$9:$P$1008,'Incident Log'!$V$9:$V$1008,'Incident Log'!$X$9:$X$1008,'Incident Log'!$Z$9:$Z$1008,'Incident Log'!$AF$9:$AF$1008),A18,CHOOSE($V$6,'Incident Log'!$E$9:$E$1008,'Incident Log'!$F$9:$F$1008,'Incident Log'!$G$9:$G$1008,'Incident Log'!$H$9:$H$1008,'Incident Log'!$I$9:$I$1008,'Incident Log'!$J$9:$J$1008,'Incident Log'!$K$9:$K$1008,'Incident Log'!$L$9:$L$1008,'Incident Log'!$M$9:$M$1008,'Incident Log'!$N$9:$N$1008,'Incident Log'!$O$9:$O$1008,'Incident Log'!$P$9:$P$1008,'Incident Log'!$W$9:$W$1008,'Incident Log'!$Y$9:$Y$1008,'Incident Log'!$Z$9:$Z$1008,'Incident Log'!$AF$9:$AF$1008),A18),0))) -> 0 | C18: =IF(A18="","",COUNTIFS($B$13:$B$212,">"&B18)+COUNTIFS($B$13:B18,B18)) -> 6 | U18: =IF(COUNTIFS($C$13:$C$212,6)=0,"",INDEX($A$13:$A$212,MATCH(6,$C$13:$C$212,0))) -> Environmental | V18: =IF(U18="","",INDEX($B$13:$B$212,MATCH(6,$C$13:$C$212,0))) -> 0
A19: =IF(CHOOSE($V$6,Setup!$F$19,Setup!$G$19,Setup!$H$19,Setup!$I$19,Setup!$J$19,Setup!$K$19,Setup!$L$19,Setup!$M$19,Setup!$N$19,Setup!$O$19,Setup!$P$19,Setup!$Q$19,Setup!$R$19,Setup!$S$19,Setup!$T$19,Setup!$U$19)="","",CHOOSE($V$6,Setup!$F$19,Setup!$G$19,Setup!$H$19,Setup!$I$19,Setup!$J$19,Setup!$K$19,Setup!$L$19,Setup!$M$19,Setup!$N$19,Setup!$O$19,Setup!$P$19,Setup!$Q$19,Setup!$R$19,Setup!$S$19,Setup!$T$19,Setup!$U$19)) -> Fire / explosion | B19: =IF(A19="","",IF($V$7=1,COUNTIFS('Incident Log'!$C$9:$C$1008,">="&DATE(Dashboard!$B$6,1,1),'Incident Log'!$C$9:$C$1008,"<"&DATE(Dashboard!$B$6,Dashboard!$F$6+1,1),'Incident Log'!$A$9:$A$1008,"<>",CHOOSE($V$6,'Incident Log'!$E$9:$E$1008,'Incident Log'!$F$9:$F$1008,'Incident Log'!$G$9:$G$1008,'Incident Log'!$H$9:$H$1008,'Incident Log'!$I$9:$I$1008,'Incident Log'!$J$9:$J$1008,'Incident Log'!$K$9:$K$1008,'Incident Log'!$L$9:$L$1008,'Incident Log'!$M$9:$M$1008,'Incident Log'!$N$9:$N$1008,'Incident Log'!$O$9:$O$1008,'Incident Log'!$P$9:$P$1008,'Incident Log'!$V$9:$V$1008,'Incident Log'!$X$9:$X$1008,'Incident Log'!$Z$9:$Z$1008,'Incident Log'!$AF$9:$AF$1008),A19)+IF(OR($V$6=13,$V$6=14),COUNTIFS('Incident Log'!$C$9:$C$1008,">="&DATE(Dashboard!$B$6,1,1),'Incident Log'!$C$9:$C$1008,"<"&DATE(Dashboard!$B$6,Dashboard!$F$6+1,1),'Incident Log'!$A$9:$A$1008,"<>",CHOOSE($V$6,'Incident Log'!$E$9:$E$1008,'Incident Log'!$F$9:$F$1008,'Incident Log'!$G$9:$G$1008,'Incident Log'!$H$9:$H$1008,'Incident Log'!$I$9:$I$1008,'Incident Log'!$J$9:$J$1008,'Incident Log'!$K$9:$K$1008,'Incident Log'!$L$9:$L$1008,'Incident Log'!$M$9:$M$1008,'Incident Log'!$N$9:$N$1008,'Incident Log'!$O$9:$O$1008,'Incident Log'!$P$9:$P$1008,'Incident Log'!$W$9:$W$1008,'Incident Log'!$Y$9:$Y$1008,'Incident Log'!$Z$9:$Z$1008,'Incident Log'!$AF$9:$AF$1008),A19)-COUNTIFS('Incident Log'!$C$9:$C$1008,">="&DATE(Dashboard!$B$6,1,1),'Incident Log'!$C$9:$C$1008,"<"&DATE(Dashboard!$B$6,Dashboard!$F$6+1,1),'Incident Log'!$A$9:$A$1008,"<>",CHOOSE($V$6,'Incident Log'!$E$9:$E$1008,'Incident Log'!$F$9:$F$1008,'Incident Log'!$G$9:$G$1008,'Incident Log'!$H$9:$H$1008,'Incident Log'!$I$9:$I$1008,'Incident Log'!$J$9:$J$1008,'Incident Log'!$K$9:$K$1008,'Incident Log'!$L$9:$L$1008,'Incident Log'!$M$9:$M$1008,'Incident Log'!$N$9:$N$1008,'Incident Log'!$O$9:$O$1008,'Incident Log'!$P$9:$P$1008,'Incident Log'!$V$9:$V$1008,'Incident Log'!$X$9:$X$1008,'Incident Log'!$Z$9:$Z$1008,'Incident Log'!$AF$9:$AF$1008),A19,CHOOSE($V$6,'Incident Log'!$E$9:$E$1008,'Incident Log'!$F$9:$F$1008,'Incident Log'!$G$9:$G$1008,'Incident Log'!$H$9:$H$1008,'Incident Log'!$I$9:$I$1008,'Incident Log'!$J$9:$J$1008,'Incident Log'!$K$9:$K$1008,'Incident Log'!$L$9:$L$1008,'Incident Log'!$M$9:$M$1008,'Incident Log'!$N$9:$N$1008,'Incident Log'!$O$9:$O$1008,'Incident Log'!$P$9:$P$1008,'Incident Log'!$W$9:$W$1008,'Incident Log'!$Y$9:$Y$1008,'Incident Log'!$Z$9:$Z$1008,'Incident Log'!$AF$9:$AF$1008),A19),0),SUMIFS(CHOOSE($V$7,'Incident Log'!$AG$9:$AG$1008,'Incident Log'!$AG$9:$AG$1008,'Incident Log'!$AH$9:$AH$1008,'Incident Log'!$Q$9:$Q$1008,'Incident Log'!$R$9:$R$1008,'Incident Log'!$S$9:$S$1008),'Incident Log'!$C$9:$C$1008,">="&DATE(Dashboard!$B$6,1,1),'Incident Log'!$C$9:$C$1008,"<"&DATE(Dashboard!$B$6,Dashboard!$F$6+1,1),'Incident Log'!$A$9:$A$1008,"<>",CHOOSE($V$6,'Incident Log'!$E$9:$E$1008,'Incident Log'!$F$9:$F$1008,'Incident Log'!$G$9:$G$1008,'Incident Log'!$H$9:$H$1008,'Incident Log'!$I$9:$I$1008,'Incident Log'!$J$9:$J$1008,'Incident Log'!$K$9:$K$1008,'Incident Log'!$L$9:$L$1008,'Incident Log'!$M$9:$M$1008,'Incident Log'!$N$9:$N$1008,'Incident Log'!$O$9:$O$1008,'Incident Log'!$P$9:$P$1008,'Incident Log'!$V$9:$V$1008,'Incident Log'!$X$9:$X$1008,'Incident Log'!$Z$9:$Z$1008,'Incident Log'!$AF$9:$AF$1008),A19)+IF(OR($V$6=13,$V$6=14),SUMIFS(CHOOSE($V$7,'Incident Log'!$AG$9:$AG$1008,'Incident Log'!$AG$9:$AG$1008,'Incident Log'!$AH$9:$AH$1008,'Incident Log'!$Q$9:$Q$1008,'Incident Log'!$R$9:$R$1008,'Incident Log'!$S$9:$S$1008),'Incident Log'!$C$9:$C$1008,">="&DATE(Dashboard!$B$6,1,1),'Incident Log'!$C$9:$C$1008,"<"&DATE(Dashboard!$B$6,Dashboard!$F$6+1,1),'Incident Log'!$A$9:$A$1008,"<>",CHOOSE($V$6,'Incident Log'!$E$9:$E$1008,'Incident Log'!$F$9:$F$1008,'Incident Log'!$G$9:$G$1008,'Incident Log'!$H$9:$H$1008,'Incident Log'!$I$9:$I$1008,'Incident Log'!$J$9:$J$1008,'Incident Log'!$K$9:$K$1008,'Incident Log'!$L$9:$L$1008,'Incident Log'!$M$9:$M$1008,'Incident Log'!$N$9:$N$1008,'Incident Log'!$O$9:$O$1008,'Incident Log'!$P$9:$P$1008,'Incident Log'!$W$9:$W$1008,'Incident Log'!$Y$9:$Y$1008,'Incident Log'!$Z$9:$Z$1008,'Incident Log'!$AF$9:$AF$1008),A19)-SUMIFS(CHOOSE($V$7,'Incident Log'!$AG$9:$AG$1008,'Incident Log'!$AG$9:$AG$1008,'Incident Log'!$AH$9:$AH$1008,'Incident Log'!$Q$9:$Q$1008,'Incident Log'!$R$9:$R$1008,'Incident Log'!$S$9:$S$1008),'Incident Log'!$C$9:$C$1008,">="&DATE(Dashboard!$B$6,1,1),'Incident Log'!$C$9:$C$1008,"<"&DATE(Dashboard!$B$6,Dashboard!$F$6+1,1),'Incident Log'!$A$9:$A$1008,"<>",CHOOSE($V$6,'Incident Log'!$E$9:$E$1008,'Incident Log'!$F$9:$F$1008,'Incident Log'!$G$9:$G$1008,'Incident Log'!$H$9:$H$1008,'Incident Log'!$I$9:$I$1008,'Incident Log'!$J$9:$J$1008,'Incident Log'!$K$9:$K$1008,'Incident Log'!$L$9:$L$1008,'Incident Log'!$M$9:$M$1008,'Incident Log'!$N$9:$N$1008,'Incident Log'!$O$9:$O$1008,'Incident Log'!$P$9:$P$1008,'Incident Log'!$V$9:$V$1008,'Incident Log'!$X$9:$X$1008,'Incident Log'!$Z$9:$Z$1008,'Incident Log'!$AF$9:$AF$1008),A19,CHOOSE($V$6,'Incident Log'!$E$9:$E$1008,'Incident Log'!$F$9:$F$1008,'Incident Log'!$G$9:$G$1008,'Incident Log'!$H$9:$H$1008,'Incident Log'!$I$9:$I$1008,'Incident Log'!$J$9:$J$1008,'Incident Log'!$K$9:$K$1008,'Incident Log'!$L$9:$L$1008,'Incident Log'!$M$9:$M$1008,'Incident Log'!$N$9:$N$1008,'Incident Log'!$O$9:$O$1008,'Incident Log'!$P$9:$P$1008,'Incident Log'!$W$9:$W$1008,'Incident Log'!$Y$9:$Y$1008,'Incident Log'!$Z$9:$Z$1008,'Incident Log'!$AF$9:$AF$1008),A19),0))) -> 0 | C19: =IF(A19="","",COUNTIFS($B$13:$B$212,">"&B19)+COUNTIFS($B$13:B19,B19)) -> 7 | U19: =IF(COUNTIFS($C$13:$C$212,7)=0,"",INDEX($A$13:$A$212,MATCH(7,$C$13:$C$212,0))) -> Fire / explosion | V19: =IF(U19="","",INDEX($B$13:$B$212,MATCH(7,$C$13:$C$212,0))) -> 0
A20: =IF(CHOOSE($V$6,Setup!$F$20,Setup!$G$20,Setup!$H$20,Setup!$I$20,Setup!$J$20,Setup!$K$20,Setup!$L$20,Setup!$M$20,Setup!$N$20,Setup!$O$20,Setup!$P$20,Setup!$Q$20,Setup!$R$20,Setup!$S$20,Setup!$T$20,Setup!$U$20)="","",CHOOSE($V$6,Setup!$F$20,Setup!$G$20,Setup!$H$20,Setup!$I$20,Setup!$J$20,Setup!$K$20,Setup!$L$20,Setup!$M$20,Setup!$N$20,Setup!$O$20,Setup!$P$20,Setup!$Q$20,Setup!$R$20,Setup!$S$20,Setup!$T$20,Setup!$U$20)) -> Security / theft | B20: =IF(A20="","",IF($V$7=1,COUNTIFS('Incident Log'!$C$9:$C$1008,">="&DATE(Dashboard!$B$6,1,1),'Incident Log'!$C$9:$C$1008,"<"&DATE(Dashboard!$B$6,Dashboard!$F$6+1,1),'Incident Log'!$A$9:$A$1008,"<>",CHOOSE($V$6,'Incident Log'!$E$9:$E$1008,'Incident Log'!$F$9:$F$1008,'Incident Log'!$G$9:$G$1008,'Incident Log'!$H$9:$H$1008,'Incident Log'!$I$9:$I$1008,'Incident Log'!$J$9:$J$1008,'Incident Log'!$K$9:$K$1008,'Incident Log'!$L$9:$L$1008,'Incident Log'!$M$9:$M$1008,'Incident Log'!$N$9:$N$1008,'Incident Log'!$O$9:$O$1008,'Incident Log'!$P$9:$P$1008,'Incident Log'!$V$9:$V$1008,'Incident Log'!$X$9:$X$1008,'Incident Log'!$Z$9:$Z$1008,'Incident Log'!$AF$9:$AF$1008),A20)+IF(OR($V$6=13,$V$6=14),COUNTIFS('Incident Log'!$C$9:$C$1008,">="&DATE(Dashboard!$B$6,1,1),'Incident Log'!$C$9:$C$1008,"<"&DATE(Dashboard!$B$6,Dashboard!$F$6+1,1),'Incident Log'!$A$9:$A$1008,"<>",CHOOSE($V$6,'Incident Log'!$E$9:$E$1008,'Incident Log'!$F$9:$F$1008,'Incident Log'!$G$9:$G$1008,'Incident Log'!$H$9:$H$1008,'Incident Log'!$I$9:$I$1008,'Incident Log'!$J$9:$J$1008,'Incident Log'!$K$9:$K$1008,'Incident Log'!$L$9:$L$1008,'Incident Log'!$M$9:$M$1008,'Incident Log'!$N$9:$N$1008,'Incident Log'!$O$9:$O$1008,'Incident Log'!$P$9:$P$1008,'Incident Log'!$W$9:$W$1008,'Incident Log'!$Y$9:$Y$1008,'Incident Log'!$Z$9:$Z$1008,'Incident Log'!$AF$9:$AF$1008),A20)-COUNTIFS('Incident Log'!$C$9:$C$1008,">="&DATE(Dashboard!$B$6,1,1),'Incident Log'!$C$9:$C$1008,"<"&DATE(Dashboard!$B$6,Dashboard!$F$6+1,1),'Incident Log'!$A$9:$A$1008,"<>",CHOOSE($V$6,'Incident Log'!$E$9:$E$1008,'Incident Log'!$F$9:$F$1008,'Incident Log'!$G$9:$G$1008,'Incident Log'!$H$9:$H$1008,'Incident Log'!$I$9:$I$1008,'Incident Log'!$J$9:$J$1008,'Incident Log'!$K$9:$K$1008,'Incident Log'!$L$9:$L$1008,'Incident Log'!$M$9:$M$1008,'Incident Log'!$N$9:$N$1008,'Incident Log'!$O$9:$O$1008,'Incident Log'!$P$9:$P$1008,'Incident Log'!$V$9:$V$1008,'Incident Log'!$X$9:$X$1008,'Incident Log'!$Z$9:$Z$1008,'Incident Log'!$AF$9:$AF$1008),A20,CHOOSE($V$6,'Incident Log'!$E$9:$E$1008,'Incident Log'!$F$9:$F$1008,'Incident Log'!$G$9:$G$1008,'Incident Log'!$H$9:$H$1008,'Incident Log'!$I$9:$I$1008,'Incident Log'!$J$9:$J$1008,'Incident Log'!$K$9:$K$1008,'Incident Log'!$L$9:$L$1008,'Incident Log'!$M$9:$M$1008,'Incident Log'!$N$9:$N$1008,'Incident Log'!$O$9:$O$1008,'Incident Log'!$P$9:$P$1008,'Incident Log'!$W$9:$W$1008,'Incident Log'!$Y$9:$Y$1008,'Incident Log'!$Z$9:$Z$1008,'Incident Log'!$AF$9:$AF$1008),A20),0),SUMIFS(CHOOSE($V$7,'Incident Log'!$AG$9:$AG$1008,'Incident Log'!$AG$9:$AG$1008,'Incident Log'!$AH$9:$AH$1008,'Incident Log'!$Q$9:$Q$1008,'Incident Log'!$R$9:$R$1008,'Incident Log'!$S$9:$S$1008),'Incident Log'!$C$9:$C$1008,">="&DATE(Dashboard!$B$6,1,1),'Incident Log'!$C$9:$C$1008,"<"&DATE(Dashboard!$B$6,Dashboard!$F$6+1,1),'Incident Log'!$A$9:$A$1008,"<>",CHOOSE($V$6,'Incident Log'!$E$9:$E$1008,'Incident Log'!$F$9:$F$1008,'Incident Log'!$G$9:$G$1008,'Incident Log'!$H$9:$H$1008,'Incident Log'!$I$9:$I$1008,'Incident Log'!$J$9:$J$1008,'Incident Log'!$K$9:$K$1008,'Incident Log'!$L$9:$L$1008,'Incident Log'!$M$9:$M$1008,'Incident Log'!$N$9:$N$1008,'Incident Log'!$O$9:$O$1008,'Incident Log'!$P$9:$P$1008,'Incident Log'!$V$9:$V$1008,'Incident Log'!$X$9:$X$1008,'Incident Log'!$Z$9:$Z$1008,'Incident Log'!$AF$9:$AF$1008),A20)+IF(OR($V$6=13,$V$6=14),SUMIFS(CHOOSE($V$7,'Incident Log'!$AG$9:$AG$1008,'Incident Log'!$AG$9:$AG$1008,'Incident Log'!$AH$9:$AH$1008,'Incident Log'!$Q$9:$Q$1008,'Incident Log'!$R$9:$R$1008,'Incident Log'!$S$9:$S$1008),'Incident Log'!$C$9:$C$1008,">="&DATE(Dashboard!$B$6,1,1),'Incident Log'!$C$9:$C$1008,"<"&DATE(Dashboard!$B$6,Dashboard!$F$6+1,1),'Incident Log'!$A$9:$A$1008,"<>",CHOOSE($V$6,'Incident Log'!$E$9:$E$1008,'Incident Log'!$F$9:$F$1008,'Incident Log'!$G$9:$G$1008,'Incident Log'!$H$9:$H$1008,'Incident Log'!$I$9:$I$1008,'Incident Log'!$J$9:$J$1008,'Incident Log'!$K$9:$K$1008,'Incident Log'!$L$9:$L$1008,'Incident Log'!$M$9:$M$1008,'Incident Log'!$N$9:$N$1008,'Incident Log'!$O$9:$O$1008,'Incident Log'!$P$9:$P$1008,'Incident Log'!$W$9:$W$1008,'Incident Log'!$Y$9:$Y$1008,'Incident Log'!$Z$9:$Z$1008,'Incident Log'!$AF$9:$AF$1008),A20)-SUMIFS(CHOOSE($V$7,'Incident Log'!$AG$9:$AG$1008,'Incident Log'!$AG$9:$AG$1008,'Incident Log'!$AH$9:$AH$1008,'Incident Log'!$Q$9:$Q$1008,'Incident Log'!$R$9:$R$1008,'Incident Log'!$S$9:$S$1008),'Incident Log'!$C$9:$C$1008,">="&DATE(Dashboard!$B$6,1,1),'Incident Log'!$C$9:$C$1008,"<"&DATE(Dashboard!$B$6,Dashboard!$F$6+1,1),'Incident Log'!$A$9:$A$1008,"<>",CHOOSE($V$6,'Incident Log'!$E$9:$E$1008,'Incident Log'!$F$9:$F$1008,'Incident Log'!$G$9:$G$1008,'Incident Log'!$H$9:$H$1008,'Incident Log'!$I$9:$I$1008,'Incident Log'!$J$9:$J$1008,'Incident Log'!$K$9:$K$1008,'Incident Log'!$L$9:$L$1008,'Incident Log'!$M$9:$M$1008,'Incident Log'!$N$9:$N$1008,'Incident Log'!$O$9:$O$1008,'Incident Log'!$P$9:$P$1008,'Incident Log'!$V$9:$V$1008,'Incident Log'!$X$9:$X$1008,'Incident Log'!$Z$9:$Z$1008,'Incident Log'!$AF$9:$AF$1008),A20,CHOOSE($V$6,'Incident Log'!$E$9:$E$1008,'Incident Log'!$F$9:$F$1008,'Incident Log'!$G$9:$G$1008,'Incident Log'!$H$9:$H$1008,'Incident Log'!$I$9:$I$1008,'Incident Log'!$J$9:$J$1008,'Incident Log'!$K$9:$K$1008,'Incident Log'!$L$9:$L$1008,'Incident Log'!$M$9:$M$1008,'Incident Log'!$N$9:$N$1008,'Incident Log'!$O$9:$O$1008,'Incident Log'!$P$9:$P$1008,'Incident Log'!$W$9:$W$1008,'Incident Log'!$Y$9:$Y$1008,'Incident Log'!$Z$9:$Z$1008,'Incident Log'!$AF$9:$AF$1008),A20),0))) -> 0 | C20: =IF(A20="","",COUNTIFS($B$13:$B$212,">"&B20)+COUNTIFS($B$13:B20,B20)) -> 8 | U20: =IF(COUNTIFS($C$13:$C$212,8)=0,"",INDEX($A$13:$A$212,MATCH(8,$C$13:$C$212,0))) -> Security / theft | V20: =IF(U20="","",INDEX($B$13:$B$212,MATCH(8,$C$13:$C$212,0))) -> 0
A21: =IF(CHOOSE($V$6,Setup!$F$21,Setup!$G$21,Setup!$H$21,Setup!$I$21,Setup!$J$21,Setup!$K$21,Setup!$L$21,Setup!$M$21,Setup!$N$21,Setup!$O$21,Setup!$P$21,Setup!$Q$21,Setup!$R$21,Setup!$S$21,Setup!$T$21,Setup!$U$21)="","",CHOOSE($V$6,Setup!$F$21,Setup!$G$21,Setup!$H$21,Setup!$I$21,Setup!$J$21,Setup!$K$21,Setup!$L$21,Setup!$M$21,Setup!$N$21,Setup!$O$21,Setup!$P$21,Setup!$Q$21,Setup!$R$21,Setup!$S$21,Setup!$T$21,Setup!$U$21)) -> Hazard observation | B21: =IF(A21="","",IF($V$7=1,COUNTIFS('Incident Log'!$C$9:$C$1008,">="&DATE(Dashboard!$B$6,1,1),'Incident Log'!$C$9:$C$1008,"<"&DATE(Dashboard!$B$6,Dashboard!$F$6+1,1),'Incident Log'!$A$9:$A$1008,"<>",CHOOSE($V$6,'Incident Log'!$E$9:$E$1008,'Incident Log'!$F$9:$F$1008,'Incident Log'!$G$9:$G$1008,'Incident Log'!$H$9:$H$1008,'Incident Log'!$I$9:$I$1008,'Incident Log'!$J$9:$J$1008,'Incident Log'!$K$9:$K$1008,'Incident Log'!$L$9:$L$1008,'Incident Log'!$M$9:$M$1008,'Incident Log'!$N$9:$N$1008,'Incident Log'!$O$9:$O$1008,'Incident Log'!$P$9:$P$1008,'Incident Log'!$V$9:$V$1008,'Incident Log'!$X$9:$X$1008,'Incident Log'!$Z$9:$Z$1008,'Incident Log'!$AF$9:$AF$1008),A21)+IF(OR($V$6=13,$V$6=14),COUNTIFS('Incident Log'!$C$9:$C$1008,">="&DATE(Dashboard!$B$6,1,1),'Incident Log'!$C$9:$C$1008,"<"&DATE(Dashboard!$B$6,Dashboard!$F$6+1,1),'Incident Log'!$A$9:$A$1008,"<>",CHOOSE($V$6,'Incident Log'!$E$9:$E$1008,'Incident Log'!$F$9:$F$1008,'Incident Log'!$G$9:$G$1008,'Incident Log'!$H$9:$H$1008,'Incident Log'!$I$9:$I$1008,'Incident Log'!$J$9:$J$1008,'Incident Log'!$K$9:$K$1008,'Incident Log'!$L$9:$L$1008,'Incident Log'!$M$9:$M$1008,'Incident Log'!$N$9:$N$1008,'Incident Log'!$O$9:$O$1008,'Incident Log'!$P$9:$P$1008,'Incident Log'!$W$9:$W$1008,'Incident Log'!$Y$9:$Y$1008,'Incident Log'!$Z$9:$Z$1008,'Incident Log'!$AF$9:$AF$1008),A21)-COUNTIFS('Incident Log'!$C$9:$C$1008,">="&DATE(Dashboard!$B$6,1,1),'Incident Log'!$C$9:$C$1008,"<"&DATE(Dashboard!$B$6,Dashboard!$F$6+1,1),'Incident Log'!$A$9:$A$1008,"<>",CHOOSE($V$6,'Incident Log'!$E$9:$E$1008,'Incident Log'!$F$9:$F$1008,'Incident Log'!$G$9:$G$1008,'Incident Log'!$H$9:$H$1008,'Incident Log'!$I$9:$I$1008,'Incident Log'!$J$9:$J$1008,'Incident Log'!$K$9:$K$1008,'Incident Log'!$L$9:$L$1008,'Incident Log'!$M$9:$M$1008,'Incident Log'!$N$9:$N$1008,'Incident Log'!$O$9:$O$1008,'Incident Log'!$P$9:$P$1008,'Incident Log'!$V$9:$V$1008,'Incident Log'!$X$9:$X$1008,'Incident Log'!$Z$9:$Z$1008,'Incident Log'!$AF$9:$AF$1008),A21,CHOOSE($V$6,'Incident Log'!$E$9:$E$1008,'Incident Log'!$F$9:$F$1008,'Incident Log'!$G$9:$G$1008,'Incident Log'!$H$9:$H$1008,'Incident Log'!$I$9:$I$1008,'Incident Log'!$J$9:$J$1008,'Incident Log'!$K$9:$K$1008,'Incident Log'!$L$9:$L$1008,'Incident Log'!$M$9:$M$1008,'Incident Log'!$N$9:$N$1008,'Incident Log'!$O$9:$O$1008,'Incident Log'!$P$9:$P$1008,'Incident Log'!$W$9:$W$1008,'Incident Log'!$Y$9:$Y$1008,'Incident Log'!$Z$9:$Z$1008,'Incident Log'!$AF$9:$AF$1008),A21),0),SUMIFS(CHOOSE($V$7,'Incident Log'!$AG$9:$AG$1008,'Incident Log'!$AG$9:$AG$1008,'Incident Log'!$AH$9:$AH$1008,'Incident Log'!$Q$9:$Q$1008,'Incident Log'!$R$9:$R$1008,'Incident Log'!$S$9:$S$1008),'Incident Log'!$C$9:$C$1008,">="&DATE(Dashboard!$B$6,1,1),'Incident Log'!$C$9:$C$1008,"<"&DATE(Dashboard!$B$6,Dashboard!$F$6+1,1),'Incident Log'!$A$9:$A$1008,"<>",CHOOSE($V$6,'Incident Log'!$E$9:$E$1008,'Incident Log'!$F$9:$F$1008,'Incident Log'!$G$9:$G$1008,'Incident Log'!$H$9:$H$1008,'Incident Log'!$I$9:$I$1008,'Incident Log'!$J$9:$J$1008,'Incident Log'!$K$9:$K$1008,'Incident Log'!$L$9:$L$1008,'Incident Log'!$M$9:$M$1008,'Incident Log'!$N$9:$N$1008,'Incident Log'!$O$9:$O$1008,'Incident Log'!$P$9:$P$1008,'Incident Log'!$V$9:$V$1008,'Incident Log'!$X$9:$X$1008,'Incident Log'!$Z$9:$Z$1008,'Incident Log'!$AF$9:$AF$1008),A21)+IF(OR($V$6=13,$V$6=14),SUMIFS(CHOOSE($V$7,'Incident Log'!$AG$9:$AG$1008,'Incident Log'!$AG$9:$AG$1008,'Incident Log'!$AH$9:$AH$1008,'Incident Log'!$Q$9:$Q$1008,'Incident Log'!$R$9:$R$1008,'Incident Log'!$S$9:$S$1008),'Incident Log'!$C$9:$C$1008,">="&DATE(Dashboard!$B$6,1,1),'Incident Log'!$C$9:$C$1008,"<"&DATE(Dashboard!$B$6,Dashboard!$F$6+1,1),'Incident Log'!$A$9:$A$1008,"<>",CHOOSE($V$6,'Incident Log'!$E$9:$E$1008,'Incident Log'!$F$9:$F$1008,'Incident Log'!$G$9:$G$1008,'Incident Log'!$H$9:$H$1008,'Incident Log'!$I$9:$I$1008,'Incident Log'!$J$9:$J$1008,'Incident Log'!$K$9:$K$1008,'Incident Log'!$L$9:$L$1008,'Incident Log'!$M$9:$M$1008,'Incident Log'!$N$9:$N$1008,'Incident Log'!$O$9:$O$1008,'Incident Log'!$P$9:$P$1008,'Incident Log'!$W$9:$W$1008,'Incident Log'!$Y$9:$Y$1008,'Incident Log'!$Z$9:$Z$1008,'Incident Log'!$AF$9:$AF$1008),A21)-SUMIFS(CHOOSE($V$7,'Incident Log'!$AG$9:$AG$1008,'Incident Log'!$AG$9:$AG$1008,'Incident Log'!$AH$9:$AH$1008,'Incident Log'!$Q$9:$Q$1008,'Incident Log'!$R$9:$R$1008,'Incident Log'!$S$9:$S$1008),'Incident Log'!$C$9:$C$1008,">="&DATE(Dashboard!$B$6,1,1),'Incident Log'!$C$9:$C$1008,"<"&DATE(Dashboard!$B$6,Dashboard!$F$6+1,1),'Incident Log'!$A$9:$A$1008,"<>",CHOOSE($V$6,'Incident Log'!$E$9:$E$1008,'Incident Log'!$F$9:$F$1008,'Incident Log'!$G$9:$G$1008,'Incident Log'!$H$9:$H$1008,'Incident Log'!$I$9:$I$1008,'Incident Log'!$J$9:$J$1008,'Incident Log'!$K$9:$K$1008,'Incident Log'!$L$9:$L$1008,'Incident Log'!$M$9:$M$1008,'Incident Log'!$N$9:$N$1008,'Incident Log'!$O$9:$O$1008,'Incident Log'!$P$9:$P$1008,'Incident Log'!$V$9:$V$1008,'Incident Log'!$X$9:$X$1008,'Incident Log'!$Z$9:$Z$1008,'Incident Log'!$AF$9:$AF$1008),A21,CHOOSE($V$6,'Incident Log'!$E$9:$E$1008,'Incident Log'!$F$9:$F$1008,'Incident Log'!$G$9:$G$1008,'Incident Log'!$H$9:$H$1008,'Incident Log'!$I$9:$I$1008,'Incident Log'!$J$9:$J$1008,'Incident Log'!$K$9:$K$1008,'Incident Log'!$L$9:$L$1008,'Incident Log'!$M$9:$M$1008,'Incident Log'!$N$9:$N$1008,'Incident Log'!$O$9:$O$1008,'Incident Log'!$P$9:$P$1008,'Incident Log'!$W$9:$W$1008,'Incident Log'!$Y$9:$Y$1008,'Incident Log'!$Z$9:$Z$1008,'Incident Log'!$AF$9:$AF$1008),A21),0))) -> 0 | C21: =IF(A21="","",COUNTIFS($B$13:$B$212,">"&B21)+COUNTIFS($B$13:B21,B21)) -> 9 | U21: =IF(COUNTIFS($C$13:$C$212,9)=0,"",INDEX($A$13:$A$212,MATCH(9,$C$13:$C$212,0))) -> Hazard observation | V21: =IF(U21="","",INDEX($B$13:$B$212,MATCH(9,$C$13:$C$212,0))) -> 0
A22: =IF(CHOOSE($V$6,Setup!$F$22,Setup!$G$22,Setup!$H$22,Setup!$I$22,Setup!$J$22,Setup!$K$22,Setup!$L$22,Setup!$M$22,Setup!$N$22,Setup!$O$22,Setup!$P$22,Setup!$Q$22,Setup!$R$22,Setup!$S$22,Setup!$T$22,Setup!$U$22)="","",CHOOSE($V$6,Setup!$F$22,Setup!$G$22,Setup!$H$22,Setup!$I$22,Setup!$J$22,Setup!$K$22,Setup!$L$22,Setup!$M$22,Setup!$N$22,Setup!$O$22,Setup!$P$22,Setup!$Q$22,Setup!$R$22,Setup!$S$22,Setup!$T$22,Setup!$U$22)) -> Other | B22: =IF(A22="","",IF($V$7=1,COUNTIFS('Incident Log'!$C$9:$C$1008,">="&DATE(Dashboard!$B$6,1,1),'Incident Log'!$C$9:$C$1008,"<"&DATE(Dashboard!$B$6,Dashboard!$F$6+1,1),'Incident Log'!$A$9:$A$1008,"<>",CHOOSE($V$6,'Incident Log'!$E$9:$E$1008,'Incident Log'!$F$9:$F$1008,'Incident Log'!$G$9:$G$1008,'Incident Log'!$H$9:$H$1008,'Incident Log'!$I$9:$I$1008,'Incident Log'!$J$9:$J$1008,'Incident Log'!$K$9:$K$1008,'Incident Log'!$L$9:$L$1008,'Incident Log'!$M$9:$M$1008,'Incident Log'!$N$9:$N$1008,'Incident Log'!$O$9:$O$1008,'Incident Log'!$P$9:$P$1008,'Incident Log'!$V$9:$V$1008,'Incident Log'!$X$9:$X$1008,'Incident Log'!$Z$9:$Z$1008,'Incident Log'!$AF$9:$AF$1008),A22)+IF(OR($V$6=13,$V$6=14),COUNTIFS('Incident Log'!$C$9:$C$1008,">="&DATE(Dashboard!$B$6,1,1),'Incident Log'!$C$9:$C$1008,"<"&DATE(Dashboard!$B$6,Dashboard!$F$6+1,1),'Incident Log'!$A$9:$A$1008,"<>",CHOOSE($V$6,'Incident Log'!$E$9:$E$1008,'Incident Log'!$F$9:$F$1008,'Incident Log'!$G$9:$G$1008,'Incident Log'!$H$9:$H$1008,'Incident Log'!$I$9:$I$1008,'Incident Log'!$J$9:$J$1008,'Incident Log'!$K$9:$K$1008,'Incident Log'!$L$9:$L$1008,'Incident Log'!$M$9:$M$1008,'Incident Log'!$N$9:$N$1008,'Incident Log'!$O$9:$O$1008,'Incident Log'!$P$9:$P$1008,'Incident Log'!$W$9:$W$1008,'Incident Log'!$Y$9:$Y$1008,'Incident Log'!$Z$9:$Z$1008,'Incident Log'!$AF$9:$AF$1008),A22)-COUNTIFS('Incident Log'!$C$9:$C$1008,">="&DATE(Dashboard!$B$6,1,1),'Incident Log'!$C$9:$C$1008,"<"&DATE(Dashboard!$B$6,Dashboard!$F$6+1,1),'Incident Log'!$A$9:$A$1008,"<>",CHOOSE($V$6,'Incident Log'!$E$9:$E$1008,'Incident Log'!$F$9:$F$1008,'Incident Log'!$G$9:$G$1008,'Incident Log'!$H$9:$H$1008,'Incident Log'!$I$9:$I$1008,'Incident Log'!$J$9:$J$1008,'Incident Log'!$K$9:$K$1008,'Incident Log'!$L$9:$L$1008,'Incident Log'!$M$9:$M$1008,'Incident Log'!$N$9:$N$1008,'Incident Log'!$O$9:$O$1008,'Incident Log'!$P$9:$P$1008,'Incident Log'!$V$9:$V$1008,'Incident Log'!$X$9:$X$1008,'Incident Log'!$Z$9:$Z$1008,'Incident Log'!$AF$9:$AF$1008),A22,CHOOSE($V$6,'Incident Log'!$E$9:$E$1008,'Incident Log'!$F$9:$F$1008,'Incident Log'!$G$9:$G$1008,'Incident Log'!$H$9:$H$1008,'Incident Log'!$I$9:$I$1008,'Incident Log'!$J$9:$J$1008,'Incident Log'!$K$9:$K$1008,'Incident Log'!$L$9:$L$1008,'Incident Log'!$M$9:$M$1008,'Incident Log'!$N$9:$N$1008,'Incident Log'!$O$9:$O$1008,'Incident Log'!$P$9:$P$1008,'Incident Log'!$W$9:$W$1008,'Incident Log'!$Y$9:$Y$1008,'Incident Log'!$Z$9:$Z$1008,'Incident Log'!$AF$9:$AF$1008),A22),0),SUMIFS(CHOOSE($V$7,'Incident Log'!$AG$9:$AG$1008,'Incident Log'!$AG$9:$AG$1008,'Incident Log'!$AH$9:$AH$1008,'Incident Log'!$Q$9:$Q$1008,'Incident Log'!$R$9:$R$1008,'Incident Log'!$S$9:$S$1008),'Incident Log'!$C$9:$C$1008,">="&DATE(Dashboard!$B$6,1,1),'Incident Log'!$C$9:$C$1008,"<"&DATE(Dashboard!$B$6,Dashboard!$F$6+1,1),'Incident Log'!$A$9:$A$1008,"<>",CHOOSE($V$6,'Incident Log'!$E$9:$E$1008,'Incident Log'!$F$9:$F$1008,'Incident Log'!$G$9:$G$1008,'Incident Log'!$H$9:$H$1008,'Incident Log'!$I$9:$I$1008,'Incident Log'!$J$9:$J$1008,'Incident Log'!$K$9:$K$1008,'Incident Log'!$L$9:$L$1008,'Incident Log'!$M$9:$M$1008,'Incident Log'!$N$9:$N$1008,'Incident Log'!$O$9:$O$1008,'Incident Log'!$P$9:$P$1008,'Incident Log'!$V$9:$V$1008,'Incident Log'!$X$9:$X$1008,'Incident Log'!$Z$9:$Z$1008,'Incident Log'!$AF$9:$AF$1008),A22)+IF(OR($V$6=13,$V$6=14),SUMIFS(CHOOSE($V$7,'Incident Log'!$AG$9:$AG$1008,'Incident Log'!$AG$9:$AG$1008,'Incident Log'!$AH$9:$AH$1008,'Incident Log'!$Q$9:$Q$1008,'Incident Log'!$R$9:$R$1008,'Incident Log'!$S$9:$S$1008),'Incident Log'!$C$9:$C$1008,">="&DATE(Dashboard!$B$6,1,1),'Incident Log'!$C$9:$C$1008,"<"&DATE(Dashboard!$B$6,Dashboard!$F$6+1,1),'Incident Log'!$A$9:$A$1008,"<>",CHOOSE($V$6,'Incident Log'!$E$9:$E$1008,'Incident Log'!$F$9:$F$1008,'Incident Log'!$G$9:$G$1008,'Incident Log'!$H$9:$H$1008,'Incident Log'!$I$9:$I$1008,'Incident Log'!$J$9:$J$1008,'Incident Log'!$K$9:$K$1008,'Incident Log'!$L$9:$L$1008,'Incident Log'!$M$9:$M$1008,'Incident Log'!$N$9:$N$1008,'Incident Log'!$O$9:$O$1008,'Incident Log'!$P$9:$P$1008,'Incident Log'!$W$9:$W$1008,'Incident Log'!$Y$9:$Y$1008,'Incident Log'!$Z$9:$Z$1008,'Incident Log'!$AF$9:$AF$1008),A22)-SUMIFS(CHOOSE($V$7,'Incident Log'!$AG$9:$AG$1008,'Incident Log'!$AG$9:$AG$1008,'Incident Log'!$AH$9:$AH$1008,'Incident Log'!$Q$9:$Q$1008,'Incident Log'!$R$9:$R$1008,'Incident Log'!$S$9:$S$1008),'Incident Log'!$C$9:$C$1008,">="&DATE(Dashboard!$B$6,1,1),'Incident Log'!$C$9:$C$1008,"<"&DATE(Dashboard!$B$6,Dashboard!$F$6+1,1),'Incident Log'!$A$9:$A$1008,"<>",CHOOSE($V$6,'Incident Log'!$E$9:$E$1008,'Incident Log'!$F$9:$F$1008,'Incident Log'!$G$9:$G$1008,'Incident Log'!$H$9:$H$1008,'Incident Log'!$I$9:$I$1008,'Incident Log'!$J$9:$J$1008,'Incident Log'!$K$9:$K$1008,'Incident Log'!$L$9:$L$1008,'Incident Log'!$M$9:$M$1008,'Incident Log'!$N$9:$N$1008,'Incident Log'!$O$9:$O$1008,'Incident Log'!$P$9:$P$1008,'Incident Log'!$V$9:$V$1008,'Incident Log'!$X$9:$X$1008,'Incident Log'!$Z$9:$Z$1008,'Incident Log'!$AF$9:$AF$1008),A22,CHOOSE($V$6,'Incident Log'!$E$9:$E$1008,'Incident Log'!$F$9:$F$1008,'Incident Log'!$G$9:$G$1008,'Incident Log'!$H$9:$H$1008,'Incident Log'!$I$9:$I$1008,'Incident Log'!$J$9:$J$1008,'Incident Log'!$K$9:$K$1008,'Incident Log'!$L$9:$L$1008,'Incident Log'!$M$9:$M$1008,'Incident Log'!$N$9:$N$1008,'Incident Log'!$O$9:$O$1008,'Incident Log'!$P$9:$P$1008,'Incident Log'!$W$9:$W$1008,'Incident Log'!$Y$9:$Y$1008,'Incident Log'!$Z$9:$Z$1008,'Incident Log'!$AF$9:$AF$1008),A22),0))) -> 0 | C22: =IF(A22="","",COUNTIFS($B$13:$B$212,">"&B22)+COUNTIFS($B$13:B22,B22)) -> 10 | U22: =IF(COUNTIFS($C$13:$C$212,10)=0,"",INDEX($A$13:$A$212,MATCH(10,$C$13:$C$212,0))) -> Other | V22: =IF(U22="","",INDEX($B$13:$B$212,MATCH(10,$C$13:$C$212,0))) -> 0
A23: =IF(CHOOSE($V$6,Setup!$F$23,Setup!$G$23,Setup!$H$23,Setup!$I$23,Setup!$J$23,Setup!$K$23,Setup!$L$23,Setup!$M$23,Setup!$N$23,Setup!$O$23,Setup!$P$23,Setup!$Q$23,Setup!$R$23,Setup!$S$23,Setup!$T$23,Setup!$U$23)="","",CHOOSE($V$6,Setup!$F$23,Setup!$G$23,Setup!$H$23,Setup!$I$23,Setup!$J$23,Setup!$K$23,Setup!$L$23,Setup!$M$23,Setup!$N$23,Setup!$O$23,Setup!$P$23,Setup!$Q$23,Setup!$R$23,Setup!$S$23,Setup!$T$23,Setup!$U$23)) | B23: =IF(A23="","",IF($V$7=1,COUNTIFS('Incident Log'!$C$9:$C$1008,">="&DATE(Dashboard!$B$6,1,1),'Incident Log'!$C$9:$C$1008,"<"&DATE(Dashboard!$B$6,Dashboard!$F$6+1,1),'Incident Log'!$A$9:$A$1008,"<>",CHOOSE($V$6,'Incident Log'!$E$9:$E$1008,'Incident Log'!$F$9:$F$1008,'Incident Log'!$G$9:$G$1008,'Incident Log'!$H$9:$H$1008,'Incident Log'!$I$9:$I$1008,'Incident Log'!$J$9:$J$1008,'Incident Log'!$K$9:$K$1008,'Incident Log'!$L$9:$L$1008,'Incident Log'!$M$9:$M$1008,'Incident Log'!$N$9:$N$1008,'Incident Log'!$O$9:$O$1008,'Incident Log'!$P$9:$P$1008,'Incident Log'!$V$9:$V$1008,'Incident Log'!$X$9:$X$1008,'Incident Log'!$Z$9:$Z$1008,'Incident Log'!$AF$9:$AF$1008),A23)+IF(OR($V$6=13,$V$6=14),COUNTIFS('Incident Log'!$C$9:$C$1008,">="&DATE(Dashboard!$B$6,1,1),'Incident Log'!$C$9:$C$1008,"<"&DATE(Dashboard!$B$6,Dashboard!$F$6+1,1),'Incident Log'!$A$9:$A$1008,"<>",CHOOSE($V$6,'Incident Log'!$E$9:$E$1008,'Incident Log'!$F$9:$F$1008,'Incident Log'!$G$9:$G$1008,'Incident Log'!$H$9:$H$1008,'Incident Log'!$I$9:$I$1008,'Incident Log'!$J$9:$J$1008,'Incident Log'!$K$9:$K$1008,'Incident Log'!$L$9:$L$1008,'Incident Log'!$M$9:$M$1008,'Incident Log'!$N$9:$N$1008,'Incident Log'!$O$9:$O$1008,'Incident Log'!$P$9:$P$1008,'Incident Log'!$W$9:$W$1008,'Incident Log'!$Y$9:$Y$1008,'Incident Log'!$Z$9:$Z$1008,'Incident Log'!$AF$9:$AF$1008),A23)-COUNTIFS('Incident Log'!$C$9:$C$1008,">="&DATE(Dashboard!$B$6,1,1),'Incident Log'!$C$9:$C$1008,"<"&DATE(Dashboard!$B$6,Dashboard!$F$6+1,1),'Incident Log'!$A$9:$A$1008,"<>",CHOOSE($V$6,'Incident Log'!$E$9:$E$1008,'Incident Log'!$F$9:$F$1008,'Incident Log'!$G$9:$G$1008,'Incident Log'!$H$9:$H$1008,'Incident Log'!$I$9:$I$1008,'Incident Log'!$J$9:$J$1008,'Incident Log'!$K$9:$K$1008,'Incident Log'!$L$9:$L$1008,'Incident Log'!$M$9:$M$1008,'Incident Log'!$N$9:$N$1008,'Incident Log'!$O$9:$O$1008,'Incident Log'!$P$9:$P$1008,'Incident Log'!$V$9:$V$1008,'Incident Log'!$X$9:$X$1008,'Incident Log'!$Z$9:$Z$1008,'Incident Log'!$AF$9:$AF$1008),A23,CHOOSE($V$6,'Incident Log'!$E$9:$E$1008,'Incident Log'!$F$9:$F$1008,'Incident Log'!$G$9:$G$1008,'Incident Log'!$H$9:$H$1008,'Incident Log'!$I$9:$I$1008,'Incident Log'!$J$9:$J$1008,'Incident Log'!$K$9:$K$1008,'Incident Log'!$L$9:$L$1008,'Incident Log'!$M$9:$M$1008,'Incident Log'!$N$9:$N$1008,'Incident Log'!$O$9:$O$1008,'Incident Log'!$P$9:$P$1008,'Incident Log'!$W$9:$W$1008,'Incident Log'!$Y$9:$Y$1008,'Incident Log'!$Z$9:$Z$1008,'Incident Log'!$AF$9:$AF$1008),A23),0),SUMIFS(CHOOSE($V$7,'Incident Log'!$AG$9:$AG$1008,'Incident Log'!$AG$9:$AG$1008,'Incident Log'!$AH$9:$AH$1008,'Incident Log'!$Q$9:$Q$1008,'Incident Log'!$R$9:$R$1008,'Incident Log'!$S$9:$S$1008),'Incident Log'!$C$9:$C$1008,">="&DATE(Dashboard!$B$6,1,1),'Incident Log'!$C$9:$C$1008,"<"&DATE(Dashboard!$B$6,Dashboard!$F$6+1,1),'Incident Log'!$A$9:$A$1008,"<>",CHOOSE($V$6,'Incident Log'!$E$9:$E$1008,'Incident Log'!$F$9:$F$1008,'Incident Log'!$G$9:$G$1008,'Incident Log'!$H$9:$H$1008,'Incident Log'!$I$9:$I$1008,'Incident Log'!$J$9:$J$1008,'Incident Log'!$K$9:$K$1008,'Incident Log'!$L$9:$L$1008,'Incident Log'!$M$9:$M$1008,'Incident Log'!$N$9:$N$1008,'Incident Log'!$O$9:$O$1008,'Incident Log'!$P$9:$P$1008,'Incident Log'!$V$9:$V$1008,'Incident Log'!$X$9:$X$1008,'Incident Log'!$Z$9:$Z$1008,'Incident Log'!$AF$9:$AF$1008),A23)+IF(OR($V$6=13,$V$6=14),SUMIFS(CHOOSE($V$7,'Incident Log'!$AG$9:$AG$1008,'Incident Log'!$AG$9:$AG$1008,'Incident Log'!$AH$9:$AH$1008,'Incident Log'!$Q$9:$Q$1008,'Incident Log'!$R$9:$R$1008,'Incident Log'!$S$9:$S$1008),'Incident Log'!$C$9:$C$1008,">="&DATE(Dashboard!$B$6,1,1),'Incident Log'!$C$9:$C$1008,"<"&DATE(Dashboard!$B$6,Dashboard!$F$6+1,1),'Incident Log'!$A$9:$A$1008,"<>",CHOOSE($V$6,'Incident Log'!$E$9:$E$1008,'Incident Log'!$F$9:$F$1008,'Incident Log'!$G$9:$G$1008,'Incident Log'!$H$9:$H$1008,'Incident Log'!$I$9:$I$1008,'Incident Log'!$J$9:$J$1008,'Incident Log'!$K$9:$K$1008,'Incident Log'!$L$9:$L$1008,'Incident Log'!$M$9:$M$1008,'Incident Log'!$N$9:$N$1008,'Incident Log'!$O$9:$O$1008,'Incident Log'!$P$9:$P$1008,'Incident Log'!$W$9:$W$1008,'Incident Log'!$Y$9:$Y$1008,'Incident Log'!$Z$9:$Z$1008,'Incident Log'!$AF$9:$AF$1008),A23)-SUMIFS(CHOOSE($V$7,'Incident Log'!$AG$9:$AG$1008,'Incident Log'!$AG$9:$AG$1008,'Incident Log'!$AH$9:$AH$1008,'Incident Log'!$Q$9:$Q$1008,'Incident Log'!$R$9:$R$1008,'Incident Log'!$S$9:$S$1008),'Incident Log'!$C$9:$C$1008,">="&DATE(Dashboard!$B$6,1,1),'Incident Log'!$C$9:$C$1008,"<"&DATE(Dashboard!$B$6,Dashboard!$F$6+1,1),'Incident Log'!$A$9:$A$1008,"<>",CHOOSE($V$6,'Incident Log'!$E$9:$E$1008,'Incident Log'!$F$9:$F$1008,'Incident Log'!$G$9:$G$1008,'Incident Log'!$H$9:$H$1008,'Incident Log'!$I$9:$I$1008,'Incident Log'!$J$9:$J$1008,'Incident Log'!$K$9:$K$1008,'Incident Log'!$L$9:$L$1008,'Incident Log'!$M$9:$M$1008,'Incident Log'!$N$9:$N$1008,'Incident Log'!$O$9:$O$1008,'Incident Log'!$P$9:$P$1008,'Incident Log'!$V$9:$V$1008,'Incident Log'!$X$9:$X$1008,'Incident Log'!$Z$9:$Z$1008,'Incident Log'!$AF$9:$AF$1008),A23,CHOOSE($V$6,'Incident Log'!$E$9:$E$1008,'Incident Log'!$F$9:$F$1008,'Incident Log'!$G$9:$G$1008,'Incident Log'!$H$9:$H$1008,'Incident Log'!$I$9:$I$1008,'Incident Log'!$J$9:$J$1008,'Incident Log'!$K$9:$K$1008,'Incident Log'!$L$9:$L$1008,'Incident Log'!$M$9:$M$1008,'Incident Log'!$N$9:$N$1008,'Incident Log'!$O$9:$O$1008,'Incident Log'!$P$9:$P$1008,'Incident Log'!$W$9:$W$1008,'Incident Log'!$Y$9:$Y$1008,'Incident Log'!$Z$9:$Z$1008,'Incident Log'!$AF$9:$AF$1008),A23),0))) | C23: =IF(A23="","",COUNTIFS($B$13:$B$212,">"&B23)+COUNTIFS($B$13:B23,B23))
A24: =IF(CHOOSE($V$6,Setup!$F$24,Setup!$G$24,Setup!$H$24,Setup!$I$24,Setup!$J$24,Setup!$K$24,Setup!$L$24,Setup!$M$24,Setup!$N$24,Setup!$O$24,Setup!$P$24,Setup!$Q$24,Setup!$R$24,Setup!$S$24,Setup!$T$24,Setup!$U$24)="","",CHOOSE($V$6,Setup!$F$24,Setup!$G$24,Setup!$H$24,Setup!$I$24,Setup!$J$24,Setup!$K$24,Setup!$L$24,Setup!$M$24,Setup!$N$24,Setup!$O$24,Setup!$P$24,Setup!$Q$24,Setup!$R$24,Setup!$S$24,Setup!$T$24,Setup!$U$24)) | B24: =IF(A24="","",IF($V$7=1,COUNTIFS('Incident Log'!$C$9:$C$1008,">="&DATE(Dashboard!$B$6,1,1),'Incident Log'!$C$9:$C$1008,"<"&DATE(Dashboard!$B$6,Dashboard!$F$6+1,1),'Incident Log'!$A$9:$A$1008,"<>",CHOOSE($V$6,'Incident Log'!$E$9:$E$1008,'Incident Log'!$F$9:$F$1008,'Incident Log'!$G$9:$G$1008,'Incident Log'!$H$9:$H$1008,'Incident Log'!$I$9:$I$1008,'Incident Log'!$J$9:$J$1008,'Incident Log'!$K$9:$K$1008,'Incident Log'!$L$9:$L$1008,'Incident Log'!$M$9:$M$1008,'Incident Log'!$N$9:$N$1008,'Incident Log'!$O$9:$O$1008,'Incident Log'!$P$9:$P$1008,'Incident Log'!$V$9:$V$1008,'Incident Log'!$X$9:$X$1008,'Incident Log'!$Z$9:$Z$1008,'Incident Log'!$AF$9:$AF$1008),A24)+IF(OR($V$6=13,$V$6=14),COUNTIFS('Incident Log'!$C$9:$C$1008,">="&DATE(Dashboard!$B$6,1,1),'Incident Log'!$C$9:$C$1008,"<"&DATE(Dashboard!$B$6,Dashboard!$F$6+1,1),'Incident Log'!$A$9:$A$1008,"<>",CHOOSE($V$6,'Incident Log'!$E$9:$E$1008,'Incident Log'!$F$9:$F$1008,'Incident Log'!$G$9:$G$1008,'Incident Log'!$H$9:$H$1008,'Incident Log'!$I$9:$I$1008,'Incident Log'!$J$9:$J$1008,'Incident Log'!$K$9:$K$1008,'Incident Log'!$L$9:$L$1008,'Incident Log'!$M$9:$M$1008,'Incident Log'!$N$9:$N$1008,'Incident Log'!$O$9:$O$1008,'Incident Log'!$P$9:$P$1008,'Incident Log'!$W$9:$W$1008,'Incident Log'!$Y$9:$Y$1008,'Incident Log'!$Z$9:$Z$1008,'Incident Log'!$AF$9:$AF$1008),A24)-COUNTIFS('Incident Log'!$C$9:$C$1008,">="&DATE(Dashboard!$B$6,1,1),'Incident Log'!$C$9:$C$1008,"<"&DATE(Dashboard!$B$6,Dashboard!$F$6+1,1),'Incident Log'!$A$9:$A$1008,"<>",CHOOSE($V$6,'Incident Log'!$E$9:$E$1008,'Incident Log'!$F$9:$F$1008,'Incident Log'!$G$9:$G$1008,'Incident Log'!$H$9:$H$1008,'Incident Log'!$I$9:$I$1008,'Incident Log'!$J$9:$J$1008,'Incident Log'!$K$9:$K$1008,'Incident Log'!$L$9:$L$1008,'Incident Log'!$M$9:$M$1008,'Incident Log'!$N$9:$N$1008,'Incident Log'!$O$9:$O$1008,'Incident Log'!$P$9:$P$1008,'Incident Log'!$V$9:$V$1008,'Incident Log'!$X$9:$X$1008,'Incident Log'!$Z$9:$Z$1008,'Incident Log'!$AF$9:$AF$1008),A24,CHOOSE($V$6,'Incident Log'!$E$9:$E$1008,'Incident Log'!$F$9:$F$1008,'Incident Log'!$G$9:$G$1008,'Incident Log'!$H$9:$H$1008,'Incident Log'!$I$9:$I$1008,'Incident Log'!$J$9:$J$1008,'Incident Log'!$K$9:$K$1008,'Incident Log'!$L$9:$L$1008,'Incident Log'!$M$9:$M$1008,'Incident Log'!$N$9:$N$1008,'Incident Log'!$O$9:$O$1008,'Incident Log'!$P$9:$P$1008,'Incident Log'!$W$9:$W$1008,'Incident Log'!$Y$9:$Y$1008,'Incident Log'!$Z$9:$Z$1008,'Incident Log'!$AF$9:$AF$1008),A24),0),SUMIFS(CHOOSE($V$7,'Incident Log'!$AG$9:$AG$1008,'Incident Log'!$AG$9:$AG$1008,'Incident Log'!$AH$9:$AH$1008,'Incident Log'!$Q$9:$Q$1008,'Incident Log'!$R$9:$R$1008,'Incident Log'!$S$9:$S$1008),'Incident Log'!$C$9:$C$1008,">="&DATE(Dashboard!$B$6,1,1),'Incident Log'!$C$9:$C$1008,"<"&DATE(Dashboard!$B$6,Dashboard!$F$6+1,1),'Incident Log'!$A$9:$A$1008,"<>",CHOOSE($V$6,'Incident Log'!$E$9:$E$1008,'Incident Log'!$F$9:$F$1008,'Incident Log'!$G$9:$G$1008,'Incident Log'!$H$9:$H$1008,'Incident Log'!$I$9:$I$1008,'Incident Log'!$J$9:$J$1008,'Incident Log'!$K$9:$K$1008,'Incident Log'!$L$9:$L$1008,'Incident Log'!$M$9:$M$1008,'Incident Log'!$N$9:$N$1008,'Incident Log'!$O$9:$O$1008,'Incident Log'!$P$9:$P$1008,'Incident Log'!$V$9:$V$1008,'Incident Log'!$X$9:$X$1008,'Incident Log'!$Z$9:$Z$1008,'Incident Log'!$AF$9:$AF$1008),A24)+IF(OR($V$6=13,$V$6=14),SUMIFS(CHOOSE($V$7,'Incident Log'!$AG$9:$AG$1008,'Incident Log'!$AG$9:$AG$1008,'Incident Log'!$AH$9:$AH$1008,'Incident Log'!$Q$9:$Q$1008,'Incident Log'!$R$9:$R$1008,'Incident Log'!$S$9:$S$1008),'Incident Log'!$C$9:$C$1008,">="&DATE(Dashboard!$B$6,1,1),'Incident Log'!$C$9:$C$1008,"<"&DATE(Dashboard!$B$6,Dashboard!$F$6+1,1),'Incident Log'!$A$9:$A$1008,"<>",CHOOSE($V$6,'Incident Log'!$E$9:$E$1008,'Incident Log'!$F$9:$F$1008,'Incident Log'!$G$9:$G$1008,'Incident Log'!$H$9:$H$1008,'Incident Log'!$I$9:$I$1008,'Incident Log'!$J$9:$J$1008,'Incident Log'!$K$9:$K$1008,'Incident Log'!$L$9:$L$1008,'Incident Log'!$M$9:$M$1008,'Incident Log'!$N$9:$N$1008,'Incident Log'!$O$9:$O$1008,'Incident Log'!$P$9:$P$1008,'Incident Log'!$W$9:$W$1008,'Incident Log'!$Y$9:$Y$1008,'Incident Log'!$Z$9:$Z$1008,'Incident Log'!$AF$9:$AF$1008),A24)-SUMIFS(CHOOSE($V$7,'Incident Log'!$AG$9:$AG$1008,'Incident Log'!$AG$9:$AG$1008,'Incident Log'!$AH$9:$AH$1008,'Incident Log'!$Q$9:$Q$1008,'Incident Log'!$R$9:$R$1008,'Incident Log'!$S$9:$S$1008),'Incident Log'!$C$9:$C$1008,">="&DATE(Dashboard!$B$6,1,1),'Incident Log'!$C$9:$C$1008,"<"&DATE(Dashboard!$B$6,Dashboard!$F$6+1,1),'Incident Log'!$A$9:$A$1008,"<>",CHOOSE($V$6,'Incident Log'!$E$9:$E$1008,'Incident Log'!$F$9:$F$1008,'Incident Log'!$G$9:$G$1008,'Incident Log'!$H$9:$H$1008,'Incident Log'!$I$9:$I$1008,'Incident Log'!$J$9:$J$1008,'Incident Log'!$K$9:$K$1008,'Incident Log'!$L$9:$L$1008,'Incident Log'!$M$9:$M$1008,'Incident Log'!$N$9:$N$1008,'Incident Log'!$O$9:$O$1008,'Incident Log'!$P$9:$P$1008,'Incident Log'!$V$9:$V$1008,'Incident Log'!$X$9:$X$1008,'Incident Log'!$Z$9:$Z$1008,'Incident Log'!$AF$9:$AF$1008),A24,CHOOSE($V$6,'Incident Log'!$E$9:$E$1008,'Incident Log'!$F$9:$F$1008,'Incident Log'!$G$9:$G$1008,'Incident Log'!$H$9:$H$1008,'Incident Log'!$I$9:$I$1008,'Incident Log'!$J$9:$J$1008,'Incident Log'!$K$9:$K$1008,'Incident Log'!$L$9:$L$1008,'Incident Log'!$M$9:$M$1008,'Incident Log'!$N$9:$N$1008,'Incident Log'!$O$9:$O$1008,'Incident Log'!$P$9:$P$1008,'Incident Log'!$W$9:$W$1008,'Incident Log'!$Y$9:$Y$1008,'Incident Log'!$Z$9:$Z$1008,'Incident Log'!$AF$9:$AF$1008),A24),0))) | C24: =IF(A24="","",COUNTIFS($B$13:$B$212,">"&B24)+COUNTIFS($B$13:B24,B24))
A25: =IF(CHOOSE($V$6,Setup!$F$25,Setup!$G$25,Setup!$H$25,Setup!$I$25,Setup!$J$25,Setup!$K$25,Setup!$L$25,Setup!$M$25,Setup!$N$25,Setup!$O$25,Setup!$P$25,Setup!$Q$25,Setup!$R$25,Setup!$S$25,Setup!$T$25,Setup!$U$25)="","",CHOOSE($V$6,Setup!$F$25,Setup!$G$25,Setup!$H$25,Setup!$I$25,Setup!$J$25,Setup!$K$25,Setup!$L$25,Setup!$M$25,Setup!$N$25,Setup!$O$25,Setup!$P$25,Setup!$Q$25,Setup!$R$25,Setup!$S$25,Setup!$T$25,Setup!$U$25)) | B25: =IF(A25="","",IF($V$7=1,COUNTIFS('Incident Log'!$C$9:$C$1008,">="&DATE(Dashboard!$B$6,1,1),'Incident Log'!$C$9:$C$1008,"<"&DATE(Dashboard!$B$6,Dashboard!$F$6+1,1),'Incident Log'!$A$9:$A$1008,"<>",CHOOSE($V$6,'Incident Log'!$E$9:$E$1008,'Incident Log'!$F$9:$F$1008,'Incident Log'!$G$9:$G$1008,'Incident Log'!$H$9:$H$1008,'Incident Log'!$I$9:$I$1008,'Incident Log'!$J$9:$J$1008,'Incident Log'!$K$9:$K$1008,'Incident Log'!$L$9:$L$1008,'Incident Log'!$M$9:$M$1008,'Incident Log'!$N$9:$N$1008,'Incident Log'!$O$9:$O$1008,'Incident Log'!$P$9:$P$1008,'Incident Log'!$V$9:$V$1008,'Incident Log'!$X$9:$X$1008,'Incident Log'!$Z$9:$Z$1008,'Incident Log'!$AF$9:$AF$1008),A25)+IF(OR($V$6=13,$V$6=14),COUNTIFS('Incident Log'!$C$9:$C$1008,">="&DATE(Dashboard!$B$6,1,1),'Incident Log'!$C$9:$C$1008,"<"&DATE(Dashboard!$B$6,Dashboard!$F$6+1,1),'Incident Log'!$A$9:$A$1008,"<>",CHOOSE($V$6,'Incident Log'!$E$9:$E$1008,'Incident Log'!$F$9:$F$1008,'Incident Log'!$G$9:$G$1008,'Incident Log'!$H$9:$H$1008,'Incident Log'!$I$9:$I$1008,'Incident Log'!$J$9:$J$1008,'Incident Log'!$K$9:$K$1008,'Incident Log'!$L$9:$L$1008,'Incident Log'!$M$9:$M$1008,'Incident Log'!$N$9:$N$1008,'Incident Log'!$O$9:$O$1008,'Incident Log'!$P$9:$P$1008,'Incident Log'!$W$9:$W$1008,'Incident Log'!$Y$9:$Y$1008,'Incident Log'!$Z$9:$Z$1008,'Incident Log'!$AF$9:$AF$1008),A25)-COUNTIFS('Incident Log'!$C$9:$C$1008,">="&DATE(Dashboard!$B$6,1,1),'Incident Log'!$C$9:$C$1008,"<"&DATE(Dashboard!$B$6,Dashboard!$F$6+1,1),'Incident Log'!$A$9:$A$1008,"<>",CHOOSE($V$6,'Incident Log'!$E$9:$E$1008,'Incident Log'!$F$9:$F$1008,'Incident Log'!$G$9:$G$1008,'Incident Log'!$H$9:$H$1008,'Incident Log'!$I$9:$I$1008,'Incident Log'!$J$9:$J$1008,'Incident Log'!$K$9:$K$1008,'Incident Log'!$L$9:$L$1008,'Incident Log'!$M$9:$M$1008,'Incident Log'!$N$9:$N$1008,'Incident Log'!$O$9:$O$1008,'Incident Log'!$P$9:$P$1008,'Incident Log'!$V$9:$V$1008,'Incident Log'!$X$9:$X$1008,'Incident Log'!$Z$9:$Z$1008,'Incident Log'!$AF$9:$AF$1008),A25,CHOOSE($V$6,'Incident Log'!$E$9:$E$1008,'Incident Log'!$F$9:$F$1008,'Incident Log'!$G$9:$G$1008,'Incident Log'!$H$9:$H$1008,'Incident Log'!$I$9:$I$1008,'Incident Log'!$J$9:$J$1008,'Incident Log'!$K$9:$K$1008,'Incident Log'!$L$9:$L$1008,'Incident Log'!$M$9:$M$1008,'Incident Log'!$N$9:$N$1008,'Incident Log'!$O$9:$O$1008,'Incident Log'!$P$9:$P$1008,'Incident Log'!$W$9:$W$1008,'Incident Log'!$Y$9:$Y$1008,'Incident Log'!$Z$9:$Z$1008,'Incident Log'!$AF$9:$AF$1008),A25),0),SUMIFS(CHOOSE($V$7,'Incident Log'!$AG$9:$AG$1008,'Incident Log'!$AG$9:$AG$1008,'Incident Log'!$AH$9:$AH$1008,'Incident Log'!$Q$9:$Q$1008,'Incident Log'!$R$9:$R$1008,'Incident Log'!$S$9:$S$1008),'Incident Log'!$C$9:$C$1008,">="&DATE(Dashboard!$B$6,1,1),'Incident Log'!$C$9:$C$1008,"<"&DATE(Dashboard!$B$6,Dashboard!$F$6+1,1),'Incident Log'!$A$9:$A$1008,"<>",CHOOSE($V$6,'Incident Log'!$E$9:$E$1008,'Incident Log'!$F$9:$F$1008,'Incident Log'!$G$9:$G$1008,'Incident Log'!$H$9:$H$1008,'Incident Log'!$I$9:$I$1008,'Incident Log'!$J$9:$J$1008,'Incident Log'!$K$9:$K$1008,'Incident Log'!$L$9:$L$1008,'Incident Log'!$M$9:$M$1008,'Incident Log'!$N$9:$N$1008,'Incident Log'!$O$9:$O$1008,'Incident Log'!$P$9:$P$1008,'Incident Log'!$V$9:$V$1008,'Incident Log'!$X$9:$X$1008,'Incident Log'!$Z$9:$Z$1008,'Incident Log'!$AF$9:$AF$1008),A25)+IF(OR($V$6=13,$V$6=14),SUMIFS(CHOOSE($V$7,'Incident Log'!$AG$9:$AG$1008,'Incident Log'!$AG$9:$AG$1008,'Incident Log'!$AH$9:$AH$1008,'Incident Log'!$Q$9:$Q$1008,'Incident Log'!$R$9:$R$1008,'Incident Log'!$S$9:$S$1008),'Incident Log'!$C$9:$C$1008,">="&DATE(Dashboard!$B$6,1,1),'Incident Log'!$C$9:$C$1008,"<"&DATE(Dashboard!$B$6,Dashboard!$F$6+1,1),'Incident Log'!$A$9:$A$1008,"<>",CHOOSE($V$6,'Incident Log'!$E$9:$E$1008,'Incident Log'!$F$9:$F$1008,'Incident Log'!$G$9:$G$1008,'Incident Log'!$H$9:$H$1008,'Incident Log'!$I$9:$I$1008,'Incident Log'!$J$9:$J$1008,'Incident Log'!$K$9:$K$1008,'Incident Log'!$L$9:$L$1008,'Incident Log'!$M$9:$M$1008,'Incident Log'!$N$9:$N$1008,'Incident Log'!$O$9:$O$1008,'Incident Log'!$P$9:$P$1008,'Incident Log'!$W$9:$W$1008,'Incident Log'!$Y$9:$Y$1008,'Incident Log'!$Z$9:$Z$1008,'Incident Log'!$AF$9:$AF$1008),A25)-SUMIFS(CHOOSE($V$7,'Incident Log'!$AG$9:$AG$1008,'Incident Log'!$AG$9:$AG$1008,'Incident Log'!$AH$9:$AH$1008,'Incident Log'!$Q$9:$Q$1008,'Incident Log'!$R$9:$R$1008,'Incident Log'!$S$9:$S$1008),'Incident Log'!$C$9:$C$1008,">="&DATE(Dashboard!$B$6,1,1),'Incident Log'!$C$9:$C$1008,"<"&DATE(Dashboard!$B$6,Dashboard!$F$6+1,1),'Incident Log'!$A$9:$A$1008,"<>",CHOOSE($V$6,'Incident Log'!$E$9:$E$1008,'Incident Log'!$F$9:$F$1008,'Incident Log'!$G$9:$G$1008,'Incident Log'!$H$9:$H$1008,'Incident Log'!$I$9:$I$1008,'Incident Log'!$J$9:$J$1008,'Incident Log'!$K$9:$K$1008,'Incident Log'!$L$9:$L$1008,'Incident Log'!$M$9:$M$1008,'Incident Log'!$N$9:$N$1008,'Incident Log'!$O$9:$O$1008,'Incident Log'!$P$9:$P$1008,'Incident Log'!$V$9:$V$1008,'Incident Log'!$X$9:$X$1008,'Incident Log'!$Z$9:$Z$1008,'Incident Log'!$AF$9:$AF$1008),A25,CHOOSE($V$6,'Incident Log'!$E$9:$E$1008,'Incident Log'!$F$9:$F$1008,'Incident Log'!$G$9:$G$1008,'Incident Log'!$H$9:$H$1008,'Incident Log'!$I$9:$I$1008,'Incident Log'!$J$9:$J$1008,'Incident Log'!$K$9:$K$1008,'Incident Log'!$L$9:$L$1008,'Incident Log'!$M$9:$M$1008,'Incident Log'!$N$9:$N$1008,'Incident Log'!$O$9:$O$1008,'Incident Log'!$P$9:$P$1008,'Incident Log'!$W$9:$W$1008,'Incident Log'!$Y$9:$Y$1008,'Incident Log'!$Z$9:$Z$1008,'Incident Log'!$AF$9:$AF$1008),A25),0))) | C25: =IF(A25="","",COUNTIFS($B$13:$B$212,">"&B25)+COUNTIFS($B$13:B25,B25))
A26: =IF(CHOOSE($V$6,Setup!$F$26,Setup!$G$26,Setup!$H$26,Setup!$I$26,Setup!$J$26,Setup!$K$26,Setup!$L$26,Setup!$M$26,Setup!$N$26,Setup!$O$26,Setup!$P$26,Setup!$Q$26,Setup!$R$26,Setup!$S$26,Setup!$T$26,Setup!$U$26)="","",CHOOSE($V$6,Setup!$F$26,Setup!$G$26,Setup!$H$26,Setup!$I$26,Setup!$J$26,Setup!$K$26,Setup!$L$26,Setup!$M$26,Setup!$N$26,Setup!$O$26,Setup!$P$26,Setup!$Q$26,Setup!$R$26,Setup!$S$26,Setup!$T$26,Setup!$U$26)) | B26: =IF(A26="","",IF($V$7=1,COUNTIFS('Incident Log'!$C$9:$C$1008,">="&DATE(Dashboard!$B$6,1,1),'Incident Log'!$C$9:$C$1008,"<"&DATE(Dashboard!$B$6,Dashboard!$F$6+1,1),'Incident Log'!$A$9:$A$1008,"<>",CHOOSE($V$6,'Incident Log'!$E$9:$E$1008,'Incident Log'!$F$9:$F$1008,'Incident Log'!$G$9:$G$1008,'Incident Log'!$H$9:$H$1008,'Incident Log'!$I$9:$I$1008,'Incident Log'!$J$9:$J$1008,'Incident Log'!$K$9:$K$1008,'Incident Log'!$L$9:$L$1008,'Incident Log'!$M$9:$M$1008,'Incident Log'!$N$9:$N$1008,'Incident Log'!$O$9:$O$1008,'Incident Log'!$P$9:$P$1008,'Incident Log'!$V$9:$V$1008,'Incident Log'!$X$9:$X$1008,'Incident Log'!$Z$9:$Z$1008,'Incident Log'!$AF$9:$AF$1008),A26)+IF(OR($V$6=13,$V$6=14),COUNTIFS('Incident Log'!$C$9:$C$1008,">="&DATE(Dashboard!$B$6,1,1),'Incident Log'!$C$9:$C$1008,"<"&DATE(Dashboard!$B$6,Dashboard!$F$6+1,1),'Incident Log'!$A$9:$A$1008,"<>",CHOOSE($V$6,'Incident Log'!$E$9:$E$1008,'Incident Log'!$F$9:$F$1008,'Incident Log'!$G$9:$G$1008,'Incident Log'!$H$9:$H$1008,'Incident Log'!$I$9:$I$1008,'Incident Log'!$J$9:$J$1008,'Incident Log'!$K$9:$K$1008,'Incident Log'!$L$9:$L$1008,'Incident Log'!$M$9:$M$1008,'Incident Log'!$N$9:$N$1008,'Incident Log'!$O$9:$O$1008,'Incident Log'!$P$9:$P$1008,'Incident Log'!$W$9:$W$1008,'Incident Log'!$Y$9:$Y$1008,'Incident Log'!$Z$9:$Z$1008,'Incident Log'!$AF$9:$AF$1008),A26)-COUNTIFS('Incident Log'!$C$9:$C$1008,">="&DATE(Dashboard!$B$6,1,1),'Incident Log'!$C$9:$C$1008,"<"&DATE(Dashboard!$B$6,Dashboard!$F$6+1,1),'Incident Log'!$A$9:$A$1008,"<>",CHOOSE($V$6,'Incident Log'!$E$9:$E$1008,'Incident Log'!$F$9:$F$1008,'Incident Log'!$G$9:$G$1008,'Incident Log'!$H$9:$H$1008,'Incident Log'!$I$9:$I$1008,'Incident Log'!$J$9:$J$1008,'Incident Log'!$K$9:$K$1008,'Incident Log'!$L$9:$L$1008,'Incident Log'!$M$9:$M$1008,'Incident Log'!$N$9:$N$1008,'Incident Log'!$O$9:$O$1008,'Incident Log'!$P$9:$P$1008,'Incident Log'!$V$9:$V$1008,'Incident Log'!$X$9:$X$1008,'Incident Log'!$Z$9:$Z$1008,'Incident Log'!$AF$9:$AF$1008),A26,CHOOSE($V$6,'Incident Log'!$E$9:$E$1008,'Incident Log'!$F$9:$F$1008,'Incident Log'!$G$9:$G$1008,'Incident Log'!$H$9:$H$1008,'Incident Log'!$I$9:$I$1008,'Incident Log'!$J$9:$J$1008,'Incident Log'!$K$9:$K$1008,'Incident Log'!$L$9:$L$1008,'Incident Log'!$M$9:$M$1008,'Incident Log'!$N$9:$N$1008,'Incident Log'!$O$9:$O$1008,'Incident Log'!$P$9:$P$1008,'Incident Log'!$W$9:$W$1008,'Incident Log'!$Y$9:$Y$1008,'Incident Log'!$Z$9:$Z$1008,'Incident Log'!$AF$9:$AF$1008),A26),0),SUMIFS(CHOOSE($V$7,'Incident Log'!$AG$9:$AG$1008,'Incident Log'!$AG$9:$AG$1008,'Incident Log'!$AH$9:$AH$1008,'Incident Log'!$Q$9:$Q$1008,'Incident Log'!$R$9:$R$1008,'Incident Log'!$S$9:$S$1008),'Incident Log'!$C$9:$C$1008,">="&DATE(Dashboard!$B$6,1,1),'Incident Log'!$C$9:$C$1008,"<"&DATE(Dashboard!$B$6,Dashboard!$F$6+1,1),'Incident Log'!$A$9:$A$1008,"<>",CHOOSE($V$6,'Incident Log'!$E$9:$E$1008,'Incident Log'!$F$9:$F$1008,'Incident Log'!$G$9:$G$1008,'Incident Log'!$H$9:$H$1008,'Incident Log'!$I$9:$I$1008,'Incident Log'!$J$9:$J$1008,'Incident Log'!$K$9:$K$1008,'Incident Log'!$L$9:$L$1008,'Incident Log'!$M$9:$M$1008,'Incident Log'!$N$9:$N$1008,'Incident Log'!$O$9:$O$1008,'Incident Log'!$P$9:$P$1008,'Incident Log'!$V$9:$V$1008,'Incident Log'!$X$9:$X$1008,'Incident Log'!$Z$9:$Z$1008,'Incident Log'!$AF$9:$AF$1008),A26)+IF(OR($V$6=13,$V$6=14),SUMIFS(CHOOSE($V$7,'Incident Log'!$AG$9:$AG$1008,'Incident Log'!$AG$9:$AG$1008,'Incident Log'!$AH$9:$AH$1008,'Incident Log'!$Q$9:$Q$1008,'Incident Log'!$R$9:$R$1008,'Incident Log'!$S$9:$S$1008),'Incident Log'!$C$9:$C$1008,">="&DATE(Dashboard!$B$6,1,1),'Incident Log'!$C$9:$C$1008,"<"&DATE(Dashboard!$B$6,Dashboard!$F$6+1,1),'Incident Log'!$A$9:$A$1008,"<>",CHOOSE($V$6,'Incident Log'!$E$9:$E$1008,'Incident Log'!$F$9:$F$1008,'Incident Log'!$G$9:$G$1008,'Incident Log'!$H$9:$H$1008,'Incident Log'!$I$9:$I$1008,'Incident Log'!$J$9:$J$1008,'Incident Log'!$K$9:$K$1008,'Incident Log'!$L$9:$L$1008,'Incident Log'!$M$9:$M$1008,'Incident Log'!$N$9:$N$1008,'Incident Log'!$O$9:$O$1008,'Incident Log'!$P$9:$P$1008,'Incident Log'!$W$9:$W$1008,'Incident Log'!$Y$9:$Y$1008,'Incident Log'!$Z$9:$Z$1008,'Incident Log'!$AF$9:$AF$1008),A26)-SUMIFS(CHOOSE($V$7,'Incident Log'!$AG$9:$AG$1008,'Incident Log'!$AG$9:$AG$1008,'Incident Log'!$AH$9:$AH$1008,'Incident Log'!$Q$9:$Q$1008,'Incident Log'!$R$9:$R$1008,'Incident Log'!$S$9:$S$1008),'Incident Log'!$C$9:$C$1008,">="&DATE(Dashboard!$B$6,1,1),'Incident Log'!$C$9:$C$1008,"<"&DATE(Dashboard!$B$6,Dashboard!$F$6+1,1),'Incident Log'!$A$9:$A$1008,"<>",CHOOSE($V$6,'Incident Log'!$E$9:$E$1008,'Incident Log'!$F$9:$F$1008,'Incident Log'!$G$9:$G$1008,'Incident Log'!$H$9:$H$1008,'Incident Log'!$I$9:$I$1008,'Incident Log'!$J$9:$J$1008,'Incident Log'!$K$9:$K$1008,'Incident Log'!$L$9:$L$1008,'Incident Log'!$M$9:$M$1008,'Incident Log'!$N$9:$N$1008,'Incident Log'!$O$9:$O$1008,'Incident Log'!$P$9:$P$1008,'Incident Log'!$V$9:$V$1008,'Incident Log'!$X$9:$X$1008,'Incident Log'!$Z$9:$Z$1008,'Incident Log'!$AF$9:$AF$1008),A26,CHOOSE($V$6,'Incident Log'!$E$9:$E$1008,'Incident Log'!$F$9:$F$1008,'Incident Log'!$G$9:$G$1008,'Incident Log'!$H$9:$H$1008,'Incident Log'!$I$9:$I$1008,'Incident Log'!$J$9:$J$1008,'Incident Log'!$K$9:$K$1008,'Incident Log'!$L$9:$L$1008,'Incident Log'!$M$9:$M$1008,'Incident Log'!$N$9:$N$1008,'Incident Log'!$O$9:$O$1008,'Incident Log'!$P$9:$P$1008,'Incident Log'!$W$9:$W$1008,'Incident Log'!$Y$9:$Y$1008,'Incident Log'!$Z$9:$Z$1008,'Incident Log'!$AF$9:$AF$1008),A26),0))) | C26: =IF(A26="","",COUNTIFS($B$13:$B$212,">"&B26)+COUNTIFS($B$13:B26,B26))
A27: =IF(CHOOSE($V$6,Setup!$F$27,Setup!$G$27,Setup!$H$27,Setup!$I$27,Setup!$J$27,Setup!$K$27,Setup!$L$27,Setup!$M$27,Setup!$N$27,Setup!$O$27,Setup!$P$27,Setup!$Q$27,Setup!$R$27,Setup!$S$27,Setup!$T$27,Setup!$U$27)="","",CHOOSE($V$6,Setup!$F$27,Setup!$G$27,Setup!$H$27,Setup!$I$27,Setup!$J$27,Setup!$K$27,Setup!$L$27,Setup!$M$27,Setup!$N$27,Setup!$O$27,Setup!$P$27,Setup!$Q$27,Setup!$R$27,Setup!$S$27,Setup!$T$27,Setup!$U$27)) | B27: =IF(A27="","",IF($V$7=1,COUNTIFS('Incident Log'!$C$9:$C$1008,">="&DATE(Dashboard!$B$6,1,1),'Incident Log'!$C$9:$C$1008,"<"&DATE(Dashboard!$B$6,Dashboard!$F$6+1,1),'Incident Log'!$A$9:$A$1008,"<>",CHOOSE($V$6,'Incident Log'!$E$9:$E$1008,'Incident Log'!$F$9:$F$1008,'Incident Log'!$G$9:$G$1008,'Incident Log'!$H$9:$H$1008,'Incident Log'!$I$9:$I$1008,'Incident Log'!$J$9:$J$1008,'Incident Log'!$K$9:$K$1008,'Incident Log'!$L$9:$L$1008,'Incident Log'!$M$9:$M$1008,'Incident Log'!$N$9:$N$1008,'Incident Log'!$O$9:$O$1008,'Incident Log'!$P$9:$P$1008,'Incident Log'!$V$9:$V$1008,'Incident Log'!$X$9:$X$1008,'Incident Log'!$Z$9:$Z$1008,'Incident Log'!$AF$9:$AF$1008),A27)+IF(OR($V$6=13,$V$6=14),COUNTIFS('Incident Log'!$C$9:$C$1008,">="&DATE(Dashboard!$B$6,1,1),'Incident Log'!$C$9:$C$1008,"<"&DATE(Dashboard!$B$6,Dashboard!$F$6+1,1),'Incident Log'!$A$9:$A$1008,"<>",CHOOSE($V$6,'Incident Log'!$E$9:$E$1008,'Incident Log'!$F$9:$F$1008,'Incident Log'!$G$9:$G$1008,'Incident Log'!$H$9:$H$1008,'Incident Log'!$I$9:$I$1008,'Incident Log'!$J$9:$J$1008,'Incident Log'!$K$9:$K$1008,'Incident Log'!$L$9:$L$1008,'Incident Log'!$M$9:$M$1008,'Incident Log'!$N$9:$N$1008,'Incident Log'!$O$9:$O$1008,'Incident Log'!$P$9:$P$1008,'Incident Log'!$W$9:$W$1008,'Incident Log'!$Y$9:$Y$1008,'Incident Log'!$Z$9:$Z$1008,'Incident Log'!$AF$9:$AF$1008),A27)-COUNTIFS('Incident Log'!$C$9:$C$1008,">="&DATE(Dashboard!$B$6,1,1),'Incident Log'!$C$9:$C$1008,"<"&DATE(Dashboard!$B$6,Dashboard!$F$6+1,1),'Incident Log'!$A$9:$A$1008,"<>",CHOOSE($V$6,'Incident Log'!$E$9:$E$1008,'Incident Log'!$F$9:$F$1008,'Incident Log'!$G$9:$G$1008,'Incident Log'!$H$9:$H$1008,'Incident Log'!$I$9:$I$1008,'Incident Log'!$J$9:$J$1008,'Incident Log'!$K$9:$K$1008,'Incident Log'!$L$9:$L$1008,'Incident Log'!$M$9:$M$1008,'Incident Log'!$N$9:$N$1008,'Incident Log'!$O$9:$O$1008,'Incident Log'!$P$9:$P$1008,'Incident Log'!$V$9:$V$1008,'Incident Log'!$X$9:$X$1008,'Incident Log'!$Z$9:$Z$1008,'Incident Log'!$AF$9:$AF$1008),A27,CHOOSE($V$6,'Incident Log'!$E$9:$E$1008,'Incident Log'!$F$9:$F$1008,'Incident Log'!$G$9:$G$1008,'Incident Log'!$H$9:$H$1008,'Incident Log'!$I$9:$I$1008,'Incident Log'!$J$9:$J$1008,'Incident Log'!$K$9:$K$1008,'Incident Log'!$L$9:$L$1008,'Incident Log'!$M$9:$M$1008,'Incident Log'!$N$9:$N$1008,'Incident Log'!$O$9:$O$1008,'Incident Log'!$P$9:$P$1008,'Incident Log'!$W$9:$W$1008,'Incident Log'!$Y$9:$Y$1008,'Incident Log'!$Z$9:$Z$1008,'Incident Log'!$AF$9:$AF$1008),A27),0),SUMIFS(CHOOSE($V$7,'Incident Log'!$AG$9:$AG$1008,'Incident Log'!$AG$9:$AG$1008,'Incident Log'!$AH$9:$AH$1008,'Incident Log'!$Q$9:$Q$1008,'Incident Log'!$R$9:$R$1008,'Incident Log'!$S$9:$S$1008),'Incident Log'!$C$9:$C$1008,">="&DATE(Dashboard!$B$6,1,1),'Incident Log'!$C$9:$C$1008,"<"&DATE(Dashboard!$B$6,Dashboard!$F$6+1,1),'Incident Log'!$A$9:$A$1008,"<>",CHOOSE($V$6,'Incident Log'!$E$9:$E$1008,'Incident Log'!$F$9:$F$1008,'Incident Log'!$G$9:$G$1008,'Incident Log'!$H$9:$H$1008,'Incident Log'!$I$9:$I$1008,'Incident Log'!$J$9:$J$1008,'Incident Log'!$K$9:$K$1008,'Incident Log'!$L$9:$L$1008,'Incident Log'!$M$9:$M$1008,'Incident Log'!$N$9:$N$1008,'Incident Log'!$O$9:$O$1008,'Incident Log'!$P$9:$P$1008,'Incident Log'!$V$9:$V$1008,'Incident Log'!$X$9:$X$1008,'Incident Log'!$Z$9:$Z$1008,'Incident Log'!$AF$9:$AF$1008),A27)+IF(OR($V$6=13,$V$6=14),SUMIFS(CHOOSE($V$7,'Incident Log'!$AG$9:$AG$1008,'Incident Log'!$AG$9:$AG$1008,'Incident Log'!$AH$9:$AH$1008,'Incident Log'!$Q$9:$Q$1008,'Incident Log'!$R$9:$R$1008,'Incident Log'!$S$9:$S$1008),'Incident Log'!$C$9:$C$1008,">="&DATE(Dashboard!$B$6,1,1),'Incident Log'!$C$9:$C$1008,"<"&DATE(Dashboard!$B$6,Dashboard!$F$6+1,1),'Incident Log'!$A$9:$A$1008,"<>",CHOOSE($V$6,'Incident Log'!$E$9:$E$1008,'Incident Log'!$F$9:$F$1008,'Incident Log'!$G$9:$G$1008,'Incident Log'!$H$9:$H$1008,'Incident Log'!$I$9:$I$1008,'Incident Log'!$J$9:$J$1008,'Incident Log'!$K$9:$K$1008,'Incident Log'!$L$9:$L$1008,'Incident Log'!$M$9:$M$1008,'Incident Log'!$N$9:$N$1008,'Incident Log'!$O$9:$O$1008,'Incident Log'!$P$9:$P$1008,'Incident Log'!$W$9:$W$1008,'Incident Log'!$Y$9:$Y$1008,'Incident Log'!$Z$9:$Z$1008,'Incident Log'!$AF$9:$AF$1008),A27)-SUMIFS(CHOOSE($V$7,'Incident Log'!$AG$9:$AG$1008,'Incident Log'!$AG$9:$AG$1008,'Incident Log'!$AH$9:$AH$1008,'Incident Log'!$Q$9:$Q$1008,'Incident Log'!$R$9:$R$1008,'Incident Log'!$S$9:$S$1008),'Incident Log'!$C$9:$C$1008,">="&DATE(Dashboard!$B$6,1,1),'Incident Log'!$C$9:$C$1008,"<"&DATE(Dashboard!$B$6,Dashboard!$F$6+1,1),'Incident Log'!$A$9:$A$1008,"<>",CHOOSE($V$6,'Incident Log'!$E$9:$E$1008,'Incident Log'!$F$9:$F$1008,'Incident Log'!$G$9:$G$1008,'Incident Log'!$H$9:$H$1008,'Incident Log'!$I$9:$I$1008,'Incident Log'!$J$9:$J$1008,'Incident Log'!$K$9:$K$1008,'Incident Log'!$L$9:$L$1008,'Incident Log'!$M$9:$M$1008,'Incident Log'!$N$9:$N$1008,'Incident Log'!$O$9:$O$1008,'Incident Log'!$P$9:$P$1008,'Incident Log'!$V$9:$V$1008,'Incident Log'!$X$9:$X$1008,'Incident Log'!$Z$9:$Z$1008,'Incident Log'!$AF$9:$AF$1008),A27,CHOOSE($V$6,'Incident Log'!$E$9:$E$1008,'Incident Log'!$F$9:$F$1008,'Incident Log'!$G$9:$G$1008,'Incident Log'!$H$9:$H$1008,'Incident Log'!$I$9:$I$1008,'Incident Log'!$J$9:$J$1008,'Incident Log'!$K$9:$K$1008,'Incident Log'!$L$9:$L$1008,'Incident Log'!$M$9:$M$1008,'Incident Log'!$N$9:$N$1008,'Incident Log'!$O$9:$O$1008,'Incident Log'!$P$9:$P$1008,'Incident Log'!$W$9:$W$1008,'Incident Log'!$Y$9:$Y$1008,'Incident Log'!$Z$9:$Z$1008,'Incident Log'!$AF$9:$AF$1008),A27),0))) | C27: =IF(A27="","",COUNTIFS($B$13:$B$212,">"&B27)+COUNTIFS($B$13:B27,B27))
A28: =IF(CHOOSE($V$6,Setup!$F$28,Setup!$G$28,Setup!$H$28,Setup!$I$28,Setup!$J$28,Setup!$K$28,Setup!$L$28,Setup!$M$28,Setup!$N$28,Setup!$O$28,Setup!$P$28,Setup!$Q$28,Setup!$R$28,Setup!$S$28,Setup!$T$28,Setup!$U$28)="","",CHOOSE($V$6,Setup!$F$28,Setup!$G$28,Setup!$H$28,Setup!$I$28,Setup!$J$28,Setup!$K$28,Setup!$L$28,Setup!$M$28,Setup!$N$28,Setup!$O$28,Setup!$P$28,Setup!$Q$28,Setup!$R$28,Setup!$S$28,Setup!$T$28,Setup!$U$28)) | B28: =IF(A28="","",IF($V$7=1,COUNTIFS('Incident Log'!$C$9:$C$1008,">="&DATE(Dashboard!$B$6,1,1),'Incident Log'!$C$9:$C$1008,"<"&DATE(Dashboard!$B$6,Dashboard!$F$6+1,1),'Incident Log'!$A$9:$A$1008,"<>",CHOOSE($V$6,'Incident Log'!$E$9:$E$1008,'Incident Log'!$F$9:$F$1008,'Incident Log'!$G$9:$G$1008,'Incident Log'!$H$9:$H$1008,'Incident Log'!$I$9:$I$1008,'Incident Log'!$J$9:$J$1008,'Incident Log'!$K$9:$K$1008,'Incident Log'!$L$9:$L$1008,'Incident Log'!$M$9:$M$1008,'Incident Log'!$N$9:$N$1008,'Incident Log'!$O$9:$O$1008,'Incident Log'!$P$9:$P$1008,'Incident Log'!$V$9:$V$1008,'Incident Log'!$X$9:$X$1008,'Incident Log'!$Z$9:$Z$1008,'Incident Log'!$AF$9:$AF$1008),A28)+IF(OR($V$6=13,$V$6=14),COUNTIFS('Incident Log'!$C$9:$C$1008,">="&DATE(Dashboard!$B$6,1,1),'Incident Log'!$C$9:$C$1008,"<"&DATE(Dashboard!$B$6,Dashboard!$F$6+1,1),'Incident Log'!$A$9:$A$1008,"<>",CHOOSE($V$6,'Incident Log'!$E$9:$E$1008,'Incident Log'!$F$9:$F$1008,'Incident Log'!$G$9:$G$1008,'Incident Log'!$H$9:$H$1008,'Incident Log'!$I$9:$I$1008,'Incident Log'!$J$9:$J$1008,'Incident Log'!$K$9:$K$1008,'Incident Log'!$L$9:$L$1008,'Incident Log'!$M$9:$M$1008,'Incident Log'!$N$9:$N$1008,'Incident Log'!$O$9:$O$1008,'Incident Log'!$P$9:$P$1008,'Incident Log'!$W$9:$W$1008,'Incident Log'!$Y$9:$Y$1008,'Incident Log'!$Z$9:$Z$1008,'Incident Log'!$AF$9:$AF$1008),A28)-COUNTIFS('Incident Log'!$C$9:$C$1008,">="&DATE(Dashboard!$B$6,1,1),'Incident Log'!$C$9:$C$1008,"<"&DATE(Dashboard!$B$6,Dashboard!$F$6+1,1),'Incident Log'!$A$9:$A$1008,"<>",CHOOSE($V$6,'Incident Log'!$E$9:$E$1008,'Incident Log'!$F$9:$F$1008,'Incident Log'!$G$9:$G$1008,'Incident Log'!$H$9:$H$1008,'Incident Log'!$I$9:$I$1008,'Incident Log'!$J$9:$J$1008,'Incident Log'!$K$9:$K$1008,'Incident Log'!$L$9:$L$1008,'Incident Log'!$M$9:$M$1008,'Incident Log'!$N$9:$N$1008,'Incident Log'!$O$9:$O$1008,'Incident Log'!$P$9:$P$1008,'Incident Log'!$V$9:$V$1008,'Incident Log'!$X$9:$X$1008,'Incident Log'!$Z$9:$Z$1008,'Incident Log'!$AF$9:$AF$1008),A28,CHOOSE($V$6,'Incident Log'!$E$9:$E$1008,'Incident Log'!$F$9:$F$1008,'Incident Log'!$G$9:$G$1008,'Incident Log'!$H$9:$H$1008,'Incident Log'!$I$9:$I$1008,'Incident Log'!$J$9:$J$1008,'Incident Log'!$K$9:$K$1008,'Incident Log'!$L$9:$L$1008,'Incident Log'!$M$9:$M$1008,'Incident Log'!$N$9:$N$1008,'Incident Log'!$O$9:$O$1008,'Incident Log'!$P$9:$P$1008,'Incident Log'!$W$9:$W$1008,'Incident Log'!$Y$9:$Y$1008,'Incident Log'!$Z$9:$Z$1008,'Incident Log'!$AF$9:$AF$1008),A28),0),SUMIFS(CHOOSE($V$7,'Incident Log'!$AG$9:$AG$1008,'Incident Log'!$AG$9:$AG$1008,'Incident Log'!$AH$9:$AH$1008,'Incident Log'!$Q$9:$Q$1008,'Incident Log'!$R$9:$R$1008,'Incident Log'!$S$9:$S$1008),'Incident Log'!$C$9:$C$1008,">="&DATE(Dashboard!$B$6,1,1),'Incident Log'!$C$9:$C$1008,"<"&DATE(Dashboard!$B$6,Dashboard!$F$6+1,1),'Incident Log'!$A$9:$A$1008,"<>",CHOOSE($V$6,'Incident Log'!$E$9:$E$1008,'Incident Log'!$F$9:$F$1008,'Incident Log'!$G$9:$G$1008,'Incident Log'!$H$9:$H$1008,'Incident Log'!$I$9:$I$1008,'Incident Log'!$J$9:$J$1008,'Incident Log'!$K$9:$K$1008,'Incident Log'!$L$9:$L$1008,'Incident Log'!$M$9:$M$1008,'Incident Log'!$N$9:$N$1008,'Incident Log'!$O$9:$O$1008,'Incident Log'!$P$9:$P$1008,'Incident Log'!$V$9:$V$1008,'Incident Log'!$X$9:$X$1008,'Incident Log'!$Z$9:$Z$1008,'Incident Log'!$AF$9:$AF$1008),A28)+IF(OR($V$6=13,$V$6=14),SUMIFS(CHOOSE($V$7,'Incident Log'!$AG$9:$AG$1008,'Incident Log'!$AG$9:$AG$1008,'Incident Log'!$AH$9:$AH$1008,'Incident Log'!$Q$9:$Q$1008,'Incident Log'!$R$9:$R$1008,'Incident Log'!$S$9:$S$1008),'Incident Log'!$C$9:$C$1008,">="&DATE(Dashboard!$B$6,1,1),'Incident Log'!$C$9:$C$1008,"<"&DATE(Dashboard!$B$6,Dashboard!$F$6+1,1),'Incident Log'!$A$9:$A$1008,"<>",CHOOSE($V$6,'Incident Log'!$E$9:$E$1008,'Incident Log'!$F$9:$F$1008,'Incident Log'!$G$9:$G$1008,'Incident Log'!$H$9:$H$1008,'Incident Log'!$I$9:$I$1008,'Incident Log'!$J$9:$J$1008,'Incident Log'!$K$9:$K$1008,'Incident Log'!$L$9:$L$1008,'Incident Log'!$M$9:$M$1008,'Incident Log'!$N$9:$N$1008,'Incident Log'!$O$9:$O$1008,'Incident Log'!$P$9:$P$1008,'Incident Log'!$W$9:$W$1008,'Incident Log'!$Y$9:$Y$1008,'Incident Log'!$Z$9:$Z$1008,'Incident Log'!$AF$9:$AF$1008),A28)-SUMIFS(CHOOSE($V$7,'Incident Log'!$AG$9:$AG$1008,'Incident Log'!$AG$9:$AG$1008,'Incident Log'!$AH$9:$AH$1008,'Incident Log'!$Q$9:$Q$1008,'Incident Log'!$R$9:$R$1008,'Incident Log'!$S$9:$S$1008),'Incident Log'!$C$9:$C$1008,">="&DATE(Dashboard!$B$6,1,1),'Incident Log'!$C$9:$C$1008,"<"&DATE(Dashboard!$B$6,Dashboard!$F$6+1,1),'Incident Log'!$A$9:$A$1008,"<>",CHOOSE($V$6,'Incident Log'!$E$9:$E$1008,'Incident Log'!$F$9:$F$1008,'Incident Log'!$G$9:$G$1008,'Incident Log'!$H$9:$H$1008,'Incident Log'!$I$9:$I$1008,'Incident Log'!$J$9:$J$1008,'Incident Log'!$K$9:$K$1008,'Incident Log'!$L$9:$L$1008,'Incident Log'!$M$9:$M$1008,'Incident Log'!$N$9:$N$1008,'Incident Log'!$O$9:$O$1008,'Incident Log'!$P$9:$P$1008,'Incident Log'!$V$9:$V$1008,'Incident Log'!$X$9:$X$1008,'Incident Log'!$Z$9:$Z$1008,'Incident Log'!$AF$9:$AF$1008),A28,CHOOSE($V$6,'Incident Log'!$E$9:$E$1008,'Incident Log'!$F$9:$F$1008,'Incident Log'!$G$9:$G$1008,'Incident Log'!$H$9:$H$1008,'Incident Log'!$I$9:$I$1008,'Incident Log'!$J$9:$J$1008,'Incident Log'!$K$9:$K$1008,'Incident Log'!$L$9:$L$1008,'Incident Log'!$M$9:$M$1008,'Incident Log'!$N$9:$N$1008,'Incident Log'!$O$9:$O$1008,'Incident Log'!$P$9:$P$1008,'Incident Log'!$W$9:$W$1008,'Incident Log'!$Y$9:$Y$1008,'Incident Log'!$Z$9:$Z$1008,'Incident Log'!$AF$9:$AF$1008),A28),0))) | C28: =IF(A28="","",COUNTIFS($B$13:$B$212,">"&B28)+COUNTIFS($B$13:B28,B28))
A29: =IF(CHOOSE($V$6,Setup!$F$29,Setup!$G$29,Setup!$H$29,Setup!$I$29,Setup!$J$29,Setup!$K$29,Setup!$L$29,Setup!$M$29,Setup!$N$29,Setup!$O$29,Setup!$P$29,Setup!$Q$29,Setup!$R$29,Setup!$S$29,Setup!$T$29,Setup!$U$29)="","",CHOOSE($V$6,Setup!$F$29,Setup!$G$29,Setup!$H$29,Setup!$I$29,Setup!$J$29,Setup!$K$29,Setup!$L$29,Setup!$M$29,Setup!$N$29,Setup!$O$29,Setup!$P$29,Setup!$Q$29,Setup!$R$29,Setup!$S$29,Setup!$T$29,Setup!$U$29)) | B29: =IF(A29="","",IF($V$7=1,COUNTIFS('Incident Log'!$C$9:$C$1008,">="&DATE(Dashboard!$B$6,1,1),'Incident Log'!$C$9:$C$1008,"<"&DATE(Dashboard!$B$6,Dashboard!$F$6+1,1),'Incident Log'!$A$9:$A$1008,"<>",CHOOSE($V$6,'Incident Log'!$E$9:$E$1008,'Incident Log'!$F$9:$F$1008,'Incident Log'!$G$9:$G$1008,'Incident Log'!$H$9:$H$1008,'Incident Log'!$I$9:$I$1008,'Incident Log'!$J$9:$J$1008,'Incident Log'!$K$9:$K$1008,'Incident Log'!$L$9:$L$1008,'Incident Log'!$M$9:$M$1008,'Incident Log'!$N$9:$N$1008,'Incident Log'!$O$9:$O$1008,'Incident Log'!$P$9:$P$1008,'Incident Log'!$V$9:$V$1008,'Incident Log'!$X$9:$X$1008,'Incident Log'!$Z$9:$Z$1008,'Incident Log'!$AF$9:$AF$1008),A29)+IF(OR($V$6=13,$V$6=14),COUNTIFS('Incident Log'!$C$9:$C$1008,">="&DATE(Dashboard!$B$6,1,1),'Incident Log'!$C$9:$C$1008,"<"&DATE(Dashboard!$B$6,Dashboard!$F$6+1,1),'Incident Log'!$A$9:$A$1008,"<>",CHOOSE($V$6,'Incident Log'!$E$9:$E$1008,'Incident Log'!$F$9:$F$1008,'Incident Log'!$G$9:$G$1008,'Incident Log'!$H$9:$H$1008,'Incident Log'!$I$9:$I$1008,'Incident Log'!$J$9:$J$1008,'Incident Log'!$K$9:$K$1008,'Incident Log'!$L$9:$L$1008,'Incident Log'!$M$9:$M$1008,'Incident Log'!$N$9:$N$1008,'Incident Log'!$O$9:$O$1008,'Incident Log'!$P$9:$P$1008,'Incident Log'!$W$9:$W$1008,'Incident Log'!$Y$9:$Y$1008,'Incident Log'!$Z$9:$Z$1008,'Incident Log'!$AF$9:$AF$1008),A29)-COUNTIFS('Incident Log'!$C$9:$C$1008,">="&DATE(Dashboard!$B$6,1,1),'Incident Log'!$C$9:$C$1008,"<"&DATE(Dashboard!$B$6,Dashboard!$F$6+1,1),'Incident Log'!$A$9:$A$1008,"<>",CHOOSE($V$6,'Incident Log'!$E$9:$E$1008,'Incident Log'!$F$9:$F$1008,'Incident Log'!$G$9:$G$1008,'Incident Log'!$H$9:$H$1008,'Incident Log'!$I$9:$I$1008,'Incident Log'!$J$9:$J$1008,'Incident Log'!$K$9:$K$1008,'Incident Log'!$L$9:$L$1008,'Incident Log'!$M$9:$M$1008,'Incident Log'!$N$9:$N$1008,'Incident Log'!$O$9:$O$1008,'Incident Log'!$P$9:$P$1008,'Incident Log'!$V$9:$V$1008,'Incident Log'!$X$9:$X$1008,'Incident Log'!$Z$9:$Z$1008,'Incident Log'!$AF$9:$AF$1008),A29,CHOOSE($V$6,'Incident Log'!$E$9:$E$1008,'Incident Log'!$F$9:$F$1008,'Incident Log'!$G$9:$G$1008,'Incident Log'!$H$9:$H$1008,'Incident Log'!$I$9:$I$1008,'Incident Log'!$J$9:$J$1008,'Incident Log'!$K$9:$K$1008,'Incident Log'!$L$9:$L$1008,'Incident Log'!$M$9:$M$1008,'Incident Log'!$N$9:$N$1008,'Incident Log'!$O$9:$O$1008,'Incident Log'!$P$9:$P$1008,'Incident Log'!$W$9:$W$1008,'Incident Log'!$Y$9:$Y$1008,'Incident Log'!$Z$9:$Z$1008,'Incident Log'!$AF$9:$AF$1008),A29),0),SUMIFS(CHOOSE($V$7,'Incident Log'!$AG$9:$AG$1008,'Incident Log'!$AG$9:$AG$1008,'Incident Log'!$AH$9:$AH$1008,'Incident Log'!$Q$9:$Q$1008,'Incident Log'!$R$9:$R$1008,'Incident Log'!$S$9:$S$1008),'Incident Log'!$C$9:$C$1008,">="&DATE(Dashboard!$B$6,1,1),'Incident Log'!$C$9:$C$1008,"<"&DATE(Dashboard!$B$6,Dashboard!$F$6+1,1),'Incident Log'!$A$9:$A$1008,"<>",CHOOSE($V$6,'Incident Log'!$E$9:$E$1008,'Incident Log'!$F$9:$F$1008,'Incident Log'!$G$9:$G$1008,'Incident Log'!$H$9:$H$1008,'Incident Log'!$I$9:$I$1008,'Incident Log'!$J$9:$J$1008,'Incident Log'!$K$9:$K$1008,'Incident Log'!$L$9:$L$1008,'Incident Log'!$M$9:$M$1008,'Incident Log'!$N$9:$N$1008,'Incident Log'!$O$9:$O$1008,'Incident Log'!$P$9:$P$1008,'Incident Log'!$V$9:$V$1008,'Incident Log'!$X$9:$X$1008,'Incident Log'!$Z$9:$Z$1008,'Incident Log'!$AF$9:$AF$1008),A29)+IF(OR($V$6=13,$V$6=14),SUMIFS(CHOOSE($V$7,'Incident Log'!$AG$9:$AG$1008,'Incident Log'!$AG$9:$AG$1008,'Incident Log'!$AH$9:$AH$1008,'Incident Log'!$Q$9:$Q$1008,'Incident Log'!$R$9:$R$1008,'Incident Log'!$S$9:$S$1008),'Incident Log'!$C$9:$C$1008,">="&DATE(Dashboard!$B$6,1,1),'Incident Log'!$C$9:$C$1008,"<"&DATE(Dashboard!$B$6,Dashboard!$F$6+1,1),'Incident Log'!$A$9:$A$1008,"<>",CHOOSE($V$6,'Incident Log'!$E$9:$E$1008,'Incident Log'!$F$9:$F$1008,'Incident Log'!$G$9:$G$1008,'Incident Log'!$H$9:$H$1008,'Incident Log'!$I$9:$I$1008,'Incident Log'!$J$9:$J$1008,'Incident Log'!$K$9:$K$1008,'Incident Log'!$L$9:$L$1008,'Incident Log'!$M$9:$M$1008,'Incident Log'!$N$9:$N$1008,'Incident Log'!$O$9:$O$1008,'Incident Log'!$P$9:$P$1008,'Incident Log'!$W$9:$W$1008,'Incident Log'!$Y$9:$Y$1008,'Incident Log'!$Z$9:$Z$1008,'Incident Log'!$AF$9:$AF$1008),A29)-SUMIFS(CHOOSE($V$7,'Incident Log'!$AG$9:$AG$1008,'Incident Log'!$AG$9:$AG$1008,'Incident Log'!$AH$9:$AH$1008,'Incident Log'!$Q$9:$Q$1008,'Incident Log'!$R$9:$R$1008,'Incident Log'!$S$9:$S$1008),'Incident Log'!$C$9:$C$1008,">="&DATE(Dashboard!$B$6,1,1),'Incident Log'!$C$9:$C$1008,"<"&DATE(Dashboard!$B$6,Dashboard!$F$6+1,1),'Incident Log'!$A$9:$A$1008,"<>",CHOOSE($V$6,'Incident Log'!$E$9:$E$1008,'Incident Log'!$F$9:$F$1008,'Incident Log'!$G$9:$G$1008,'Incident Log'!$H$9:$H$1008,'Incident Log'!$I$9:$I$1008,'Incident Log'!$J$9:$J$1008,'Incident Log'!$K$9:$K$1008,'Incident Log'!$L$9:$L$1008,'Incident Log'!$M$9:$M$1008,'Incident Log'!$N$9:$N$1008,'Incident Log'!$O$9:$O$1008,'Incident Log'!$P$9:$P$1008,'Incident Log'!$V$9:$V$1008,'Incident Log'!$X$9:$X$1008,'Incident Log'!$Z$9:$Z$1008,'Incident Log'!$AF$9:$AF$1008),A29,CHOOSE($V$6,'Incident Log'!$E$9:$E$1008,'Incident Log'!$F$9:$F$1008,'Incident Log'!$G$9:$G$1008,'Incident Log'!$H$9:$H$1008,'Incident Log'!$I$9:$I$1008,'Incident Log'!$J$9:$J$1008,'Incident Log'!$K$9:$K$1008,'Incident Log'!$L$9:$L$1008,'Incident Log'!$M$9:$M$1008,'Incident Log'!$N$9:$N$1008,'Incident Log'!$O$9:$O$1008,'Incident Log'!$P$9:$P$1008,'Incident Log'!$W$9:$W$1008,'Incident Log'!$Y$9:$Y$1008,'Incident Log'!$Z$9:$Z$1008,'Incident Log'!$AF$9:$AF$1008),A29),0))) | C29: =IF(A29="","",COUNTIFS($B$13:$B$212,">"&B29)+COUNTIFS($B$13:B29,B29))
A30: =IF(CHOOSE($V$6,Setup!$F$30,Setup!$G$30,Setup!$H$30,Setup!$I$30,Setup!$J$30,Setup!$K$30,Setup!$L$30,Setup!$M$30,Setup!$N$30,Setup!$O$30,Setup!$P$30,Setup!$Q$30,Setup!$R$30,Setup!$S$30,Setup!$T$30,Setup!$U$30)="","",CHOOSE($V$6,Setup!$F$30,Setup!$G$30,Setup!$H$30,Setup!$I$30,Setup!$J$30,Setup!$K$30,Setup!$L$30,Setup!$M$30,Setup!$N$30,Setup!$O$30,Setup!$P$30,Setup!$Q$30,Setup!$R$30,Setup!$S$30,Setup!$T$30,Setup!$U$30)) | B30: =IF(A30="","",IF($V$7=1,COUNTIFS('Incident Log'!$C$9:$C$1008,">="&DATE(Dashboard!$B$6,1,1),'Incident Log'!$C$9:$C$1008,"<"&DATE(Dashboard!$B$6,Dashboard!$F$6+1,1),'Incident Log'!$A$9:$A$1008,"<>",CHOOSE($V$6,'Incident Log'!$E$9:$E$1008,'Incident Log'!$F$9:$F$1008,'Incident Log'!$G$9:$G$1008,'Incident Log'!$H$9:$H$1008,'Incident Log'!$I$9:$I$1008,'Incident Log'!$J$9:$J$1008,'Incident Log'!$K$9:$K$1008,'Incident Log'!$L$9:$L$1008,'Incident Log'!$M$9:$M$1008,'Incident Log'!$N$9:$N$1008,'Incident Log'!$O$9:$O$1008,'Incident Log'!$P$9:$P$1008,'Incident Log'!$V$9:$V$1008,'Incident Log'!$X$9:$X$1008,'Incident Log'!$Z$9:$Z$1008,'Incident Log'!$AF$9:$AF$1008),A30)+IF(OR($V$6=13,$V$6=14),COUNTIFS('Incident Log'!$C$9:$C$1008,">="&DATE(Dashboard!$B$6,1,1),'Incident Log'!$C$9:$C$1008,"<"&DATE(Dashboard!$B$6,Dashboard!$F$6+1,1),'Incident Log'!$A$9:$A$1008,"<>",CHOOSE($V$6,'Incident Log'!$E$9:$E$1008,'Incident Log'!$F$9:$F$1008,'Incident Log'!$G$9:$G$1008,'Incident Log'!$H$9:$H$1008,'Incident Log'!$I$9:$I$1008,'Incident Log'!$J$9:$J$1008,'Incident Log'!$K$9:$K$1008,'Incident Log'!$L$9:$L$1008,'Incident Log'!$M$9:$M$1008,'Incident Log'!$N$9:$N$1008,'Incident Log'!$O$9:$O$1008,'Incident Log'!$P$9:$P$1008,'Incident Log'!$W$9:$W$1008,'Incident Log'!$Y$9:$Y$1008,'Incident Log'!$Z$9:$Z$1008,'Incident Log'!$AF$9:$AF$1008),A30)-COUNTIFS('Incident Log'!$C$9:$C$1008,">="&DATE(Dashboard!$B$6,1,1),'Incident Log'!$C$9:$C$1008,"<"&DATE(Dashboard!$B$6,Dashboard!$F$6+1,1),'Incident Log'!$A$9:$A$1008,"<>",CHOOSE($V$6,'Incident Log'!$E$9:$E$1008,'Incident Log'!$F$9:$F$1008,'Incident Log'!$G$9:$G$1008,'Incident Log'!$H$9:$H$1008,'Incident Log'!$I$9:$I$1008,'Incident Log'!$J$9:$J$1008,'Incident Log'!$K$9:$K$1008,'Incident Log'!$L$9:$L$1008,'Incident Log'!$M$9:$M$1008,'Incident Log'!$N$9:$N$1008,'Incident Log'!$O$9:$O$1008,'Incident Log'!$P$9:$P$1008,'Incident Log'!$V$9:$V$1008,'Incident Log'!$X$9:$X$1008,'Incident Log'!$Z$9:$Z$1008,'Incident Log'!$AF$9:$AF$1008),A30,CHOOSE($V$6,'Incident Log'!$E$9:$E$1008,'Incident Log'!$F$9:$F$1008,'Incident Log'!$G$9:$G$1008,'Incident Log'!$H$9:$H$1008,'Incident Log'!$I$9:$I$1008,'Incident Log'!$J$9:$J$1008,'Incident Log'!$K$9:$K$1008,'Incident Log'!$L$9:$L$1008,'Incident Log'!$M$9:$M$1008,'Incident Log'!$N$9:$N$1008,'Incident Log'!$O$9:$O$1008,'Incident Log'!$P$9:$P$1008,'Incident Log'!$W$9:$W$1008,'Incident Log'!$Y$9:$Y$1008,'Incident Log'!$Z$9:$Z$1008,'Incident Log'!$AF$9:$AF$1008),A30),0),SUMIFS(CHOOSE($V$7,'Incident Log'!$AG$9:$AG$1008,'Incident Log'!$AG$9:$AG$1008,'Incident Log'!$AH$9:$AH$1008,'Incident Log'!$Q$9:$Q$1008,'Incident Log'!$R$9:$R$1008,'Incident Log'!$S$9:$S$1008),'Incident Log'!$C$9:$C$1008,">="&DATE(Dashboard!$B$6,1,1),'Incident Log'!$C$9:$C$1008,"<"&DATE(Dashboard!$B$6,Dashboard!$F$6+1,1),'Incident Log'!$A$9:$A$1008,"<>",CHOOSE($V$6,'Incident Log'!$E$9:$E$1008,'Incident Log'!$F$9:$F$1008,'Incident Log'!$G$9:$G$1008,'Incident Log'!$H$9:$H$1008,'Incident Log'!$I$9:$I$1008,'Incident Log'!$J$9:$J$1008,'Incident Log'!$K$9:$K$1008,'Incident Log'!$L$9:$L$1008,'Incident Log'!$M$9:$M$1008,'Incident Log'!$N$9:$N$1008,'Incident Log'!$O$9:$O$1008,'Incident Log'!$P$9:$P$1008,'Incident Log'!$V$9:$V$1008,'Incident Log'!$X$9:$X$1008,'Incident Log'!$Z$9:$Z$1008,'Incident Log'!$AF$9:$AF$1008),A30)+IF(OR($V$6=13,$V$6=14),SUMIFS(CHOOSE($V$7,'Incident Log'!$AG$9:$AG$1008,'Incident Log'!$AG$9:$AG$1008,'Incident Log'!$AH$9:$AH$1008,'Incident Log'!$Q$9:$Q$1008,'Incident Log'!$R$9:$R$1008,'Incident Log'!$S$9:$S$1008),'Incident Log'!$C$9:$C$1008,">="&DATE(Dashboard!$B$6,1,1),'Incident Log'!$C$9:$C$1008,"<"&DATE(Dashboard!$B$6,Dashboard!$F$6+1,1),'Incident Log'!$A$9:$A$1008,"<>",CHOOSE($V$6,'Incident Log'!$E$9:$E$1008,'Incident Log'!$F$9:$F$1008,'Incident Log'!$G$9:$G$1008,'Incident Log'!$H$9:$H$1008,'Incident Log'!$I$9:$I$1008,'Incident Log'!$J$9:$J$1008,'Incident Log'!$K$9:$K$1008,'Incident Log'!$L$9:$L$1008,'Incident Log'!$M$9:$M$1008,'Incident Log'!$N$9:$N$1008,'Incident Log'!$O$9:$O$1008,'Incident Log'!$P$9:$P$1008,'Incident Log'!$W$9:$W$1008,'Incident Log'!$Y$9:$Y$1008,'Incident Log'!$Z$9:$Z$1008,'Incident Log'!$AF$9:$AF$1008),A30)-SUMIFS(CHOOSE($V$7,'Incident Log'!$AG$9:$AG$1008,'Incident Log'!$AG$9:$AG$1008,'Incident Log'!$AH$9:$AH$1008,'Incident Log'!$Q$9:$Q$1008,'Incident Log'!$R$9:$R$1008,'Incident Log'!$S$9:$S$1008),'Incident Log'!$C$9:$C$1008,">="&DATE(Dashboard!$B$6,1,1),'Incident Log'!$C$9:$C$1008,"<"&DATE(Dashboard!$B$6,Dashboard!$F$6+1,1),'Incident Log'!$A$9:$A$1008,"<>",CHOOSE($V$6,'Incident Log'!$E$9:$E$1008,'Incident Log'!$F$9:$F$1008,'Incident Log'!$G$9:$G$1008,'Incident Log'!$H$9:$H$1008,'Incident Log'!$I$9:$I$1008,'Incident Log'!$J$9:$J$1008,'Incident Log'!$K$9:$K$1008,'Incident Log'!$L$9:$L$1008,'Incident Log'!$M$9:$M$1008,'Incident Log'!$N$9:$N$1008,'Incident Log'!$O$9:$O$1008,'Incident Log'!$P$9:$P$1008,'Incident Log'!$V$9:$V$1008,'Incident Log'!$X$9:$X$1008,'Incident Log'!$Z$9:$Z$1008,'Incident Log'!$AF$9:$AF$1008),A30,CHOOSE($V$6,'Incident Log'!$E$9:$E$1008,'Incident Log'!$F$9:$F$1008,'Incident Log'!$G$9:$G$1008,'Incident Log'!$H$9:$H$1008,'Incident Log'!$I$9:$I$1008,'Incident Log'!$J$9:$J$1008,'Incident Log'!$K$9:$K$1008,'Incident Log'!$L$9:$L$1008,'Incident Log'!$M$9:$M$1008,'Incident Log'!$N$9:$N$1008,'Incident Log'!$O$9:$O$1008,'Incident Log'!$P$9:$P$1008,'Incident Log'!$W$9:$W$1008,'Incident Log'!$Y$9:$Y$1008,'Incident Log'!$Z$9:$Z$1008,'Incident Log'!$AF$9:$AF$1008),A30),0))) | C30: =IF(A30="","",COUNTIFS($B$13:$B$212,">"&B30)+COUNTIFS($B$13:B30,B30))
A31: =IF(CHOOSE($V$6,Setup!$F$31,Setup!$G$31,Setup!$H$31,Setup!$I$31,Setup!$J$31,Setup!$K$31,Setup!$L$31,Setup!$M$31,Setup!$N$31,Setup!$O$31,Setup!$P$31,Setup!$Q$31,Setup!$R$31,Setup!$S$31,Setup!$T$31,Setup!$U$31)="","",CHOOSE($V$6,Setup!$F$31,Setup!$G$31,Setup!$H$31,Setup!$I$31,Setup!$J$31,Setup!$K$31,Setup!$L$31,Setup!$M$31,Setup!$N$31,Setup!$O$31,Setup!$P$31,Setup!$Q$31,Setup!$R$31,Setup!$S$31,Setup!$T$31,Setup!$U$31)) | B31: =IF(A31="","",IF($V$7=1,COUNTIFS('Incident Log'!$C$9:$C$1008,">="&DATE(Dashboard!$B$6,1,1),'Incident Log'!$C$9:$C$1008,"<"&DATE(Dashboard!$B$6,Dashboard!$F$6+1,1),'Incident Log'!$A$9:$A$1008,"<>",CHOOSE($V$6,'Incident Log'!$E$9:$E$1008,'Incident Log'!$F$9:$F$1008,'Incident Log'!$G$9:$G$1008,'Incident Log'!$H$9:$H$1008,'Incident Log'!$I$9:$I$1008,'Incident Log'!$J$9:$J$1008,'Incident Log'!$K$9:$K$1008,'Incident Log'!$L$9:$L$1008,'Incident Log'!$M$9:$M$1008,'Incident Log'!$N$9:$N$1008,'Incident Log'!$O$9:$O$1008,'Incident Log'!$P$9:$P$1008,'Incident Log'!$V$9:$V$1008,'Incident Log'!$X$9:$X$1008,'Incident Log'!$Z$9:$Z$1008,'Incident Log'!$AF$9:$AF$1008),A31)+IF(OR($V$6=13,$V$6=14),COUNTIFS('Incident Log'!$C$9:$C$1008,">="&DATE(Dashboard!$B$6,1,1),'Incident Log'!$C$9:$C$1008,"<"&DATE(Dashboard!$B$6,Dashboard!$F$6+1,1),'Incident Log'!$A$9:$A$1008,"<>",CHOOSE($V$6,'Incident Log'!$E$9:$E$1008,'Incident Log'!$F$9:$F$1008,'Incident Log'!$G$9:$G$1008,'Incident Log'!$H$9:$H$1008,'Incident Log'!$I$9:$I$1008,'Incident Log'!$J$9:$J$1008,'Incident Log'!$K$9:$K$1008,'Incident Log'!$L$9:$L$1008,'Incident Log'!$M$9:$M$1008,'Incident Log'!$N$9:$N$1008,'Incident Log'!$O$9:$O$1008,'Incident Log'!$P$9:$P$1008,'Incident Log'!$W$9:$W$1008,'Incident Log'!$Y$9:$Y$1008,'Incident Log'!$Z$9:$Z$1008,'Incident Log'!$AF$9:$AF$1008),A31)-COUNTIFS('Incident Log'!$C$9:$C$1008,">="&DATE(Dashboard!$B$6,1,1),'Incident Log'!$C$9:$C$1008,"<"&DATE(Dashboard!$B$6,Dashboard!$F$6+1,1),'Incident Log'!$A$9:$A$1008,"<>",CHOOSE($V$6,'Incident Log'!$E$9:$E$1008,'Incident Log'!$F$9:$F$1008,'Incident Log'!$G$9:$G$1008,'Incident Log'!$H$9:$H$1008,'Incident Log'!$I$9:$I$1008,'Incident Log'!$J$9:$J$1008,'Incident Log'!$K$9:$K$1008,'Incident Log'!$L$9:$L$1008,'Incident Log'!$M$9:$M$1008,'Incident Log'!$N$9:$N$1008,'Incident Log'!$O$9:$O$1008,'Incident Log'!$P$9:$P$1008,'Incident Log'!$V$9:$V$1008,'Incident Log'!$X$9:$X$1008,'Incident Log'!$Z$9:$Z$1008,'Incident Log'!$AF$9:$AF$1008),A31,CHOOSE($V$6,'Incident Log'!$E$9:$E$1008,'Incident Log'!$F$9:$F$1008,'Incident Log'!$G$9:$G$1008,'Incident Log'!$H$9:$H$1008,'Incident Log'!$I$9:$I$1008,'Incident Log'!$J$9:$J$1008,'Incident Log'!$K$9:$K$1008,'Incident Log'!$L$9:$L$1008,'Incident Log'!$M$9:$M$1008,'Incident Log'!$N$9:$N$1008,'Incident Log'!$O$9:$O$1008,'Incident Log'!$P$9:$P$1008,'Incident Log'!$W$9:$W$1008,'Incident Log'!$Y$9:$Y$1008,'Incident Log'!$Z$9:$Z$1008,'Incident Log'!$AF$9:$AF$1008),A31),0),SUMIFS(CHOOSE($V$7,'Incident Log'!$AG$9:$AG$1008,'Incident Log'!$AG$9:$AG$1008,'Incident Log'!$AH$9:$AH$1008,'Incident Log'!$Q$9:$Q$1008,'Incident Log'!$R$9:$R$1008,'Incident Log'!$S$9:$S$1008),'Incident Log'!$C$9:$C$1008,">="&DATE(Dashboard!$B$6,1,1),'Incident Log'!$C$9:$C$1008,"<"&DATE(Dashboard!$B$6,Dashboard!$F$6+1,1),'Incident Log'!$A$9:$A$1008,"<>",CHOOSE($V$6,'Incident Log'!$E$9:$E$1008,'Incident Log'!$F$9:$F$1008,'Incident Log'!$G$9:$G$1008,'Incident Log'!$H$9:$H$1008,'Incident Log'!$I$9:$I$1008,'Incident Log'!$J$9:$J$1008,'Incident Log'!$K$9:$K$1008,'Incident Log'!$L$9:$L$1008,'Incident Log'!$M$9:$M$1008,'Incident Log'!$N$9:$N$1008,'Incident Log'!$O$9:$O$1008,'Incident Log'!$P$9:$P$1008,'Incident Log'!$V$9:$V$1008,'Incident Log'!$X$9:$X$1008,'Incident Log'!$Z$9:$Z$1008,'Incident Log'!$AF$9:$AF$1008),A31)+IF(OR($V$6=13,$V$6=14),SUMIFS(CHOOSE($V$7,'Incident Log'!$AG$9:$AG$1008,'Incident Log'!$AG$9:$AG$1008,'Incident Log'!$AH$9:$AH$1008,'Incident Log'!$Q$9:$Q$1008,'Incident Log'!$R$9:$R$1008,'Incident Log'!$S$9:$S$1008),'Incident Log'!$C$9:$C$1008,">="&DATE(Dashboard!$B$6,1,1),'Incident Log'!$C$9:$C$1008,"<"&DATE(Dashboard!$B$6,Dashboard!$F$6+1,1),'Incident Log'!$A$9:$A$1008,"<>",CHOOSE($V$6,'Incident Log'!$E$9:$E$1008,'Incident Log'!$F$9:$F$1008,'Incident Log'!$G$9:$G$1008,'Incident Log'!$H$9:$H$1008,'Incident Log'!$I$9:$I$1008,'Incident Log'!$J$9:$J$1008,'Incident Log'!$K$9:$K$1008,'Incident Log'!$L$9:$L$1008,'Incident Log'!$M$9:$M$1008,'Incident Log'!$N$9:$N$1008,'Incident Log'!$O$9:$O$1008,'Incident Log'!$P$9:$P$1008,'Incident Log'!$W$9:$W$1008,'Incident Log'!$Y$9:$Y$1008,'Incident Log'!$Z$9:$Z$1008,'Incident Log'!$AF$9:$AF$1008),A31)-SUMIFS(CHOOSE($V$7,'Incident Log'!$AG$9:$AG$1008,'Incident Log'!$AG$9:$AG$1008,'Incident Log'!$AH$9:$AH$1008,'Incident Log'!$Q$9:$Q$1008,'Incident Log'!$R$9:$R$1008,'Incident Log'!$S$9:$S$1008),'Incident Log'!$C$9:$C$1008,">="&DATE(Dashboard!$B$6,1,1),'Incident Log'!$C$9:$C$1008,"<"&DATE(Dashboard!$B$6,Dashboard!$F$6+1,1),'Incident Log'!$A$9:$A$1008,"<>",CHOOSE($V$6,'Incident Log'!$E$9:$E$1008,'Incident Log'!$F$9:$F$1008,'Incident Log'!$G$9:$G$1008,'Incident Log'!$H$9:$H$1008,'Incident Log'!$I$9:$I$1008,'Incident Log'!$J$9:$J$1008,'Incident Log'!$K$9:$K$1008,'Incident Log'!$L$9:$L$1008,'Incident Log'!$M$9:$M$1008,'Incident Log'!$N$9:$N$1008,'Incident Log'!$O$9:$O$1008,'Incident Log'!$P$9:$P$1008,'Incident Log'!$V$9:$V$1008,'Incident Log'!$X$9:$X$1008,'Incident Log'!$Z$9:$Z$1008,'Incident Log'!$AF$9:$AF$1008),A31,CHOOSE($V$6,'Incident Log'!$E$9:$E$1008,'Incident Log'!$F$9:$F$1008,'Incident Log'!$G$9:$G$1008,'Incident Log'!$H$9:$H$1008,'Incident Log'!$I$9:$I$1008,'Incident Log'!$J$9:$J$1008,'Incident Log'!$K$9:$K$1008,'Incident Log'!$L$9:$L$1008,'Incident Log'!$M$9:$M$1008,'Incident Log'!$N$9:$N$1008,'Incident Log'!$O$9:$O$1008,'Incident Log'!$P$9:$P$1008,'Incident Log'!$W$9:$W$1008,'Incident Log'!$Y$9:$Y$1008,'Incident Log'!$Z$9:$Z$1008,'Incident Log'!$AF$9:$AF$1008),A31),0))) | C31: =IF(A31="","",COUNTIFS($B$13:$B$212,">"&B31)+COUNTIFS($B$13:B31,B31))
A32: =IF(CHOOSE($V$6,Setup!$F$32,Setup!$G$32,Setup!$H$32,Setup!$I$32,Setup!$J$32,Setup!$K$32,Setup!$L$32,Setup!$M$32,Setup!$N$32,Setup!$O$32,Setup!$P$32,Setup!$Q$32,Setup!$R$32,Setup!$S$32,Setup!$T$32,Setup!$U$32)="","",CHOOSE($V$6,Setup!$F$32,Setup!$G$32,Setup!$H$32,Setup!$I$32,Setup!$J$32,Setup!$K$32,Setup!$L$32,Setup!$M$32,Setup!$N$32,Setup!$O$32,Setup!$P$32,Setup!$Q$32,Setup!$R$32,Setup!$S$32,Setup!$T$32,Setup!$U$32)) | B32: =IF(A32="","",IF($V$7=1,COUNTIFS('Incident Log'!$C$9:$C$1008,">="&DATE(Dashboard!$B$6,1,1),'Incident Log'!$C$9:$C$1008,"<"&DATE(Dashboard!$B$6,Dashboard!$F$6+1,1),'Incident Log'!$A$9:$A$1008,"<>",CHOOSE($V$6,'Incident Log'!$E$9:$E$1008,'Incident Log'!$F$9:$F$1008,'Incident Log'!$G$9:$G$1008,'Incident Log'!$H$9:$H$1008,'Incident Log'!$I$9:$I$1008,'Incident Log'!$J$9:$J$1008,'Incident Log'!$K$9:$K$1008,'Incident Log'!$L$9:$L$1008,'Incident Log'!$M$9:$M$1008,'Incident Log'!$N$9:$N$1008,'Incident Log'!$O$9:$O$1008,'Incident Log'!$P$9:$P$1008,'Incident Log'!$V$9:$V$1008,'Incident Log'!$X$9:$X$1008,'Incident Log'!$Z$9:$Z$1008,'Incident Log'!$AF$9:$AF$1008),A32)+IF(OR($V$6=13,$V$6=14),COUNTIFS('Incident Log'!$C$9:$C$1008,">="&DATE(Dashboard!$B$6,1,1),'Incident Log'!$C$9:$C$1008,"<"&DATE(Dashboard!$B$6,Dashboard!$F$6+1,1),'Incident Log'!$A$9:$A$1008,"<>",CHOOSE($V$6,'Incident Log'!$E$9:$E$1008,'Incident Log'!$F$9:$F$1008,'Incident Log'!$G$9:$G$1008,'Incident Log'!$H$9:$H$1008,'Incident Log'!$I$9:$I$1008,'Incident Log'!$J$9:$J$1008,'Incident Log'!$K$9:$K$1008,'Incident Log'!$L$9:$L$1008,'Incident Log'!$M$9:$M$1008,'Incident Log'!$N$9:$N$1008,'Incident Log'!$O$9:$O$1008,'Incident Log'!$P$9:$P$1008,'Incident Log'!$W$9:$W$1008,'Incident Log'!$Y$9:$Y$1008,'Incident Log'!$Z$9:$Z$1008,'Incident Log'!$AF$9:$AF$1008),A32)-COUNTIFS('Incident Log'!$C$9:$C$1008,">="&DATE(Dashboard!$B$6,1,1),'Incident Log'!$C$9:$C$1008,"<"&DATE(Dashboard!$B$6,Dashboard!$F$6+1,1),'Incident Log'!$A$9:$A$1008,"<>",CHOOSE($V$6,'Incident Log'!$E$9:$E$1008,'Incident Log'!$F$9:$F$1008,'Incident Log'!$G$9:$G$1008,'Incident Log'!$H$9:$H$1008,'Incident Log'!$I$9:$I$1008,'Incident Log'!$J$9:$J$1008,'Incident Log'!$K$9:$K$1008,'Incident Log'!$L$9:$L$1008,'Incident Log'!$M$9:$M$1008,'Incident Log'!$N$9:$N$1008,'Incident Log'!$O$9:$O$1008,'Incident Log'!$P$9:$P$1008,'Incident Log'!$V$9:$V$1008,'Incident Log'!$X$9:$X$1008,'Incident Log'!$Z$9:$Z$1008,'Incident Log'!$AF$9:$AF$1008),A32,CHOOSE($V$6,'Incident Log'!$E$9:$E$1008,'Incident Log'!$F$9:$F$1008,'Incident Log'!$G$9:$G$1008,'Incident Log'!$H$9:$H$1008,'Incident Log'!$I$9:$I$1008,'Incident Log'!$J$9:$J$1008,'Incident Log'!$K$9:$K$1008,'Incident Log'!$L$9:$L$1008,'Incident Log'!$M$9:$M$1008,'Incident Log'!$N$9:$N$1008,'Incident Log'!$O$9:$O$1008,'Incident Log'!$P$9:$P$1008,'Incident Log'!$W$9:$W$1008,'Incident Log'!$Y$9:$Y$1008,'Incident Log'!$Z$9:$Z$1008,'Incident Log'!$AF$9:$AF$1008),A32),0),SUMIFS(CHOOSE($V$7,'Incident Log'!$AG$9:$AG$1008,'Incident Log'!$AG$9:$AG$1008,'Incident Log'!$AH$9:$AH$1008,'Incident Log'!$Q$9:$Q$1008,'Incident Log'!$R$9:$R$1008,'Incident Log'!$S$9:$S$1008),'Incident Log'!$C$9:$C$1008,">="&DATE(Dashboard!$B$6,1,1),'Incident Log'!$C$9:$C$1008,"<"&DATE(Dashboard!$B$6,Dashboard!$F$6+1,1),'Incident Log'!$A$9:$A$1008,"<>",CHOOSE($V$6,'Incident Log'!$E$9:$E$1008,'Incident Log'!$F$9:$F$1008,'Incident Log'!$G$9:$G$1008,'Incident Log'!$H$9:$H$1008,'Incident Log'!$I$9:$I$1008,'Incident Log'!$J$9:$J$1008,'Incident Log'!$K$9:$K$1008,'Incident Log'!$L$9:$L$1008,'Incident Log'!$M$9:$M$1008,'Incident Log'!$N$9:$N$1008,'Incident Log'!$O$9:$O$1008,'Incident Log'!$P$9:$P$1008,'Incident Log'!$V$9:$V$1008,'Incident Log'!$X$9:$X$1008,'Incident Log'!$Z$9:$Z$1008,'Incident Log'!$AF$9:$AF$1008),A32)+IF(OR($V$6=13,$V$6=14),SUMIFS(CHOOSE($V$7,'Incident Log'!$AG$9:$AG$1008,'Incident Log'!$AG$9:$AG$1008,'Incident Log'!$AH$9:$AH$1008,'Incident Log'!$Q$9:$Q$1008,'Incident Log'!$R$9:$R$1008,'Incident Log'!$S$9:$S$1008),'Incident Log'!$C$9:$C$1008,">="&DATE(Dashboard!$B$6,1,1),'Incident Log'!$C$9:$C$1008,"<"&DATE(Dashboard!$B$6,Dashboard!$F$6+1,1),'Incident Log'!$A$9:$A$1008,"<>",CHOOSE($V$6,'Incident Log'!$E$9:$E$1008,'Incident Log'!$F$9:$F$1008,'Incident Log'!$G$9:$G$1008,'Incident Log'!$H$9:$H$1008,'Incident Log'!$I$9:$I$1008,'Incident Log'!$J$9:$J$1008,'Incident Log'!$K$9:$K$1008,'Incident Log'!$L$9:$L$1008,'Incident Log'!$M$9:$M$1008,'Incident Log'!$N$9:$N$1008,'Incident Log'!$O$9:$O$1008,'Incident Log'!$P$9:$P$1008,'Incident Log'!$W$9:$W$1008,'Incident Log'!$Y$9:$Y$1008,'Incident Log'!$Z$9:$Z$1008,'Incident Log'!$AF$9:$AF$1008),A32)-SUMIFS(CHOOSE($V$7,'Incident Log'!$AG$9:$AG$1008,'Incident Log'!$AG$9:$AG$1008,'Incident Log'!$AH$9:$AH$1008,'Incident Log'!$Q$9:$Q$1008,'Incident Log'!$R$9:$R$1008,'Incident Log'!$S$9:$S$1008),'Incident Log'!$C$9:$C$1008,">="&DATE(Dashboard!$B$6,1,1),'Incident Log'!$C$9:$C$1008,"<"&DATE(Dashboard!$B$6,Dashboard!$F$6+1,1),'Incident Log'!$A$9:$A$1008,"<>",CHOOSE($V$6,'Incident Log'!$E$9:$E$1008,'Incident Log'!$F$9:$F$1008,'Incident Log'!$G$9:$G$1008,'Incident Log'!$H$9:$H$1008,'Incident Log'!$I$9:$I$1008,'Incident Log'!$J$9:$J$1008,'Incident Log'!$K$9:$K$1008,'Incident Log'!$L$9:$L$1008,'Incident Log'!$M$9:$M$1008,'Incident Log'!$N$9:$N$1008,'Incident Log'!$O$9:$O$1008,'Incident Log'!$P$9:$P$1008,'Incident Log'!$V$9:$V$1008,'Incident Log'!$X$9:$X$1008,'Incident Log'!$Z$9:$Z$1008,'Incident Log'!$AF$9:$AF$1008),A32,CHOOSE($V$6,'Incident Log'!$E$9:$E$1008,'Incident Log'!$F$9:$F$1008,'Incident Log'!$G$9:$G$1008,'Incident Log'!$H$9:$H$1008,'Incident Log'!$I$9:$I$1008,'Incident Log'!$J$9:$J$1008,'Incident Log'!$K$9:$K$1008,'Incident Log'!$L$9:$L$1008,'Incident Log'!$M$9:$M$1008,'Incident Log'!$N$9:$N$1008,'Incident Log'!$O$9:$O$1008,'Incident Log'!$P$9:$P$1008,'Incident Log'!$W$9:$W$1008,'Incident Log'!$Y$9:$Y$1008,'Incident Log'!$Z$9:$Z$1008,'Incident Log'!$AF$9:$AF$1008),A32),0))) | C32: =IF(A32="","",COUNTIFS($B$13:$B$212,">"&B32)+COUNTIFS($B$13:B32,B32))
A33: =IF(CHOOSE($V$6,Setup!$F$33,Setup!$G$33,Setup!$H$33,Setup!$I$33,Setup!$J$33,Setup!$K$33,Setup!$L$33,Setup!$M$33,Setup!$N$33,Setup!$O$33,Setup!$P$33,Setup!$Q$33,Setup!$R$33,Setup!$S$33,Setup!$T$33,Setup!$U$33)="","",CHOOSE($V$6,Setup!$F$33,Setup!$G$33,Setup!$H$33,Setup!$I$33,Setup!$J$33,Setup!$K$33,Setup!$L$33,Setup!$M$33,Setup!$N$33,Setup!$O$33,Setup!$P$33,Setup!$Q$33,Setup!$R$33,Setup!$S$33,Setup!$T$33,Setup!$U$33)) | B33: =IF(A33="","",IF($V$7=1,COUNTIFS('Incident Log'!$C$9:$C$1008,">="&DATE(Dashboard!$B$6,1,1),'Incident Log'!$C$9:$C$1008,"<"&DATE(Dashboard!$B$6,Dashboard!$F$6+1,1),'Incident Log'!$A$9:$A$1008,"<>",CHOOSE($V$6,'Incident Log'!$E$9:$E$1008,'Incident Log'!$F$9:$F$1008,'Incident Log'!$G$9:$G$1008,'Incident Log'!$H$9:$H$1008,'Incident Log'!$I$9:$I$1008,'Incident Log'!$J$9:$J$1008,'Incident Log'!$K$9:$K$1008,'Incident Log'!$L$9:$L$1008,'Incident Log'!$M$9:$M$1008,'Incident Log'!$N$9:$N$1008,'Incident Log'!$O$9:$O$1008,'Incident Log'!$P$9:$P$1008,'Incident Log'!$V$9:$V$1008,'Incident Log'!$X$9:$X$1008,'Incident Log'!$Z$9:$Z$1008,'Incident Log'!$AF$9:$AF$1008),A33)+IF(OR($V$6=13,$V$6=14),COUNTIFS('Incident Log'!$C$9:$C$1008,">="&DATE(Dashboard!$B$6,1,1),'Incident Log'!$C$9:$C$1008,"<"&DATE(Dashboard!$B$6,Dashboard!$F$6+1,1),'Incident Log'!$A$9:$A$1008,"<>",CHOOSE($V$6,'Incident Log'!$E$9:$E$1008,'Incident Log'!$F$9:$F$1008,'Incident Log'!$G$9:$G$1008,'Incident Log'!$H$9:$H$1008,'Incident Log'!$I$9:$I$1008,'Incident Log'!$J$9:$J$1008,'Incident Log'!$K$9:$K$1008,'Incident Log'!$L$9:$L$1008,'Incident Log'!$M$9:$M$1008,'Incident Log'!$N$9:$N$1008,'Incident Log'!$O$9:$O$1008,'Incident Log'!$P$9:$P$1008,'Incident Log'!$W$9:$W$1008,'Incident Log'!$Y$9:$Y$1008,'Incident Log'!$Z$9:$Z$1008,'Incident Log'!$AF$9:$AF$1008),A33)-COUNTIFS('Incident Log'!$C$9:$C$1008,">="&DATE(Dashboard!$B$6,1,1),'Incident Log'!$C$9:$C$1008,"<"&DATE(Dashboard!$B$6,Dashboard!$F$6+1,1),'Incident Log'!$A$9:$A$1008,"<>",CHOOSE($V$6,'Incident Log'!$E$9:$E$1008,'Incident Log'!$F$9:$F$1008,'Incident Log'!$G$9:$G$1008,'Incident Log'!$H$9:$H$1008,'Incident Log'!$I$9:$I$1008,'Incident Log'!$J$9:$J$1008,'Incident Log'!$K$9:$K$1008,'Incident Log'!$L$9:$L$1008,'Incident Log'!$M$9:$M$1008,'Incident Log'!$N$9:$N$1008,'Incident Log'!$O$9:$O$1008,'Incident Log'!$P$9:$P$1008,'Incident Log'!$V$9:$V$1008,'Incident Log'!$X$9:$X$1008,'Incident Log'!$Z$9:$Z$1008,'Incident Log'!$AF$9:$AF$1008),A33,CHOOSE($V$6,'Incident Log'!$E$9:$E$1008,'Incident Log'!$F$9:$F$1008,'Incident Log'!$G$9:$G$1008,'Incident Log'!$H$9:$H$1008,'Incident Log'!$I$9:$I$1008,'Incident Log'!$J$9:$J$1008,'Incident Log'!$K$9:$K$1008,'Incident Log'!$L$9:$L$1008,'Incident Log'!$M$9:$M$1008,'Incident Log'!$N$9:$N$1008,'Incident Log'!$O$9:$O$1008,'Incident Log'!$P$9:$P$1008,'Incident Log'!$W$9:$W$1008,'Incident Log'!$Y$9:$Y$1008,'Incident Log'!$Z$9:$Z$1008,'Incident Log'!$AF$9:$AF$1008),A33),0),SUMIFS(CHOOSE($V$7,'Incident Log'!$AG$9:$AG$1008,'Incident Log'!$AG$9:$AG$1008,'Incident Log'!$AH$9:$AH$1008,'Incident Log'!$Q$9:$Q$1008,'Incident Log'!$R$9:$R$1008,'Incident Log'!$S$9:$S$1008),'Incident Log'!$C$9:$C$1008,">="&DATE(Dashboard!$B$6,1,1),'Incident Log'!$C$9:$C$1008,"<"&DATE(Dashboard!$B$6,Dashboard!$F$6+1,1),'Incident Log'!$A$9:$A$1008,"<>",CHOOSE($V$6,'Incident Log'!$E$9:$E$1008,'Incident Log'!$F$9:$F$1008,'Incident Log'!$G$9:$G$1008,'Incident Log'!$H$9:$H$1008,'Incident Log'!$I$9:$I$1008,'Incident Log'!$J$9:$J$1008,'Incident Log'!$K$9:$K$1008,'Incident Log'!$L$9:$L$1008,'Incident Log'!$M$9:$M$1008,'Incident Log'!$N$9:$N$1008,'Incident Log'!$O$9:$O$1008,'Incident Log'!$P$9:$P$1008,'Incident Log'!$V$9:$V$1008,'Incident Log'!$X$9:$X$1008,'Incident Log'!$Z$9:$Z$1008,'Incident Log'!$AF$9:$AF$1008),A33)+IF(OR($V$6=13,$V$6=14),SUMIFS(CHOOSE($V$7,'Incident Log'!$AG$9:$AG$1008,'Incident Log'!$AG$9:$AG$1008,'Incident Log'!$AH$9:$AH$1008,'Incident Log'!$Q$9:$Q$1008,'Incident Log'!$R$9:$R$1008,'Incident Log'!$S$9:$S$1008),'Incident Log'!$C$9:$C$1008,">="&DATE(Dashboard!$B$6,1,1),'Incident Log'!$C$9:$C$1008,"<"&DATE(Dashboard!$B$6,Dashboard!$F$6+1,1),'Incident Log'!$A$9:$A$1008,"<>",CHOOSE($V$6,'Incident Log'!$E$9:$E$1008,'Incident Log'!$F$9:$F$1008,'Incident Log'!$G$9:$G$1008,'Incident Log'!$H$9:$H$1008,'Incident Log'!$I$9:$I$1008,'Incident Log'!$J$9:$J$1008,'Incident Log'!$K$9:$K$1008,'Incident Log'!$L$9:$L$1008,'Incident Log'!$M$9:$M$1008,'Incident Log'!$N$9:$N$1008,'Incident Log'!$O$9:$O$1008,'Incident Log'!$P$9:$P$1008,'Incident Log'!$W$9:$W$1008,'Incident Log'!$Y$9:$Y$1008,'Incident Log'!$Z$9:$Z$1008,'Incident Log'!$AF$9:$AF$1008),A33)-SUMIFS(CHOOSE($V$7,'Incident Log'!$AG$9:$AG$1008,'Incident Log'!$AG$9:$AG$1008,'Incident Log'!$AH$9:$AH$1008,'Incident Log'!$Q$9:$Q$1008,'Incident Log'!$R$9:$R$1008,'Incident Log'!$S$9:$S$1008),'Incident Log'!$C$9:$C$1008,">="&DATE(Dashboard!$B$6,1,1),'Incident Log'!$C$9:$C$1008,"<"&DATE(Dashboard!$B$6,Dashboard!$F$6+1,1),'Incident Log'!$A$9:$A$1008,"<>",CHOOSE($V$6,'Incident Log'!$E$9:$E$1008,'Incident Log'!$F$9:$F$1008,'Incident Log'!$G$9:$G$1008,'Incident Log'!$H$9:$H$1008,'Incident Log'!$I$9:$I$1008,'Incident Log'!$J$9:$J$1008,'Incident Log'!$K$9:$K$1008,'Incident Log'!$L$9:$L$1008,'Incident Log'!$M$9:$M$1008,'Incident Log'!$N$9:$N$1008,'Incident Log'!$O$9:$O$1008,'Incident Log'!$P$9:$P$1008,'Incident Log'!$V$9:$V$1008,'Incident Log'!$X$9:$X$1008,'Incident Log'!$Z$9:$Z$1008,'Incident Log'!$AF$9:$AF$1008),A33,CHOOSE($V$6,'Incident Log'!$E$9:$E$1008,'Incident Log'!$F$9:$F$1008,'Incident Log'!$G$9:$G$1008,'Incident Log'!$H$9:$H$1008,'Incident Log'!$I$9:$I$1008,'Incident Log'!$J$9:$J$1008,'Incident Log'!$K$9:$K$1008,'Incident Log'!$L$9:$L$1008,'Incident Log'!$M$9:$M$1008,'Incident Log'!$N$9:$N$1008,'Incident Log'!$O$9:$O$1008,'Incident Log'!$P$9:$P$1008,'Incident Log'!$W$9:$W$1008,'Incident Log'!$Y$9:$Y$1008,'Incident Log'!$Z$9:$Z$1008,'Incident Log'!$AF$9:$AF$1008),A33),0))) | C33: =IF(A33="","",COUNTIFS($B$13:$B$212,">"&B33)+COUNTIFS($B$13:B33,B33)) | E33: MONTHLY PATTERN FOR THE TOP 8 CATEGORIES | F33: MONTHLY PATTERN FOR THE TOP 8 CATEGORIES | G33: MONTHLY PATTERN FOR THE TOP 8 CATEGORIES | H33: MONTHLY PATTERN FOR THE TOP 8 CATEGORIES | I33: MONTHLY PATTERN FOR THE TOP 8 CATEGORIES | J33: MONTHLY PATTERN FOR THE TOP 8 CATEGORIES | K33: MONTHLY PATTERN FOR THE TOP 8 CATEGORIES | L33: MONTHLY PATTERN FOR THE TOP 8 CATEGORIES | M33: MONTHLY PATTERN FOR THE TOP 8 CATEGORIES | N33: MONTHLY PATTERN FOR THE TOP 8 CATEGORIES | O33: MONTHLY PATTERN FOR THE TOP 8 CATEGORIES | P33: MONTHLY PATTERN FOR THE TOP 8 CATEGORIES | Q33: MONTHLY PATTERN FOR THE TOP 8 CATEGORIES | R33: MONTHLY PATTERN FOR THE TOP 8 CATEGORIES | S33: MONTHLY PATTERN FOR THE TOP 8 CATEGORIES
A34: =IF(CHOOSE($V$6,Setup!$F$34,Setup!$G$34,Setup!$H$34,Setup!$I$34,Setup!$J$34,Setup!$K$34,Setup!$L$34,Setup!$M$34,Setup!$N$34,Setup!$O$34,Setup!$P$34,Setup!$Q$34,Setup!$R$34,Setup!$S$34,Setup!$T$34,Setup!$U$34)="","",CHOOSE($V$6,Setup!$F$34,Setup!$G$34,Setup!$H$34,Setup!$I$34,Setup!$J$34,Setup!$K$34,Setup!$L$34,Setup!$M$34,Setup!$N$34,Setup!$O$34,Setup!$P$34,Setup!$Q$34,Setup!$R$34,Setup!$S$34,Setup!$T$34,Setup!$U$34)) | B34: =IF(A34="","",IF($V$7=1,COUNTIFS('Incident Log'!$C$9:$C$1008,">="&DATE(Dashboard!$B$6,1,1),'Incident Log'!$C$9:$C$1008,"<"&DATE(Dashboard!$B$6,Dashboard!$F$6+1,1),'Incident Log'!$A$9:$A$1008,"<>",CHOOSE($V$6,'Incident Log'!$E$9:$E$1008,'Incident Log'!$F$9:$F$1008,'Incident Log'!$G$9:$G$1008,'Incident Log'!$H$9:$H$1008,'Incident Log'!$I$9:$I$1008,'Incident Log'!$J$9:$J$1008,'Incident Log'!$K$9:$K$1008,'Incident Log'!$L$9:$L$1008,'Incident Log'!$M$9:$M$1008,'Incident Log'!$N$9:$N$1008,'Incident Log'!$O$9:$O$1008,'Incident Log'!$P$9:$P$1008,'Incident Log'!$V$9:$V$1008,'Incident Log'!$X$9:$X$1008,'Incident Log'!$Z$9:$Z$1008,'Incident Log'!$AF$9:$AF$1008),A34)+IF(OR($V$6=13,$V$6=14),COUNTIFS('Incident Log'!$C$9:$C$1008,">="&DATE(Dashboard!$B$6,1,1),'Incident Log'!$C$9:$C$1008,"<"&DATE(Dashboard!$B$6,Dashboard!$F$6+1,1),'Incident Log'!$A$9:$A$1008,"<>",CHOOSE($V$6,'Incident Log'!$E$9:$E$1008,'Incident Log'!$F$9:$F$1008,'Incident Log'!$G$9:$G$1008,'Incident Log'!$H$9:$H$1008,'Incident Log'!$I$9:$I$1008,'Incident Log'!$J$9:$J$1008,'Incident Log'!$K$9:$K$1008,'Incident Log'!$L$9:$L$1008,'Incident Log'!$M$9:$M$1008,'Incident Log'!$N$9:$N$1008,'Incident Log'!$O$9:$O$1008,'Incident Log'!$P$9:$P$1008,'Incident Log'!$W$9:$W$1008,'Incident Log'!$Y$9:$Y$1008,'Incident Log'!$Z$9:$Z$1008,'Incident Log'!$AF$9:$AF$1008),A34)-COUNTIFS('Incident Log'!$C$9:$C$1008,">="&DATE(Dashboard!$B$6,1,1),'Incident Log'!$C$9:$C$1008,"<"&DATE(Dashboard!$B$6,Dashboard!$F$6+1,1),'Incident Log'!$A$9:$A$1008,"<>",CHOOSE($V$6,'Incident Log'!$E$9:$E$1008,'Incident Log'!$F$9:$F$1008,'Incident Log'!$G$9:$G$1008,'Incident Log'!$H$9:$H$1008,'Incident Log'!$I$9:$I$1008,'Incident Log'!$J$9:$J$1008,'Incident Log'!$K$9:$K$1008,'Incident Log'!$L$9:$L$1008,'Incident Log'!$M$9:$M$1008,'Incident Log'!$N$9:$N$1008,'Incident Log'!$O$9:$O$1008,'Incident Log'!$P$9:$P$1008,'Incident Log'!$V$9:$V$1008,'Incident Log'!$X$9:$X$1008,'Incident Log'!$Z$9:$Z$1008,'Incident Log'!$AF$9:$AF$1008),A34,CHOOSE($V$6,'Incident Log'!$E$9:$E$1008,'Incident Log'!$F$9:$F$1008,'Incident Log'!$G$9:$G$1008,'Incident Log'!$H$9:$H$1008,'Incident Log'!$I$9:$I$1008,'Incident Log'!$J$9:$J$1008,'Incident Log'!$K$9:$K$1008,'Incident Log'!$L$9:$L$1008,'Incident Log'!$M$9:$M$1008,'Incident Log'!$N$9:$N$1008,'Incident Log'!$O$9:$O$1008,'Incident Log'!$P$9:$P$1008,'Incident Log'!$W$9:$W$1008,'Incident Log'!$Y$9:$Y$1008,'Incident Log'!$Z$9:$Z$1008,'Incident Log'!$AF$9:$AF$1008),A34),0),SUMIFS(CHOOSE($V$7,'Incident Log'!$AG$9:$AG$1008,'Incident Log'!$AG$9:$AG$1008,'Incident Log'!$AH$9:$AH$1008,'Incident Log'!$Q$9:$Q$1008,'Incident Log'!$R$9:$R$1008,'Incident Log'!$S$9:$S$1008),'Incident Log'!$C$9:$C$1008,">="&DATE(Dashboard!$B$6,1,1),'Incident Log'!$C$9:$C$1008,"<"&DATE(Dashboard!$B$6,Dashboard!$F$6+1,1),'Incident Log'!$A$9:$A$1008,"<>",CHOOSE($V$6,'Incident Log'!$E$9:$E$1008,'Incident Log'!$F$9:$F$1008,'Incident Log'!$G$9:$G$1008,'Incident Log'!$H$9:$H$1008,'Incident Log'!$I$9:$I$1008,'Incident Log'!$J$9:$J$1008,'Incident Log'!$K$9:$K$1008,'Incident Log'!$L$9:$L$1008,'Incident Log'!$M$9:$M$1008,'Incident Log'!$N$9:$N$1008,'Incident Log'!$O$9:$O$1008,'Incident Log'!$P$9:$P$1008,'Incident Log'!$V$9:$V$1008,'Incident Log'!$X$9:$X$1008,'Incident Log'!$Z$9:$Z$1008,'Incident Log'!$AF$9:$AF$1008),A34)+IF(OR($V$6=13,$V$6=14),SUMIFS(CHOOSE($V$7,'Incident Log'!$AG$9:$AG$1008,'Incident Log'!$AG$9:$AG$1008,'Incident Log'!$AH$9:$AH$1008,'Incident Log'!$Q$9:$Q$1008,'Incident Log'!$R$9:$R$1008,'Incident Log'!$S$9:$S$1008),'Incident Log'!$C$9:$C$1008,">="&DATE(Dashboard!$B$6,1,1),'Incident Log'!$C$9:$C$1008,"<"&DATE(Dashboard!$B$6,Dashboard!$F$6+1,1),'Incident Log'!$A$9:$A$1008,"<>",CHOOSE($V$6,'Incident Log'!$E$9:$E$1008,'Incident Log'!$F$9:$F$1008,'Incident Log'!$G$9:$G$1008,'Incident Log'!$H$9:$H$1008,'Incident Log'!$I$9:$I$1008,'Incident Log'!$J$9:$J$1008,'Incident Log'!$K$9:$K$1008,'Incident Log'!$L$9:$L$1008,'Incident Log'!$M$9:$M$1008,'Incident Log'!$N$9:$N$1008,'Incident Log'!$O$9:$O$1008,'Incident Log'!$P$9:$P$1008,'Incident Log'!$W$9:$W$1008,'Incident Log'!$Y$9:$Y$1008,'Incident Log'!$Z$9:$Z$1008,'Incident Log'!$AF$9:$AF$1008),A34)-SUMIFS(CHOOSE($V$7,'Incident Log'!$AG$9:$AG$1008,'Incident Log'!$AG$9:$AG$1008,'Incident Log'!$AH$9:$AH$1008,'Incident Log'!$Q$9:$Q$1008,'Incident Log'!$R$9:$R$1008,'Incident Log'!$S$9:$S$1008),'Incident Log'!$C$9:$C$1008,">="&DATE(Dashboard!$B$6,1,1),'Incident Log'!$C$9:$C$1008,"<"&DATE(Dashboard!$B$6,Dashboard!$F$6+1,1),'Incident Log'!$A$9:$A$1008,"<>",CHOOSE($V$6,'Incident Log'!$E$9:$E$1008,'Incident Log'!$F$9:$F$1008,'Incident Log'!$G$9:$G$1008,'Incident Log'!$H$9:$H$1008,'Incident Log'!$I$9:$I$1008,'Incident Log'!$J$9:$J$1008,'Incident Log'!$K$9:$K$1008,'Incident Log'!$L$9:$L$1008,'Incident Log'!$M$9:$M$1008,'Incident Log'!$N$9:$N$1008,'Incident Log'!$O$9:$O$1008,'Incident Log'!$P$9:$P$1008,'Incident Log'!$V$9:$V$1008,'Incident Log'!$X$9:$X$1008,'Incident Log'!$Z$9:$Z$1008,'Incident Log'!$AF$9:$AF$1008),A34,CHOOSE($V$6,'Incident Log'!$E$9:$E$1008,'Incident Log'!$F$9:$F$1008,'Incident Log'!$G$9:$G$1008,'Incident Log'!$H$9:$H$1008,'Incident Log'!$I$9:$I$1008,'Incident Log'!$J$9:$J$1008,'Incident Log'!$K$9:$K$1008,'Incident Log'!$L$9:$L$1008,'Incident Log'!$M$9:$M$1008,'Incident Log'!$N$9:$N$1008,'Incident Log'!$O$9:$O$1008,'Incident Log'!$P$9:$P$1008,'Incident Log'!$W$9:$W$1008,'Incident Log'!$Y$9:$Y$1008,'Incident Log'!$Z$9:$Z$1008,'Incident Log'!$AF$9:$AF$1008),A34),0))) | C34: =IF(A34="","",COUNTIFS($B$13:$B$212,">"&B34)+COUNTIFS($B$13:B34,B34)) | E34: Monthly values use the selected measure. Future months beyond the selected period are blank. | F34: Monthly values use the selected measure. Future months beyond the selected period are blank. | G34: Monthly values use the selected measure. Future months beyond the selected period are blank. | H34: Monthly values use the selected measure. Future months beyond the selected period are blank. | I34: Monthly values use the selected measure. Future months beyond the selected period are blank. | J34: Monthly values use the selected measure. Future months beyond the selected period are blank. | K34: Monthly values use the selected measure. Future months beyond the selected period are blank. | L34: Monthly values use the selected measure. Future months beyond the selected period are blank. | M34: Monthly values use the selected measure. Future months beyond the selected period are blank. | N34: Monthly values use the selected measure. Future months beyond the selected period are blank. | O34: Monthly values use the selected measure. Future months beyond the selected period are blank. | P34: Monthly values use the selected measure. Future months beyond the selected period are blank. | Q34: Monthly values use the selected measure. Future months beyond the selected period are blank. | R34: Monthly values use the selected measure. Future months beyond the selected period are blank. | S34: Monthly values use the selected measure. Future months beyond the selected period are blank.
A35: =IF(CHOOSE($V$6,Setup!$F$35,Setup!$G$35,Setup!$H$35,Setup!$I$35,Setup!$J$35,Setup!$K$35,Setup!$L$35,Setup!$M$35,Setup!$N$35,Setup!$O$35,Setup!$P$35,Setup!$Q$35,Setup!$R$35,Setup!$S$35,Setup!$T$35,Setup!$U$35)="","",CHOOSE($V$6,Setup!$F$35,Setup!$G$35,Setup!$H$35,Setup!$I$35,Setup!$J$35,Setup!$K$35,Setup!$L$35,Setup!$M$35,Setup!$N$35,Setup!$O$35,Setup!$P$35,Setup!$Q$35,Setup!$R$35,Setup!$S$35,Setup!$T$35,Setup!$U$35)) | B35: =IF(A35="","",IF($V$7=1,COUNTIFS('Incident Log'!$C$9:$C$1008,">="&DATE(Dashboard!$B$6,1,1),'Incident Log'!$C$9:$C$1008,"<"&DATE(Dashboard!$B$6,Dashboard!$F$6+1,1),'Incident Log'!$A$9:$A$1008,"<>",CHOOSE($V$6,'Incident Log'!$E$9:$E$1008,'Incident Log'!$F$9:$F$1008,'Incident Log'!$G$9:$G$1008,'Incident Log'!$H$9:$H$1008,'Incident Log'!$I$9:$I$1008,'Incident Log'!$J$9:$J$1008,'Incident Log'!$K$9:$K$1008,'Incident Log'!$L$9:$L$1008,'Incident Log'!$M$9:$M$1008,'Incident Log'!$N$9:$N$1008,'Incident Log'!$O$9:$O$1008,'Incident Log'!$P$9:$P$1008,'Incident Log'!$V$9:$V$1008,'Incident Log'!$X$9:$X$1008,'Incident Log'!$Z$9:$Z$1008,'Incident Log'!$AF$9:$AF$1008),A35)+IF(OR($V$6=13,$V$6=14),COUNTIFS('Incident Log'!$C$9:$C$1008,">="&DATE(Dashboard!$B$6,1,1),'Incident Log'!$C$9:$C$1008,"<"&DATE(Dashboard!$B$6,Dashboard!$F$6+1,1),'Incident Log'!$A$9:$A$1008,"<>",CHOOSE($V$6,'Incident Log'!$E$9:$E$1008,'Incident Log'!$F$9:$F$1008,'Incident Log'!$G$9:$G$1008,'Incident Log'!$H$9:$H$1008,'Incident Log'!$I$9:$I$1008,'Incident Log'!$J$9:$J$1008,'Incident Log'!$K$9:$K$1008,'Incident Log'!$L$9:$L$1008,'Incident Log'!$M$9:$M$1008,'Incident Log'!$N$9:$N$1008,'Incident Log'!$O$9:$O$1008,'Incident Log'!$P$9:$P$1008,'Incident Log'!$W$9:$W$1008,'Incident Log'!$Y$9:$Y$1008,'Incident Log'!$Z$9:$Z$1008,'Incident Log'!$AF$9:$AF$1008),A35)-COUNTIFS('Incident Log'!$C$9:$C$1008,">="&DATE(Dashboard!$B$6,1,1),'Incident Log'!$C$9:$C$1008,"<"&DATE(Dashboard!$B$6,Dashboard!$F$6+1,1),'Incident Log'!$A$9:$A$1008,"<>",CHOOSE($V$6,'Incident Log'!$E$9:$E$1008,'Incident Log'!$F$9:$F$1008,'Incident Log'!$G$9:$G$1008,'Incident Log'!$H$9:$H$1008,'Incident Log'!$I$9:$I$1008,'Incident Log'!$J$9:$J$1008,'Incident Log'!$K$9:$K$1008,'Incident Log'!$L$9:$L$1008,'Incident Log'!$M$9:$M$1008,'Incident Log'!$N$9:$N$1008,'Incident Log'!$O$9:$O$1008,'Incident Log'!$P$9:$P$1008,'Incident Log'!$V$9:$V$1008,'Incident Log'!$X$9:$X$1008,'Incident Log'!$Z$9:$Z$1008,'Incident Log'!$AF$9:$AF$1008),A35,CHOOSE($V$6,'Incident Log'!$E$9:$E$1008,'Incident Log'!$F$9:$F$1008,'Incident Log'!$G$9:$G$1008,'Incident Log'!$H$9:$H$1008,'Incident Log'!$I$9:$I$1008,'Incident Log'!$J$9:$J$1008,'Incident Log'!$K$9:$K$1008,'Incident Log'!$L$9:$L$1008,'Incident Log'!$M$9:$M$1008,'Incident Log'!$N$9:$N$1008,'Incident Log'!$O$9:$O$1008,'Incident Log'!$P$9:$P$1008,'Incident Log'!$W$9:$W$1008,'Incident Log'!$Y$9:$Y$1008,'Incident Log'!$Z$9:$Z$1008,'Incident Log'!$AF$9:$AF$1008),A35),0),SUMIFS(CHOOSE($V$7,'Incident Log'!$AG$9:$AG$1008,'Incident Log'!$AG$9:$AG$1008,'Incident Log'!$AH$9:$AH$1008,'Incident Log'!$Q$9:$Q$1008,'Incident Log'!$R$9:$R$1008,'Incident Log'!$S$9:$S$1008),'Incident Log'!$C$9:$C$1008,">="&DATE(Dashboard!$B$6,1,1),'Incident Log'!$C$9:$C$1008,"<"&DATE(Dashboard!$B$6,Dashboard!$F$6+1,1),'Incident Log'!$A$9:$A$1008,"<>",CHOOSE($V$6,'Incident Log'!$E$9:$E$1008,'Incident Log'!$F$9:$F$1008,'Incident Log'!$G$9:$G$1008,'Incident Log'!$H$9:$H$1008,'Incident Log'!$I$9:$I$1008,'Incident Log'!$J$9:$J$1008,'Incident Log'!$K$9:$K$1008,'Incident Log'!$L$9:$L$1008,'Incident Log'!$M$9:$M$1008,'Incident Log'!$N$9:$N$1008,'Incident Log'!$O$9:$O$1008,'Incident Log'!$P$9:$P$1008,'Incident Log'!$V$9:$V$1008,'Incident Log'!$X$9:$X$1008,'Incident Log'!$Z$9:$Z$1008,'Incident Log'!$AF$9:$AF$1008),A35)+IF(OR($V$6=13,$V$6=14),SUMIFS(CHOOSE($V$7,'Incident Log'!$AG$9:$AG$1008,'Incident Log'!$AG$9:$AG$1008,'Incident Log'!$AH$9:$AH$1008,'Incident Log'!$Q$9:$Q$1008,'Incident Log'!$R$9:$R$1008,'Incident Log'!$S$9:$S$1008),'Incident Log'!$C$9:$C$1008,">="&DATE(Dashboard!$B$6,1,1),'Incident Log'!$C$9:$C$1008,"<"&DATE(Dashboard!$B$6,Dashboard!$F$6+1,1),'Incident Log'!$A$9:$A$1008,"<>",CHOOSE($V$6,'Incident Log'!$E$9:$E$1008,'Incident Log'!$F$9:$F$1008,'Incident Log'!$G$9:$G$1008,'Incident Log'!$H$9:$H$1008,'Incident Log'!$I$9:$I$1008,'Incident Log'!$J$9:$J$1008,'Incident Log'!$K$9:$K$1008,'Incident Log'!$L$9:$L$1008,'Incident Log'!$M$9:$M$1008,'Incident Log'!$N$9:$N$1008,'Incident Log'!$O$9:$O$1008,'Incident Log'!$P$9:$P$1008,'Incident Log'!$W$9:$W$1008,'Incident Log'!$Y$9:$Y$1008,'Incident Log'!$Z$9:$Z$1008,'Incident Log'!$AF$9:$AF$1008),A35)-SUMIFS(CHOOSE($V$7,'Incident Log'!$AG$9:$AG$1008,'Incident Log'!$AG$9:$AG$1008,'Incident Log'!$AH$9:$AH$1008,'Incident Log'!$Q$9:$Q$1008,'Incident Log'!$R$9:$R$1008,'Incident Log'!$S$9:$S$1008),'Incident Log'!$C$9:$C$1008,">="&DATE(Dashboard!$B$6,1,1),'Incident Log'!$C$9:$C$1008,"<"&DATE(Dashboard!$B$6,Dashboard!$F$6+1,1),'Incident Log'!$A$9:$A$1008,"<>",CHOOSE($V$6,'Incident Log'!$E$9:$E$1008,'Incident Log'!$F$9:$F$1008,'Incident Log'!$G$9:$G$1008,'Incident Log'!$H$9:$H$1008,'Incident Log'!$I$9:$I$1008,'Incident Log'!$J$9:$J$1008,'Incident Log'!$K$9:$K$1008,'Incident Log'!$L$9:$L$1008,'Incident Log'!$M$9:$M$1008,'Incident Log'!$N$9:$N$1008,'Incident Log'!$O$9:$O$1008,'Incident Log'!$P$9:$P$1008,'Incident Log'!$V$9:$V$1008,'Incident Log'!$X$9:$X$1008,'Incident Log'!$Z$9:$Z$1008,'Incident Log'!$AF$9:$AF$1008),A35,CHOOSE($V$6,'Incident Log'!$E$9:$E$1008,'Incident Log'!$F$9:$F$1008,'Incident Log'!$G$9:$G$1008,'Incident Log'!$H$9:$H$1008,'Incident Log'!$I$9:$I$1008,'Incident Log'!$J$9:$J$1008,'Incident Log'!$K$9:$K$1008,'Incident Log'!$L$9:$L$1008,'Incident Log'!$M$9:$M$1008,'Incident Log'!$N$9:$N$1008,'Incident Log'!$O$9:$O$1008,'Incident Log'!$P$9:$P$1008,'Incident Log'!$W$9:$W$1008,'Incident Log'!$Y$9:$Y$1008,'Incident Log'!$Z$9:$Z$1008,'Incident Log'!$AF$9:$AF$1008),A35),0))) | C35: =IF(A35="","",COUNTIFS($B$13:$B$212,">"&B35)+COUNTIFS($B$13:B35,B35)) | E35: Monthly values use the selected measure. Future months beyond the selected period are blank. | F35: Monthly values use the selected measure. Future months beyond the selected period are blank. | G35: Monthly values use the selected measure. Future months beyond the selected period are blank. | H35: Monthly values use the selected measure. Future months beyond the selected period are blank. | I35: Monthly values use the selected measure. Future months beyond the selected period are blank. | J35: Monthly values use the selected measure. Future months beyond the selected period are blank. | K35: Monthly values use the selected measure. Future months beyond the selected period are blank. | L35: Monthly values use the selected measure. Future months beyond the selected period are blank. | M35: Monthly values use the selected measure. Future months beyond the selected period are blank. | N35: Monthly values use the selected measure. Future months beyond the selected period are blank. | O35: Monthly values use the selected measure. Future months beyond the selected period are blank. | P35: Monthly values use the selected measure. Future months beyond the selected period are blank. | Q35: Monthly values use the selected measure. Future months beyond the selected period are blank. | R35: Monthly values use the selected measure. Future months beyond the selected period are blank. | S35: Monthly values use the selected measure. Future months beyond the selected period are blank.
A36: =IF(CHOOSE($V$6,Setup!$F$36,Setup!$G$36,Setup!$H$36,Setup!$I$36,Setup!$J$36,Setup!$K$36,Setup!$L$36,Setup!$M$36,Setup!$N$36,Setup!$O$36,Setup!$P$36,Setup!$Q$36,Setup!$R$36,Setup!$S$36,Setup!$T$36,Setup!$U$36)="","",CHOOSE($V$6,Setup!$F$36,Setup!$G$36,Setup!$H$36,Setup!$I$36,Setup!$J$36,Setup!$K$36,Setup!$L$36,Setup!$M$36,Setup!$N$36,Setup!$O$36,Setup!$P$36,Setup!$Q$36,Setup!$R$36,Setup!$S$36,Setup!$T$36,Setup!$U$36)) | B36: =IF(A36="","",IF($V$7=1,COUNTIFS('Incident Log'!$C$9:$C$1008,">="&DATE(Dashboard!$B$6,1,1),'Incident Log'!$C$9:$C$1008,"<"&DATE(Dashboard!$B$6,Dashboard!$F$6+1,1),'Incident Log'!$A$9:$A$1008,"<>",CHOOSE($V$6,'Incident Log'!$E$9:$E$1008,'Incident Log'!$F$9:$F$1008,'Incident Log'!$G$9:$G$1008,'Incident Log'!$H$9:$H$1008,'Incident Log'!$I$9:$I$1008,'Incident Log'!$J$9:$J$1008,'Incident Log'!$K$9:$K$1008,'Incident Log'!$L$9:$L$1008,'Incident Log'!$M$9:$M$1008,'Incident Log'!$N$9:$N$1008,'Incident Log'!$O$9:$O$1008,'Incident Log'!$P$9:$P$1008,'Incident Log'!$V$9:$V$1008,'Incident Log'!$X$9:$X$1008,'Incident Log'!$Z$9:$Z$1008,'Incident Log'!$AF$9:$AF$1008),A36)+IF(OR($V$6=13,$V$6=14),COUNTIFS('Incident Log'!$C$9:$C$1008,">="&DATE(Dashboard!$B$6,1,1),'Incident Log'!$C$9:$C$1008,"<"&DATE(Dashboard!$B$6,Dashboard!$F$6+1,1),'Incident Log'!$A$9:$A$1008,"<>",CHOOSE($V$6,'Incident Log'!$E$9:$E$1008,'Incident Log'!$F$9:$F$1008,'Incident Log'!$G$9:$G$1008,'Incident Log'!$H$9:$H$1008,'Incident Log'!$I$9:$I$1008,'Incident Log'!$J$9:$J$1008,'Incident Log'!$K$9:$K$1008,'Incident Log'!$L$9:$L$1008,'Incident Log'!$M$9:$M$1008,'Incident Log'!$N$9:$N$1008,'Incident Log'!$O$9:$O$1008,'Incident Log'!$P$9:$P$1008,'Incident Log'!$W$9:$W$1008,'Incident Log'!$Y$9:$Y$1008,'Incident Log'!$Z$9:$Z$1008,'Incident Log'!$AF$9:$AF$1008),A36)-COUNTIFS('Incident Log'!$C$9:$C$1008,">="&DATE(Dashboard!$B$6,1,1),'Incident Log'!$C$9:$C$1008,"<"&DATE(Dashboard!$B$6,Dashboard!$F$6+1,1),'Incident Log'!$A$9:$A$1008,"<>",CHOOSE($V$6,'Incident Log'!$E$9:$E$1008,'Incident Log'!$F$9:$F$1008,'Incident Log'!$G$9:$G$1008,'Incident Log'!$H$9:$H$1008,'Incident Log'!$I$9:$I$1008,'Incident Log'!$J$9:$J$1008,'Incident Log'!$K$9:$K$1008,'Incident Log'!$L$9:$L$1008,'Incident Log'!$M$9:$M$1008,'Incident Log'!$N$9:$N$1008,'Incident Log'!$O$9:$O$1008,'Incident Log'!$P$9:$P$1008,'Incident Log'!$V$9:$V$1008,'Incident Log'!$X$9:$X$1008,'Incident Log'!$Z$9:$Z$1008,'Incident Log'!$AF$9:$AF$1008),A36,CHOOSE($V$6,'Incident Log'!$E$9:$E$1008,'Incident Log'!$F$9:$F$1008,'Incident Log'!$G$9:$G$1008,'Incident Log'!$H$9:$H$1008,'Incident Log'!$I$9:$I$1008,'Incident Log'!$J$9:$J$1008,'Incident Log'!$K$9:$K$1008,'Incident Log'!$L$9:$L$1008,'Incident Log'!$M$9:$M$1008,'Incident Log'!$N$9:$N$1008,'Incident Log'!$O$9:$O$1008,'Incident Log'!$P$9:$P$1008,'Incident Log'!$W$9:$W$1008,'Incident Log'!$Y$9:$Y$1008,'Incident Log'!$Z$9:$Z$1008,'Incident Log'!$AF$9:$AF$1008),A36),0),SUMIFS(CHOOSE($V$7,'Incident Log'!$AG$9:$AG$1008,'Incident Log'!$AG$9:$AG$1008,'Incident Log'!$AH$9:$AH$1008,'Incident Log'!$Q$9:$Q$1008,'Incident Log'!$R$9:$R$1008,'Incident Log'!$S$9:$S$1008),'Incident Log'!$C$9:$C$1008,">="&DATE(Dashboard!$B$6,1,1),'Incident Log'!$C$9:$C$1008,"<"&DATE(Dashboard!$B$6,Dashboard!$F$6+1,1),'Incident Log'!$A$9:$A$1008,"<>",CHOOSE($V$6,'Incident Log'!$E$9:$E$1008,'Incident Log'!$F$9:$F$1008,'Incident Log'!$G$9:$G$1008,'Incident Log'!$H$9:$H$1008,'Incident Log'!$I$9:$I$1008,'Incident Log'!$J$9:$J$1008,'Incident Log'!$K$9:$K$1008,'Incident Log'!$L$9:$L$1008,'Incident Log'!$M$9:$M$1008,'Incident Log'!$N$9:$N$1008,'Incident Log'!$O$9:$O$1008,'Incident Log'!$P$9:$P$1008,'Incident Log'!$V$9:$V$1008,'Incident Log'!$X$9:$X$1008,'Incident Log'!$Z$9:$Z$1008,'Incident Log'!$AF$9:$AF$1008),A36)+IF(OR($V$6=13,$V$6=14),SUMIFS(CHOOSE($V$7,'Incident Log'!$AG$9:$AG$1008,'Incident Log'!$AG$9:$AG$1008,'Incident Log'!$AH$9:$AH$1008,'Incident Log'!$Q$9:$Q$1008,'Incident Log'!$R$9:$R$1008,'Incident Log'!$S$9:$S$1008),'Incident Log'!$C$9:$C$1008,">="&DATE(Dashboard!$B$6,1,1),'Incident Log'!$C$9:$C$1008,"<"&DATE(Dashboard!$B$6,Dashboard!$F$6+1,1),'Incident Log'!$A$9:$A$1008,"<>",CHOOSE($V$6,'Incident Log'!$E$9:$E$1008,'Incident Log'!$F$9:$F$1008,'Incident Log'!$G$9:$G$1008,'Incident Log'!$H$9:$H$1008,'Incident Log'!$I$9:$I$1008,'Incident Log'!$J$9:$J$1008,'Incident Log'!$K$9:$K$1008,'Incident Log'!$L$9:$L$1008,'Incident Log'!$M$9:$M$1008,'Incident Log'!$N$9:$N$1008,'Incident Log'!$O$9:$O$1008,'Incident Log'!$P$9:$P$1008,'Incident Log'!$W$9:$W$1008,'Incident Log'!$Y$9:$Y$1008,'Incident Log'!$Z$9:$Z$1008,'Incident Log'!$AF$9:$AF$1008),A36)-SUMIFS(CHOOSE($V$7,'Incident Log'!$AG$9:$AG$1008,'Incident Log'!$AG$9:$AG$1008,'Incident Log'!$AH$9:$AH$1008,'Incident Log'!$Q$9:$Q$1008,'Incident Log'!$R$9:$R$1008,'Incident Log'!$S$9:$S$1008),'Incident Log'!$C$9:$C$1008,">="&DATE(Dashboard!$B$6,1,1),'Incident Log'!$C$9:$C$1008,"<"&DATE(Dashboard!$B$6,Dashboard!$F$6+1,1),'Incident Log'!$A$9:$A$1008,"<>",CHOOSE($V$6,'Incident Log'!$E$9:$E$1008,'Incident Log'!$F$9:$F$1008,'Incident Log'!$G$9:$G$1008,'Incident Log'!$H$9:$H$1008,'Incident Log'!$I$9:$I$1008,'Incident Log'!$J$9:$J$1008,'Incident Log'!$K$9:$K$1008,'Incident Log'!$L$9:$L$1008,'Incident Log'!$M$9:$M$1008,'Incident Log'!$N$9:$N$1008,'Incident Log'!$O$9:$O$1008,'Incident Log'!$P$9:$P$1008,'Incident Log'!$V$9:$V$1008,'Incident Log'!$X$9:$X$1008,'Incident Log'!$Z$9:$Z$1008,'Incident Log'!$AF$9:$AF$1008),A36,CHOOSE($V$6,'Incident Log'!$E$9:$E$1008,'Incident Log'!$F$9:$F$1008,'Incident Log'!$G$9:$G$1008,'Incident Log'!$H$9:$H$1008,'Incident Log'!$I$9:$I$1008,'Incident Log'!$J$9:$J$1008,'Incident Log'!$K$9:$K$1008,'Incident Log'!$L$9:$L$1008,'Incident Log'!$M$9:$M$1008,'Incident Log'!$N$9:$N$1008,'Incident Log'!$O$9:$O$1008,'Incident Log'!$P$9:$P$1008,'Incident Log'!$W$9:$W$1008,'Incident Log'!$Y$9:$Y$1008,'Incident Log'!$Z$9:$Z$1008,'Incident Log'!$AF$9:$AF$1008),A36),0))) | C36: =IF(A36="","",COUNTIFS($B$13:$B$212,">"&B36)+COUNTIFS($B$13:B36,B36))
A37: =IF(CHOOSE($V$6,Setup!$F$37,Setup!$G$37,Setup!$H$37,Setup!$I$37,Setup!$J$37,Setup!$K$37,Setup!$L$37,Setup!$M$37,Setup!$N$37,Setup!$O$37,Setup!$P$37,Setup!$Q$37,Setup!$R$37,Setup!$S$37,Setup!$T$37,Setup!$U$37)="","",CHOOSE($V$6,Setup!$F$37,Setup!$G$37,Setup!$H$37,Setup!$I$37,Setup!$J$37,Setup!$K$37,Setup!$L$37,Setup!$M$37,Setup!$N$37,Setup!$O$37,Setup!$P$37,Setup!$Q$37,Setup!$R$37,Setup!$S$37,Setup!$T$37,Setup!$U$37)) | B37: =IF(A37="","",IF($V$7=1,COUNTIFS('Incident Log'!$C$9:$C$1008,">="&DATE(Dashboard!$B$6,1,1),'Incident Log'!$C$9:$C$1008,"<"&DATE(Dashboard!$B$6,Dashboard!$F$6+1,1),'Incident Log'!$A$9:$A$1008,"<>",CHOOSE($V$6,'Incident Log'!$E$9:$E$1008,'Incident Log'!$F$9:$F$1008,'Incident Log'!$G$9:$G$1008,'Incident Log'!$H$9:$H$1008,'Incident Log'!$I$9:$I$1008,'Incident Log'!$J$9:$J$1008,'Incident Log'!$K$9:$K$1008,'Incident Log'!$L$9:$L$1008,'Incident Log'!$M$9:$M$1008,'Incident Log'!$N$9:$N$1008,'Incident Log'!$O$9:$O$1008,'Incident Log'!$P$9:$P$1008,'Incident Log'!$V$9:$V$1008,'Incident Log'!$X$9:$X$1008,'Incident Log'!$Z$9:$Z$1008,'Incident Log'!$AF$9:$AF$1008),A37)+IF(OR($V$6=13,$V$6=14),COUNTIFS('Incident Log'!$C$9:$C$1008,">="&DATE(Dashboard!$B$6,1,1),'Incident Log'!$C$9:$C$1008,"<"&DATE(Dashboard!$B$6,Dashboard!$F$6+1,1),'Incident Log'!$A$9:$A$1008,"<>",CHOOSE($V$6,'Incident Log'!$E$9:$E$1008,'Incident Log'!$F$9:$F$1008,'Incident Log'!$G$9:$G$1008,'Incident Log'!$H$9:$H$1008,'Incident Log'!$I$9:$I$1008,'Incident Log'!$J$9:$J$1008,'Incident Log'!$K$9:$K$1008,'Incident Log'!$L$9:$L$1008,'Incident Log'!$M$9:$M$1008,'Incident Log'!$N$9:$N$1008,'Incident Log'!$O$9:$O$1008,'Incident Log'!$P$9:$P$1008,'Incident Log'!$W$9:$W$1008,'Incident Log'!$Y$9:$Y$1008,'Incident Log'!$Z$9:$Z$1008,'Incident Log'!$AF$9:$AF$1008),A37)-COUNTIFS('Incident Log'!$C$9:$C$1008,">="&DATE(Dashboard!$B$6,1,1),'Incident Log'!$C$9:$C$1008,"<"&DATE(Dashboard!$B$6,Dashboard!$F$6+1,1),'Incident Log'!$A$9:$A$1008,"<>",CHOOSE($V$6,'Incident Log'!$E$9:$E$1008,'Incident Log'!$F$9:$F$1008,'Incident Log'!$G$9:$G$1008,'Incident Log'!$H$9:$H$1008,'Incident Log'!$I$9:$I$1008,'Incident Log'!$J$9:$J$1008,'Incident Log'!$K$9:$K$1008,'Incident Log'!$L$9:$L$1008,'Incident Log'!$M$9:$M$1008,'Incident Log'!$N$9:$N$1008,'Incident Log'!$O$9:$O$1008,'Incident Log'!$P$9:$P$1008,'Incident Log'!$V$9:$V$1008,'Incident Log'!$X$9:$X$1008,'Incident Log'!$Z$9:$Z$1008,'Incident Log'!$AF$9:$AF$1008),A37,CHOOSE($V$6,'Incident Log'!$E$9:$E$1008,'Incident Log'!$F$9:$F$1008,'Incident Log'!$G$9:$G$1008,'Incident Log'!$H$9:$H$1008,'Incident Log'!$I$9:$I$1008,'Incident Log'!$J$9:$J$1008,'Incident Log'!$K$9:$K$1008,'Incident Log'!$L$9:$L$1008,'Incident Log'!$M$9:$M$1008,'Incident Log'!$N$9:$N$1008,'Incident Log'!$O$9:$O$1008,'Incident Log'!$P$9:$P$1008,'Incident Log'!$W$9:$W$1008,'Incident Log'!$Y$9:$Y$1008,'Incident Log'!$Z$9:$Z$1008,'Incident Log'!$AF$9:$AF$1008),A37),0),SUMIFS(CHOOSE($V$7,'Incident Log'!$AG$9:$AG$1008,'Incident Log'!$AG$9:$AG$1008,'Incident Log'!$AH$9:$AH$1008,'Incident Log'!$Q$9:$Q$1008,'Incident Log'!$R$9:$R$1008,'Incident Log'!$S$9:$S$1008),'Incident Log'!$C$9:$C$1008,">="&DATE(Dashboard!$B$6,1,1),'Incident Log'!$C$9:$C$1008,"<"&DATE(Dashboard!$B$6,Dashboard!$F$6+1,1),'Incident Log'!$A$9:$A$1008,"<>",CHOOSE($V$6,'Incident Log'!$E$9:$E$1008,'Incident Log'!$F$9:$F$1008,'Incident Log'!$G$9:$G$1008,'Incident Log'!$H$9:$H$1008,'Incident Log'!$I$9:$I$1008,'Incident Log'!$J$9:$J$1008,'Incident Log'!$K$9:$K$1008,'Incident Log'!$L$9:$L$1008,'Incident Log'!$M$9:$M$1008,'Incident Log'!$N$9:$N$1008,'Incident Log'!$O$9:$O$1008,'Incident Log'!$P$9:$P$1008,'Incident Log'!$V$9:$V$1008,'Incident Log'!$X$9:$X$1008,'Incident Log'!$Z$9:$Z$1008,'Incident Log'!$AF$9:$AF$1008),A37)+IF(OR($V$6=13,$V$6=14),SUMIFS(CHOOSE($V$7,'Incident Log'!$AG$9:$AG$1008,'Incident Log'!$AG$9:$AG$1008,'Incident Log'!$AH$9:$AH$1008,'Incident Log'!$Q$9:$Q$1008,'Incident Log'!$R$9:$R$1008,'Incident Log'!$S$9:$S$1008),'Incident Log'!$C$9:$C$1008,">="&DATE(Dashboard!$B$6,1,1),'Incident Log'!$C$9:$C$1008,"<"&DATE(Dashboard!$B$6,Dashboard!$F$6+1,1),'Incident Log'!$A$9:$A$1008,"<>",CHOOSE($V$6,'Incident Log'!$E$9:$E$1008,'Incident Log'!$F$9:$F$1008,'Incident Log'!$G$9:$G$1008,'Incident Log'!$H$9:$H$1008,'Incident Log'!$I$9:$I$1008,'Incident Log'!$J$9:$J$1008,'Incident Log'!$K$9:$K$1008,'Incident Log'!$L$9:$L$1008,'Incident Log'!$M$9:$M$1008,'Incident Log'!$N$9:$N$1008,'Incident Log'!$O$9:$O$1008,'Incident Log'!$P$9:$P$1008,'Incident Log'!$W$9:$W$1008,'Incident Log'!$Y$9:$Y$1008,'Incident Log'!$Z$9:$Z$1008,'Incident Log'!$AF$9:$AF$1008),A37)-SUMIFS(CHOOSE($V$7,'Incident Log'!$AG$9:$AG$1008,'Incident Log'!$AG$9:$AG$1008,'Incident Log'!$AH$9:$AH$1008,'Incident Log'!$Q$9:$Q$1008,'Incident Log'!$R$9:$R$1008,'Incident Log'!$S$9:$S$1008),'Incident Log'!$C$9:$C$1008,">="&DATE(Dashboard!$B$6,1,1),'Incident Log'!$C$9:$C$1008,"<"&DATE(Dashboard!$B$6,Dashboard!$F$6+1,1),'Incident Log'!$A$9:$A$1008,"<>",CHOOSE($V$6,'Incident Log'!$E$9:$E$1008,'Incident Log'!$F$9:$F$1008,'Incident Log'!$G$9:$G$1008,'Incident Log'!$H$9:$H$1008,'Incident Log'!$I$9:$I$1008,'Incident Log'!$J$9:$J$1008,'Incident Log'!$K$9:$K$1008,'Incident Log'!$L$9:$L$1008,'Incident Log'!$M$9:$M$1008,'Incident Log'!$N$9:$N$1008,'Incident Log'!$O$9:$O$1008,'Incident Log'!$P$9:$P$1008,'Incident Log'!$V$9:$V$1008,'Incident Log'!$X$9:$X$1008,'Incident Log'!$Z$9:$Z$1008,'Incident Log'!$AF$9:$AF$1008),A37,CHOOSE($V$6,'Incident Log'!$E$9:$E$1008,'Incident Log'!$F$9:$F$1008,'Incident Log'!$G$9:$G$1008,'Incident Log'!$H$9:$H$1008,'Incident Log'!$I$9:$I$1008,'Incident Log'!$J$9:$J$1008,'Incident Log'!$K$9:$K$1008,'Incident Log'!$L$9:$L$1008,'Incident Log'!$M$9:$M$1008,'Incident Log'!$N$9:$N$1008,'Incident Log'!$O$9:$O$1008,'Incident Log'!$P$9:$P$1008,'Incident Log'!$W$9:$W$1008,'Incident Log'!$Y$9:$Y$1008,'Incident Log'!$Z$9:$Z$1008,'Incident Log'!$AF$9:$AF$1008),A37),0))) | C37: =IF(A37="","",COUNTIFS($B$13:$B$212,">"&B37)+COUNTIFS($B$13:B37,B37)) | E37: Category | H37: =TEXT(DATE(Dashboard!$B$6,1,1),"mmm") -> Jan | I37: =TEXT(DATE(Dashboard!$B$6,2,1),"mmm") -> Feb | J37: =TEXT(DATE(Dashboard!$B$6,3,1),"mmm") -> Mar | K37: =TEXT(DATE(Dashboard!$B$6,4,1),"mmm") -> Apr | L37: =TEXT(DATE(Dashboard!$B$6,5,1),"mmm") -> May | M37: =TEXT(DATE(Dashboard!$B$6,6,1),"mmm") -> Jun | N37: =TEXT(DATE(Dashboard!$B$6,7,1),"mmm") -> Jul | O37: =TEXT(DATE(Dashboard!$B$6,8,1),"mmm") -> Aug | P37: =TEXT(DATE(Dashboard!$B$6,9,1),"mmm") -> Sep | Q37: =TEXT(DATE(Dashboard!$B$6,10,1),"mmm") -> Oct | R37: =TEXT(DATE(Dashboard!$B$6,11,1),"mmm") -> Nov | S37: =TEXT(DATE(Dashboard!$B$6,12,1),"mmm") -> Dec
